BEGIN:VCALENDAR
VERSION:2.0
PRODID:-//Lone Oak Brewing Co. - ECPv6.15.20//NONSGML v1.0//EN
CALSCALE:GREGORIAN
METHOD:PUBLISH
X-WR-CALNAME:Lone Oak Brewing Co.
X-ORIGINAL-URL:https://loneoakbrewingco.com
X-WR-CALDESC:Events for Lone Oak Brewing Co.
REFRESH-INTERVAL;VALUE=DURATION:PT1H
X-Robots-Tag:noindex
X-PUBLISHED-TTL:PT1H
BEGIN:VTIMEZONE
TZID:UTC
BEGIN:STANDARD
TZOFFSETFROM:+0000
TZOFFSETTO:+0000
TZNAME:UTC
DTSTART:20230101T000000
END:STANDARD
END:VTIMEZONE
BEGIN:VEVENT
DTSTART;TZID=UTC:20240601T120000
DTEND;TZID=UTC:20240601T200000
DTSTAMP:20260423T103804
CREATED:20240329T014147Z
LAST-MODIFIED:20240329T014147Z
UID:3906-1717243200-1717272000@loneoakbrewingco.com
SUMMARY:FOOD TRUCK: SALAT
DESCRIPTION:
URL:https://loneoakbrewingco.com/event/food-truck-salat-5/
LOCATION:Lone Oak Brewery\, 5000 Olney Laytonsville Rd\, Olney\, MD\, 20832\, United States
CATEGORIES:Food Truck
ATTACH;FMTTYPE=image/png:https://loneoakbrewingco.com/wp-content/uploads/2024/02/Screen-Shot-2022-05-28-at-6.14.01-PM-e1653776206645.png
END:VEVENT
BEGIN:VEVENT
DTSTART;TZID=UTC:20240615T130000
DTEND;TZID=UTC:20240615T200000
DTSTAMP:20260423T103804
CREATED:20240615T001739Z
LAST-MODIFIED:20240615T001739Z
UID:4052-1718456400-1718481600@loneoakbrewingco.com
SUMMARY:FOOD TRUCK - SATÉ
DESCRIPTION:
URL:https://loneoakbrewingco.com/event/food-truck-sate-4/
LOCATION:Lone Oak Brewery\, 5000 Olney Laytonsville Rd\, Olney\, MD\, 20832\, United States
CATEGORIES:Food Truck
ATTACH;FMTTYPE=image/png:https://loneoakbrewingco.com/wp-content/uploads/2023/05/Screenshot-2023-05-03-at-6.31.44-PM.png
END:VEVENT
BEGIN:VEVENT
DTSTART;TZID=UTC:20240616T130000
DTEND;TZID=UTC:20240616T200000
DTSTAMP:20260423T103804
CREATED:20240615T012802Z
LAST-MODIFIED:20240615T012802Z
UID:4056-1718542800-1718568000@loneoakbrewingco.com
SUMMARY:FOOD TRUCK - NO SAUCE QUE
DESCRIPTION:
URL:https://loneoakbrewingco.com/event/food-truck-no-sauce-que-3/
LOCATION:Lone Oak Brewery\, 5000 Olney Laytonsville Rd\, Olney\, MD\, 20832\, United States
CATEGORIES:Food Truck
ATTACH;FMTTYPE=image/png:https://loneoakbrewingco.com/wp-content/uploads/2024/03/a999e9_5e58133e84f74e5e9607e713bf36ff0amv2.png
END:VEVENT
BEGIN:VEVENT
DTSTART;TZID=UTC:20240622T130000
DTEND;TZID=UTC:20240622T200000
DTSTAMP:20260423T103804
CREATED:20240615T021423Z
LAST-MODIFIED:20240615T021423Z
UID:4109-1719061200-1719086400@loneoakbrewingco.com
SUMMARY:FOOD TRUCK - DINER ON THE GO
DESCRIPTION:
URL:https://loneoakbrewingco.com/event/food-truck-diner-on-the-go-5/
LOCATION:Lone Oak Brewery\, 5000 Olney Laytonsville Rd\, Olney\, MD\, 20832\, United States
CATEGORIES:Food Truck
ATTACH;FMTTYPE=image/png:https://loneoakbrewingco.com/wp-content/uploads/2022/05/DINER-ON-THE-GO.png
END:VEVENT
BEGIN:VEVENT
DTSTART;TZID=UTC:20240623T130000
DTEND;TZID=UTC:20240623T200000
DTSTAMP:20260423T103804
CREATED:20240615T021839Z
LAST-MODIFIED:20240615T021839Z
UID:4111-1719147600-1719172800@loneoakbrewingco.com
SUMMARY:FOOD TRUCK - JUS FOOD
DESCRIPTION:
URL:https://loneoakbrewingco.com/event/food-truck-jus-food-3/
LOCATION:Lone Oak Brewery\, 5000 Olney Laytonsville Rd\, Olney\, MD\, 20832\, United States
CATEGORIES:Food Truck
ATTACH;FMTTYPE=image/png:https://loneoakbrewingco.com/wp-content/uploads/2023/08/darkLogo_4002cac9-c135-4d2f-a21e-7c5618effe27.png
END:VEVENT
BEGIN:VEVENT
DTSTART;TZID=UTC:20240629T130000
DTEND;TZID=UTC:20240629T200000
DTSTAMP:20260423T103804
CREATED:20240615T021914Z
LAST-MODIFIED:20240615T021914Z
UID:4113-1719666000-1719691200@loneoakbrewingco.com
SUMMARY:FOOD TRUCK - SMOKIN' ROCHE
DESCRIPTION:
URL:https://loneoakbrewingco.com/event/food-truck-smokin-roche-2/
LOCATION:Lone Oak Brewery\, 5000 Olney Laytonsville Rd\, Olney\, MD\, 20832\, United States
CATEGORIES:Food Truck
ATTACH;FMTTYPE=image/jpeg:https://loneoakbrewingco.com/wp-content/uploads/2024/02/unnamed.jpg
END:VEVENT
BEGIN:VEVENT
DTSTART;TZID=UTC:20240630T130000
DTEND;TZID=UTC:20240630T200000
DTSTAMP:20260423T103804
CREATED:20240615T022210Z
LAST-MODIFIED:20240615T022210Z
UID:4115-1719752400-1719777600@loneoakbrewingco.com
SUMMARY:FOOD TRUCK - GRUBBING HARD
DESCRIPTION:
URL:https://loneoakbrewingco.com/event/food-truck-grubbing-hard-10/
LOCATION:Lone Oak Brewery\, 5000 Olney Laytonsville Rd\, Olney\, MD\, 20832\, United States
CATEGORIES:Food Truck
ATTACH;FMTTYPE=image/jpeg:https://loneoakbrewingco.com/wp-content/uploads/2023/08/grubbin-hard.jpeg
END:VEVENT
END:VCALENDAR