BEGIN:VCALENDAR
VERSION:2.0
PRODID:-//Lone Oak Brewing Co. - ECPv6.15.20//NONSGML v1.0//EN
CALSCALE:GREGORIAN
METHOD:PUBLISH
X-WR-CALNAME:Lone Oak Brewing Co.
X-ORIGINAL-URL:https://loneoakbrewingco.com
X-WR-CALDESC:Events for Lone Oak Brewing Co.
REFRESH-INTERVAL;VALUE=DURATION:PT1H
X-Robots-Tag:noindex
X-PUBLISHED-TTL:PT1H
BEGIN:VTIMEZONE
TZID:UTC
BEGIN:STANDARD
TZOFFSETFROM:+0000
TZOFFSETTO:+0000
TZNAME:UTC
DTSTART:20230101T000000
END:STANDARD
END:VTIMEZONE
BEGIN:VEVENT
DTSTART;TZID=UTC:20240901T130000
DTEND;TZID=UTC:20240901T200000
DTSTAMP:20260422T140802
CREATED:20240705T011215Z
LAST-MODIFIED:20240705T011215Z
UID:4233-1725195600-1725220800@loneoakbrewingco.com
SUMMARY:FOOD TRUCK - DMSLIDERS
DESCRIPTION:
URL:https://loneoakbrewingco.com/event/food-truck-dmsliders-3/
LOCATION:Lone Oak Brewery\, 5000 Olney Laytonsville Rd\, Olney\, MD\, 20832\, United States
CATEGORIES:Food Truck
ATTACH;FMTTYPE=image/png:https://loneoakbrewingco.com/wp-content/uploads/2023/05/Screenshot-2023-05-25-at-3.02.27-PM.png
END:VEVENT
BEGIN:VEVENT
DTSTART;TZID=UTC:20240907T130000
DTEND;TZID=UTC:20240907T200000
DTSTAMP:20260422T140802
CREATED:20240705T011437Z
LAST-MODIFIED:20240705T011437Z
UID:4238-1725714000-1725739200@loneoakbrewingco.com
SUMMARY:FOOD TRUCK - GRUBBING HARD
DESCRIPTION:
URL:https://loneoakbrewingco.com/event/food-truck-grubbing-hard-16/
LOCATION:Lone Oak Brewery\, 5000 Olney Laytonsville Rd\, Olney\, MD\, 20832\, United States
CATEGORIES:Food Truck
ATTACH;FMTTYPE=image/jpeg:https://loneoakbrewingco.com/wp-content/uploads/2023/08/grubbin-hard.jpeg
END:VEVENT
BEGIN:VEVENT
DTSTART;TZID=UTC:20240907T130000
DTEND;TZID=UTC:20240907T200000
DTSTAMP:20260422T140802
CREATED:20240705T011954Z
LAST-MODIFIED:20240705T011954Z
UID:4243-1725714000-1725739200@loneoakbrewingco.com
SUMMARY:FOOD TRUCK - TRIPPY TACOS
DESCRIPTION:
URL:https://loneoakbrewingco.com/event/food-truck-trippy-tacos-7/
LOCATION:Lone Oak Brewery\, 5000 Olney Laytonsville Rd\, Olney\, MD\, 20832\, United States
CATEGORIES:Food Truck
ATTACH;FMTTYPE=image/png:https://loneoakbrewingco.com/wp-content/uploads/2022/05/Screen-Shot-2022-05-28-at-4.59.33-PM.png
END:VEVENT
BEGIN:VEVENT
DTSTART;TZID=UTC:20240914T130000
DTEND;TZID=UTC:20240914T200000
DTSTAMP:20260422T140802
CREATED:20240705T024629Z
LAST-MODIFIED:20240705T024629Z
UID:4247-1726318800-1726344000@loneoakbrewingco.com
SUMMARY:FOOD TRUCK - SMOKIN ROCHE
DESCRIPTION:
URL:https://loneoakbrewingco.com/event/food-truck-smokin-roche-3/
LOCATION:Lone Oak Brewery\, 5000 Olney Laytonsville Rd\, Olney\, MD\, 20832\, United States
CATEGORIES:Food Truck
ATTACH;FMTTYPE=image/jpeg:https://loneoakbrewingco.com/wp-content/uploads/2024/07/SMOKIN-ROCHE.jpg
END:VEVENT
BEGIN:VEVENT
DTSTART;TZID=UTC:20240915T130000
DTEND;TZID=UTC:20240915T200000
DTSTAMP:20260422T140803
CREATED:20240705T024939Z
LAST-MODIFIED:20240705T024939Z
UID:4253-1726405200-1726430400@loneoakbrewingco.com
SUMMARY:FOOD TRUCK - SATÉ
DESCRIPTION:
URL:https://loneoakbrewingco.com/event/food-truck-sate-7/
LOCATION:Lone Oak Brewery\, 5000 Olney Laytonsville Rd\, Olney\, MD\, 20832\, United States
CATEGORIES:Food Truck
ATTACH;FMTTYPE=image/png:https://loneoakbrewingco.com/wp-content/uploads/2023/05/Screenshot-2023-05-03-at-6.31.44-PM.png
END:VEVENT
BEGIN:VEVENT
DTSTART;TZID=UTC:20240921T130000
DTEND;TZID=UTC:20240921T200000
DTSTAMP:20260422T140803
CREATED:20240705T025033Z
LAST-MODIFIED:20240909T020027Z
UID:4255-1726923600-1726948800@loneoakbrewingco.com
SUMMARY:FOOD TRUCK - JUS FOOD
DESCRIPTION:
URL:https://loneoakbrewingco.com/event/food-truck-wi-jammin-5/
LOCATION:Lone Oak Brewery\, 5000 Olney Laytonsville Rd\, Olney\, MD\, 20832\, United States
CATEGORIES:Food Truck
ATTACH;FMTTYPE=image/png:https://loneoakbrewingco.com/wp-content/uploads/2023/08/darkLogo_4002cac9-c135-4d2f-a21e-7c5618effe27.png
END:VEVENT
BEGIN:VEVENT
DTSTART;TZID=UTC:20240922T130000
DTEND;TZID=UTC:20240922T200000
DTSTAMP:20260422T140803
CREATED:20240705T025711Z
LAST-MODIFIED:20240705T025711Z
UID:4263-1727010000-1727035200@loneoakbrewingco.com
SUMMARY:FOOD TRUCK - TRIPPY TACOS
DESCRIPTION:
URL:https://loneoakbrewingco.com/event/food-truck-trippy-tacos-8/
LOCATION:Lone Oak Brewery\, 5000 Olney Laytonsville Rd\, Olney\, MD\, 20832\, United States
CATEGORIES:Food Truck
ATTACH;FMTTYPE=image/png:https://loneoakbrewingco.com/wp-content/uploads/2022/05/Screen-Shot-2022-05-28-at-4.59.33-PM.png
END:VEVENT
BEGIN:VEVENT
DTSTART;TZID=UTC:20240928T130000
DTEND;TZID=UTC:20240928T200000
DTSTAMP:20260422T140803
CREATED:20240705T025938Z
LAST-MODIFIED:20240705T025938Z
UID:4267-1727528400-1727553600@loneoakbrewingco.com
SUMMARY:FOOD TRUCK - CATALYST HOTDOGS
DESCRIPTION:
URL:https://loneoakbrewingco.com/event/food-truck-catalyst-hotdogs-4/
LOCATION:Lone Oak Brewery\, 5000 Olney Laytonsville Rd\, Olney\, MD\, 20832\, United States
CATEGORIES:Food Truck
ATTACH;FMTTYPE=image/jpeg:https://loneoakbrewingco.com/wp-content/uploads/2022/03/catalysthotdogs.jpg
END:VEVENT
BEGIN:VEVENT
DTSTART;TZID=UTC:20240929T130000
DTEND;TZID=UTC:20240929T200000
DTSTAMP:20260422T140803
CREATED:20240705T030313Z
LAST-MODIFIED:20240705T030313Z
UID:4272-1727614800-1727640000@loneoakbrewingco.com
SUMMARY:FOOD TRUCK - JUS FOOD
DESCRIPTION:
URL:https://loneoakbrewingco.com/event/food-truck-jus-food-4/
LOCATION:Lone Oak Brewery\, 5000 Olney Laytonsville Rd\, Olney\, MD\, 20832\, United States
CATEGORIES:Food Truck
ATTACH;FMTTYPE=image/png:https://loneoakbrewingco.com/wp-content/uploads/2023/08/darkLogo_4002cac9-c135-4d2f-a21e-7c5618effe27.png
END:VEVENT
END:VCALENDAR