BEGIN:VCALENDAR
VERSION:2.0
PRODID:-//Lone Oak Brewing Co. - ECPv6.15.20//NONSGML v1.0//EN
CALSCALE:GREGORIAN
METHOD:PUBLISH
X-WR-CALNAME:Lone Oak Brewing Co.
X-ORIGINAL-URL:https://loneoakbrewingco.com
X-WR-CALDESC:Events for Lone Oak Brewing Co.
REFRESH-INTERVAL;VALUE=DURATION:PT1H
X-Robots-Tag:noindex
X-PUBLISHED-TTL:PT1H
BEGIN:VTIMEZONE
TZID:UTC
BEGIN:STANDARD
TZOFFSETFROM:+0000
TZOFFSETTO:+0000
TZNAME:UTC
DTSTART:20230101T000000
END:STANDARD
END:VTIMEZONE
BEGIN:VEVENT
DTSTART;TZID=UTC:20241102T130000
DTEND;TZID=UTC:20241102T200000
DTSTAMP:20260422T103353
CREATED:20241005T025653Z
LAST-MODIFIED:20241005T025653Z
UID:4501-1730552400-1730577600@loneoakbrewingco.com
SUMMARY:FOOD TRUCK - GRUBBING HARD
DESCRIPTION:
URL:https://loneoakbrewingco.com/event/food-truck-grubbing-hard-19/
LOCATION:Lone Oak Brewery\, 5000 Olney Laytonsville Rd\, Olney\, MD\, 20832\, United States
CATEGORIES:Food Truck
ATTACH;FMTTYPE=image/jpeg:https://loneoakbrewingco.com/wp-content/uploads/2022/03/grubbin-hard.jpeg
END:VEVENT
BEGIN:VEVENT
DTSTART;TZID=UTC:20241103T130000
DTEND;TZID=UTC:20241103T200000
DTSTAMP:20260422T103353
CREATED:20241005T025512Z
LAST-MODIFIED:20241012T014231Z
UID:4498-1730638800-1730664000@loneoakbrewingco.com
SUMMARY:FOOD TRUCK - JUS FOOD
DESCRIPTION:
URL:https://loneoakbrewingco.com/event/food-truck-jus-foods/
LOCATION:Lone Oak Brewery\, 5000 Olney Laytonsville Rd\, Olney\, MD\, 20832\, United States
CATEGORIES:Food Truck
ATTACH;FMTTYPE=image/jpeg:https://loneoakbrewingco.com/wp-content/uploads/2024/10/IMG_0707.jpeg
END:VEVENT
BEGIN:VEVENT
DTSTART;TZID=UTC:20241109T130000
DTEND;TZID=UTC:20241109T200000
DTSTAMP:20260422T103353
CREATED:20241005T025725Z
LAST-MODIFIED:20241005T025725Z
UID:4503-1731157200-1731182400@loneoakbrewingco.com
SUMMARY:FOOD TRUCK - GRUBBING HARD
DESCRIPTION:
URL:https://loneoakbrewingco.com/event/food-truck-grubbing-hard-20/
LOCATION:Lone Oak Brewery\, 5000 Olney Laytonsville Rd\, Olney\, MD\, 20832\, United States
CATEGORIES:Food Truck
ATTACH;FMTTYPE=image/jpeg:https://loneoakbrewingco.com/wp-content/uploads/2023/08/grubbin-hard.jpeg
END:VEVENT
BEGIN:VEVENT
DTSTART;TZID=UTC:20241110T130000
DTEND;TZID=UTC:20241110T200000
DTSTAMP:20260422T103353
CREATED:20241005T025758Z
LAST-MODIFIED:20241005T025758Z
UID:4505-1731243600-1731268800@loneoakbrewingco.com
SUMMARY:FOOD TRUCK - SALAT
DESCRIPTION:
URL:https://loneoakbrewingco.com/event/food-truck-salat-10/
LOCATION:Lone Oak Brewery\, 5000 Olney Laytonsville Rd\, Olney\, MD\, 20832\, United States
CATEGORIES:Food Truck
ATTACH;FMTTYPE=image/png:https://loneoakbrewingco.com/wp-content/uploads/2022/05/Screen-Shot-2022-05-28-at-6.14.01-PM-e1653776206645.png
END:VEVENT
BEGIN:VEVENT
DTSTART;TZID=UTC:20241116T130000
DTEND;TZID=UTC:20241116T200000
DTSTAMP:20260422T103353
CREATED:20241005T025826Z
LAST-MODIFIED:20241005T025826Z
UID:4507-1731762000-1731787200@loneoakbrewingco.com
SUMMARY:FOOD TRUCK - SALAT
DESCRIPTION:
URL:https://loneoakbrewingco.com/event/food-truck-salat-11/
LOCATION:Lone Oak Brewery\, 5000 Olney Laytonsville Rd\, Olney\, MD\, 20832\, United States
CATEGORIES:Food Truck
ATTACH;FMTTYPE=image/png:https://loneoakbrewingco.com/wp-content/uploads/2022/05/Screen-Shot-2022-05-28-at-6.14.01-PM-e1653776206645.png
END:VEVENT
BEGIN:VEVENT
DTSTART;TZID=UTC:20241117T130000
DTEND;TZID=UTC:20241117T200000
DTSTAMP:20260422T103353
CREATED:20241005T025932Z
LAST-MODIFIED:20241005T025932Z
UID:4509-1731848400-1731873600@loneoakbrewingco.com
SUMMARY:FOOD TRUCK - SATÉ
DESCRIPTION:
URL:https://loneoakbrewingco.com/event/food-truck-sate-8/
LOCATION:Lone Oak Brewery\, 5000 Olney Laytonsville Rd\, Olney\, MD\, 20832\, United States
CATEGORIES:Food Truck
ATTACH;FMTTYPE=image/png:https://loneoakbrewingco.com/wp-content/uploads/2023/05/Screenshot-2023-05-03-at-6.31.44-PM.png
END:VEVENT
BEGIN:VEVENT
DTSTART;TZID=UTC:20241123T130000
DTEND;TZID=UTC:20241123T200000
DTSTAMP:20260422T103353
CREATED:20241005T030017Z
LAST-MODIFIED:20241005T030017Z
UID:4511-1732366800-1732392000@loneoakbrewingco.com
SUMMARY:FOOD TRUCK - PHO WHEELS
DESCRIPTION:
URL:https://loneoakbrewingco.com/event/food-truck-pho-wheels-15/
LOCATION:Lone Oak Brewery\, 5000 Olney Laytonsville Rd\, Olney\, MD\, 20832\, United States
CATEGORIES:Food Truck
ATTACH;FMTTYPE=image/jpeg:https://loneoakbrewingco.com/wp-content/uploads/2023/10/phowheels-e1631744329223.jpg
END:VEVENT
BEGIN:VEVENT
DTSTART;TZID=UTC:20241124T130000
DTEND;TZID=UTC:20241124T200000
DTSTAMP:20260422T103353
CREATED:20241005T030050Z
LAST-MODIFIED:20241019T214907Z
UID:4513-1732453200-1732478400@loneoakbrewingco.com
SUMMARY:FOOD TRUCK - SQUARE TACO
DESCRIPTION:
URL:https://loneoakbrewingco.com/event/food-truck-catalyst-hotdogs-5/
LOCATION:Lone Oak Brewery\, 5000 Olney Laytonsville Rd\, Olney\, MD\, 20832\, United States
CATEGORIES:Food Truck
ATTACH;FMTTYPE=image/webp:https://loneoakbrewingco.com/wp-content/uploads/2024/10/SQUARE-TACO.webp
END:VEVENT
BEGIN:VEVENT
DTSTART;TZID=UTC:20241130T130000
DTEND;TZID=UTC:20241130T200000
DTSTAMP:20260422T103353
CREATED:20241005T030131Z
LAST-MODIFIED:20241005T030131Z
UID:4515-1732971600-1732996800@loneoakbrewingco.com
SUMMARY:FOOD TRUCK - TRIPPY TACOS
DESCRIPTION:
URL:https://loneoakbrewingco.com/event/food-truck-trippy-tacos-11/
LOCATION:Lone Oak Brewery\, 5000 Olney Laytonsville Rd\, Olney\, MD\, 20832\, United States
CATEGORIES:Food Truck
ATTACH;FMTTYPE=image/png:https://loneoakbrewingco.com/wp-content/uploads/2022/05/Screen-Shot-2022-05-28-at-4.59.33-PM.png
END:VEVENT
END:VCALENDAR