BEGIN:VCALENDAR
VERSION:2.0
PRODID:-//Lone Oak Brewing Co. - ECPv6.15.20//NONSGML v1.0//EN
CALSCALE:GREGORIAN
METHOD:PUBLISH
X-ORIGINAL-URL:https://loneoakbrewingco.com
X-WR-CALDESC:Events for Lone Oak Brewing Co.
REFRESH-INTERVAL;VALUE=DURATION:PT1H
X-Robots-Tag:noindex
X-PUBLISHED-TTL:PT1H
BEGIN:VTIMEZONE
TZID:UTC
BEGIN:STANDARD
TZOFFSETFROM:+0000
TZOFFSETTO:+0000
TZNAME:UTC
DTSTART:20220101T000000
END:STANDARD
END:VTIMEZONE
BEGIN:VEVENT
DTSTART;TZID=UTC:20231202T120000
DTEND;TZID=UTC:20231202T200000
DTSTAMP:20260421T220147
CREATED:20231006T211927Z
LAST-MODIFIED:20231006T211927Z
UID:3483-1701518400-1701547200@loneoakbrewingco.com
SUMMARY:FOOD TRUCK: FLIPSIDE
DESCRIPTION:
URL:https://loneoakbrewingco.com/event/food-truck-flipside-4/
LOCATION:Lone Oak Brewery\, 5000 Olney Laytonsville Rd\, Olney\, MD\, 20832\, United States
CATEGORIES:Food Truck
ATTACH;FMTTYPE=image/jpeg:https://loneoakbrewingco.com/wp-content/uploads/2023/08/Capture-23.jpg
END:VEVENT
BEGIN:VEVENT
DTSTART;TZID=UTC:20231126T120000
DTEND;TZID=UTC:20231126T200000
DTSTAMP:20260421T220147
CREATED:20231006T205724Z
LAST-MODIFIED:20231006T205724Z
UID:3467-1701000000-1701028800@loneoakbrewingco.com
SUMMARY:FOOD TRUCK: PHO WHEELS
DESCRIPTION:
URL:https://loneoakbrewingco.com/event/food-truck-pho-wheels-13/
LOCATION:Lone Oak Brewery\, 5000 Olney Laytonsville Rd\, Olney\, MD\, 20832\, United States
CATEGORIES:Food Truck
ATTACH;FMTTYPE=image/jpeg:https://loneoakbrewingco.com/wp-content/uploads/2023/10/phowheels-e1631744329223.jpg
END:VEVENT
BEGIN:VEVENT
DTSTART;TZID=UTC:20231125T120000
DTEND;TZID=UTC:20231125T200000
DTSTAMP:20260421T220147
CREATED:20231006T211205Z
LAST-MODIFIED:20231006T211205Z
UID:3473-1700913600-1700942400@loneoakbrewingco.com
SUMMARY:FOOD TRUCK: DM SLIDERS
DESCRIPTION:
URL:https://loneoakbrewingco.com/event/food-truck-dm-sliders-4/
LOCATION:Lone Oak Brewery\, 5000 Olney Laytonsville Rd\, Olney\, MD\, 20832\, United States
CATEGORIES:Food Truck
ATTACH;FMTTYPE=image/png:https://loneoakbrewingco.com/wp-content/uploads/2023/05/Screenshot-2023-05-25-at-3.02.27-PM.png
END:VEVENT
BEGIN:VEVENT
DTSTART;TZID=UTC:20231119T120000
DTEND;TZID=UTC:20231119T200000
DTSTAMP:20260421T220147
CREATED:20231006T205636Z
LAST-MODIFIED:20231006T205636Z
UID:3465-1700395200-1700424000@loneoakbrewingco.com
SUMMARY:FOOD TRUCK: PHO WHEELS
DESCRIPTION:
URL:https://loneoakbrewingco.com/event/food-truck-pho-wheels-12/
LOCATION:Lone Oak Brewery\, 5000 Olney Laytonsville Rd\, Olney\, MD\, 20832\, United States
CATEGORIES:Food Truck
ATTACH;FMTTYPE=image/jpeg:https://loneoakbrewingco.com/wp-content/uploads/2023/10/phowheels-e1631744329223.jpg
END:VEVENT
BEGIN:VEVENT
DTSTART;TZID=UTC:20231118T120000
DTEND;TZID=UTC:20231118T200000
DTSTAMP:20260421T220147
CREATED:20231006T205942Z
LAST-MODIFIED:20231006T211022Z
UID:3471-1700308800-1700337600@loneoakbrewingco.com
SUMMARY:FOOD TRUCK: MARIA'S KITCHEN
DESCRIPTION:
URL:https://loneoakbrewingco.com/event/food-truck-marias-kitchen-11/
LOCATION:Lone Oak Brewery\, 5000 Olney Laytonsville Rd\, Olney\, MD\, 20832\, United States
CATEGORIES:Food Truck
ATTACH;FMTTYPE=image/png:https://loneoakbrewingco.com/wp-content/uploads/2023/08/Screenshot-2023-03-17-at-9.25.03-PM.png
END:VEVENT
BEGIN:VEVENT
DTSTART;TZID=UTC:20231111T120000
DTEND;TZID=UTC:20231111T200000
DTSTAMP:20260421T220147
CREATED:20231006T205202Z
LAST-MODIFIED:20231006T205202Z
UID:3460-1699704000-1699732800@loneoakbrewingco.com
SUMMARY:FOOD TRUCK: GRUBBING HARD
DESCRIPTION:ABOUT GRUBBING HARD BBQ:\n“Pitmaster and GHB owner Matt Chanin is a local Olney native and Sherwood High School graduate. When COVID struck Matt lost his day job at a law firm and quickly went from pushing paper to pursuing his true passion for food and hospitality. On almost every Saturday in 2020\, lines of cars would wait outside Matt’s parent’s house for their scheduled curbside pickup and dose of Texas-inspired barbecue. Matt’s “Grubbing Hard” instagram account quickly blew up within the local community and GHB would transform from a hobby to a legitimate food truck and catering business.” \nMATT’S THOUGHTS: \n“In early 2021 when I learned that they (Lone Oak) were building a brewery right next to my neighborhood\, I saw a perfect opportunity. I reached out to the owners and asked if I could come introduce myself and bring them a tray of bbq. The rest is history!” \n“Being from Olney I especially enjoy working with Lone Oak because of all the familiar faces we see every visit. We try to focus on the hospitality aspect as much as the food itself\, so it’s particularly fulfilling for me to see friends and neighbors supporting local businesses – and more importantly – enjoying our Que! I don’t think any food pairs better with a cold beer on a sunny day than our barbecue.” \n“My favorite food to serve 100% is our brisket. It’s one of those foods you can’t get at many places so I knew if ours was good we’d be able stand out. The brisket cooking process can take up to 18 hours and requires a lot of attention to detail\, so it’s rewarding when people recognize and appreciate the craft behind our work. It’s the best feeling when people tell us that our brisket is the best they’ve ever had. We want every bite to be the best”.
URL:https://loneoakbrewingco.com/event/food-truck-grubbing-hard-5/
LOCATION:Lone Oak Brewery\, 5000 Olney Laytonsville Rd\, Olney\, MD\, 20832\, United States
CATEGORIES:Food Truck
ATTACH;FMTTYPE=image/jpeg:https://loneoakbrewingco.com/wp-content/uploads/2023/08/grubbin-hard.jpeg
END:VEVENT
BEGIN:VEVENT
DTSTART;TZID=UTC:20231105T120000
DTEND;TZID=UTC:20231105T200000
DTSTAMP:20260421T220147
CREATED:20231006T205419Z
LAST-MODIFIED:20231006T205419Z
UID:3462-1699185600-1699214400@loneoakbrewingco.com
SUMMARY:FOOD TRUCK: PHO WHEELS
DESCRIPTION:
URL:https://loneoakbrewingco.com/event/food-truck-pho-wheels-9/
LOCATION:Lone Oak Brewery\, 5000 Olney Laytonsville Rd\, Olney\, MD\, 20832\, United States
CATEGORIES:Food Truck
ATTACH;FMTTYPE=image/jpeg:https://loneoakbrewingco.com/wp-content/uploads/2023/10/phowheels-e1631744329223.jpg
END:VEVENT
BEGIN:VEVENT
DTSTART;TZID=UTC:20231104T120000
DTEND;TZID=UTC:20231104T200000
DTSTAMP:20260421T220147
CREATED:20231006T205024Z
LAST-MODIFIED:20231006T205024Z
UID:3458-1699099200-1699128000@loneoakbrewingco.com
SUMMARY:FOOD TRUCK: FLIPSIDE
DESCRIPTION:
URL:https://loneoakbrewingco.com/event/food-truck-flipside-3/
LOCATION:Lone Oak Brewery\, 5000 Olney Laytonsville Rd\, Olney\, MD\, 20832\, United States
CATEGORIES:Food Truck
ATTACH;FMTTYPE=image/jpeg:https://loneoakbrewingco.com/wp-content/uploads/2023/08/Capture-23.jpg
END:VEVENT
BEGIN:VEVENT
DTSTART;TZID=UTC:20231029T120000
DTEND;TZID=UTC:20231029T200000
DTSTAMP:20260421T220147
CREATED:20230827T192932Z
LAST-MODIFIED:20230827T192932Z
UID:3429-1698580800-1698609600@loneoakbrewingco.com
SUMMARY:FOOD TRUCK- MARIA'S KITCHEN
DESCRIPTION:
URL:https://loneoakbrewingco.com/event/food-truck-marias-kitchen-10/
LOCATION:Lone Oak Brewery\, 5000 Olney Laytonsville Rd\, Olney\, MD\, 20832\, United States
CATEGORIES:Food Truck,Live Music
ATTACH;FMTTYPE=image/png:https://loneoakbrewingco.com/wp-content/uploads/2023/08/Screenshot-2023-03-17-at-9.25.03-PM.png
END:VEVENT
BEGIN:VEVENT
DTSTART;TZID=UTC:20231028T120000
DTEND;TZID=UTC:20231028T200000
DTSTAMP:20260421T220147
CREATED:20230827T192801Z
LAST-MODIFIED:20230827T192801Z
UID:3425-1698494400-1698523200@loneoakbrewingco.com
SUMMARY:FOOD TRUCK- MARIA'S KITCHEN
DESCRIPTION:
URL:https://loneoakbrewingco.com/event/food-truck-marias-kitchen-9/
LOCATION:Lone Oak Brewery\, 5000 Olney Laytonsville Rd\, Olney\, MD\, 20832\, United States
CATEGORIES:Food Truck
ATTACH;FMTTYPE=image/png:https://loneoakbrewingco.com/wp-content/uploads/2023/08/Screenshot-2023-03-17-at-9.25.03-PM.png
END:VEVENT
BEGIN:VEVENT
DTSTART;TZID=UTC:20231028T120000
DTEND;TZID=UTC:20231028T200000
DTSTAMP:20260421T220147
CREATED:20230827T192610Z
LAST-MODIFIED:20230827T192610Z
UID:3423-1698494400-1698523200@loneoakbrewingco.com
SUMMARY:FOOD TRUCK- PAELLA AND TAPAS
DESCRIPTION:
URL:https://loneoakbrewingco.com/event/food-truck-paella-and-tapas-7/
LOCATION:Lone Oak Brewery\, 5000 Olney Laytonsville Rd\, Olney\, MD\, 20832\, United States
CATEGORIES:Food Truck
ATTACH;FMTTYPE=image/jpeg:https://loneoakbrewingco.com/wp-content/uploads/2023/08/348s.jpg
END:VEVENT
BEGIN:VEVENT
DTSTART;TZID=UTC:20231028T110000
DTEND;TZID=UTC:20231029T200000
DTSTAMP:20260421T220147
CREATED:20231025T084346Z
LAST-MODIFIED:20231025T084346Z
UID:3528-1698490800-1698609600@loneoakbrewingco.com
SUMMARY:SPOOKT-OAK-ULAR WEEKEND OF FUN!
DESCRIPTION:Join us for a SPOOKT-OAK-ULAR weekend of fun at The Farm! \n*We will hold costume contests on Saturday and Sunday at 1pm! HUMANS win a $25 GIFT CARD and DOGS win a bag of our Lone Oak Doggie Treats! \n*FREE behind-the-scenes BOOery tour on Saturday and Sunday at 2pm! \n*Halloween Goodie Bags for the FIRST 50 kiddos! \n*Cotton Candy! Snow Cones! Live Music! Food Trucks! Beer & Food Deals!
URL:https://loneoakbrewingco.com/event/spookt-oak-ular-weekend-of-fun/
LOCATION:Lone Oak Brewery\, 5000 Olney Laytonsville Rd\, Olney\, MD\, 20832\, United States
CATEGORIES:Farm Tour,Food Truck,Holiday Events,Live Music
ATTACH;FMTTYPE=image/png:https://loneoakbrewingco.com/wp-content/uploads/2023/10/2023-LOF-SPOOKTOAKULAR-2.png
END:VEVENT
BEGIN:VEVENT
DTSTART;TZID=UTC:20231022T120000
DTEND;TZID=UTC:20231022T200000
DTSTAMP:20260421T220147
CREATED:20230827T192309Z
LAST-MODIFIED:20230827T192309Z
UID:3418-1697976000-1698004800@loneoakbrewingco.com
SUMMARY:FOOD TRUCK- MARIA'S KITCHEN
DESCRIPTION:
URL:https://loneoakbrewingco.com/event/food-truck-marias-kitchen-8/
LOCATION:Lone Oak Brewery\, 5000 Olney Laytonsville Rd\, Olney\, MD\, 20832\, United States
CATEGORIES:Food Truck
ATTACH;FMTTYPE=image/png:https://loneoakbrewingco.com/wp-content/uploads/2023/08/Screenshot-2023-03-17-at-9.25.03-PM.png
END:VEVENT
BEGIN:VEVENT
DTSTART;TZID=UTC:20231021T120000
DTEND;TZID=UTC:20231021T200000
DTSTAMP:20260421T220147
CREATED:20230827T192143Z
LAST-MODIFIED:20230827T192143Z
UID:3414-1697889600-1697918400@loneoakbrewingco.com
SUMMARY:FOOD TRUCK- MARIA'S KITCHEN
DESCRIPTION:
URL:https://loneoakbrewingco.com/event/food-truck-marias-kitchen-7/
LOCATION:Lone Oak Brewery\, 5000 Olney Laytonsville Rd\, Olney\, MD\, 20832\, United States
CATEGORIES:Food Truck
ATTACH;FMTTYPE=image/png:https://loneoakbrewingco.com/wp-content/uploads/2023/08/Screenshot-2023-03-17-at-9.25.03-PM.png
END:VEVENT
BEGIN:VEVENT
DTSTART;TZID=UTC:20231015T120000
DTEND;TZID=UTC:20231015T200000
DTSTAMP:20260421T220147
CREATED:20230827T192001Z
LAST-MODIFIED:20230827T192001Z
UID:3410-1697371200-1697400000@loneoakbrewingco.com
SUMMARY:FOOD TRUCK- MARIA'S KITCHEN
DESCRIPTION:
URL:https://loneoakbrewingco.com/event/food-truck-marias-kitchen-6/
LOCATION:Lone Oak Brewery\, 5000 Olney Laytonsville Rd\, Olney\, MD\, 20832\, United States
CATEGORIES:Food Truck
ATTACH;FMTTYPE=image/png:https://loneoakbrewingco.com/wp-content/uploads/2023/08/Screenshot-2023-03-17-at-9.25.03-PM.png
END:VEVENT
BEGIN:VEVENT
DTSTART;TZID=UTC:20231014T120000
DTEND;TZID=UTC:20231014T200000
DTSTAMP:20260421T220147
CREATED:20230827T191702Z
LAST-MODIFIED:20230827T191713Z
UID:3405-1697284800-1697313600@loneoakbrewingco.com
SUMMARY:FOOD TRUCK- GRUBBING HARD
DESCRIPTION:ABOUT GRUBBING HARD BBQ:\n“Pitmaster and GHB owner Matt Chanin is a local Olney native and Sherwood High School graduate. When COVID struck Matt lost his day job at a law firm and quickly went from pushing paper to pursuing his true passion for food and hospitality. On almost every Saturday in 2020\, lines of cars would wait outside Matt’s parent’s house for their scheduled curbside pickup and dose of Texas-inspired barbecue. Matt’s “Grubbing Hard” instagram account quickly blew up within the local community and GHB would transform from a hobby to a legitimate food truck and catering business.” \nMATT’S THOUGHTS: \n“In early 2021 when I learned that they (Lone Oak) were building a brewery right next to my neighborhood\, I saw a perfect opportunity. I reached out to the owners and asked if I could come introduce myself and bring them a tray of bbq. The rest is history!” \n“Being from Olney I especially enjoy working with Lone Oak because of all the familiar faces we see every visit. We try to focus on the hospitality aspect as much as the food itself\, so it’s particularly fulfilling for me to see friends and neighbors supporting local businesses – and more importantly – enjoying our Que! I don’t think any food pairs better with a cold beer on a sunny day than our barbecue.” \n“My favorite food to serve 100% is our brisket. It’s one of those foods you can’t get at many places so I knew if ours was good we’d be able stand out. The brisket cooking process can take up to 18 hours and requires a lot of attention to detail\, so it’s rewarding when people recognize and appreciate the craft behind our work. It’s the best feeling when people tell us that our brisket is the best they’ve ever had. We want every bite to be the best”.
URL:https://loneoakbrewingco.com/event/food-truck-grubbing-hard-2/
LOCATION:Lone Oak Brewery\, 5000 Olney Laytonsville Rd\, Olney\, MD\, 20832\, United States
CATEGORIES:Food Truck
ATTACH;FMTTYPE=image/jpeg:https://loneoakbrewingco.com/wp-content/uploads/2023/08/grubbin-hard.jpeg
END:VEVENT
BEGIN:VEVENT
DTSTART;TZID=UTC:20231008T120000
DTEND;TZID=UTC:20231008T200000
DTSTAMP:20260421T220147
CREATED:20230827T191332Z
LAST-MODIFIED:20230827T191332Z
UID:3401-1696766400-1696795200@loneoakbrewingco.com
SUMMARY:FOOD TRUCK- MARIA'S KITCHEN
DESCRIPTION:
URL:https://loneoakbrewingco.com/event/food-truck-marias-kitchen-5/
LOCATION:Lone Oak Brewery\, 5000 Olney Laytonsville Rd\, Olney\, MD\, 20832\, United States
CATEGORIES:Food Truck
ATTACH;FMTTYPE=image/png:https://loneoakbrewingco.com/wp-content/uploads/2023/08/Screenshot-2023-03-17-at-9.25.03-PM.png
END:VEVENT
BEGIN:VEVENT
DTSTART;TZID=UTC:20231007T120000
DTEND;TZID=UTC:20231007T200000
DTSTAMP:20260421T220147
CREATED:20230827T190957Z
LAST-MODIFIED:20230907T020912Z
UID:3396-1696680000-1696708800@loneoakbrewingco.com
SUMMARY:FOOD TRUCK- GRUBBING HARD
DESCRIPTION:ABOUT GRUBBING HARD BBQ:\n“Pitmaster and GHB owner Matt Chanin is a local Olney native and Sherwood High School graduate. When COVID struck Matt lost his day job at a law firm and quickly went from pushing paper to pursuing his true passion for food and hospitality. On almost every Saturday in 2020\, lines of cars would wait outside Matt’s parent’s house for their scheduled curbside pickup and dose of Texas-inspired barbecue. Matt’s “Grubbing Hard” instagram account quickly blew up within the local community and GHB would transform from a hobby to a legitimate food truck and catering business.” \nMATT’S THOUGHTS: \n“In early 2021 when I learned that they (Lone Oak) were building a brewery right next to my neighborhood\, I saw a perfect opportunity. I reached out to the owners and asked if I could come introduce myself and bring them a tray of bbq. The rest is history!” \n“Being from Olney I especially enjoy working with Lone Oak because of all the familiar faces we see every visit. We try to focus on the hospitality aspect as much as the food itself\, so it’s particularly fulfilling for me to see friends and neighbors supporting local businesses – and more importantly – enjoying our Que! I don’t think any food pairs better with a cold beer on a sunny day than our barbecue.” \n“My favorite food to serve 100% is our brisket. It’s one of those foods you can’t get at many places so I knew if ours was good we’d be able stand out. The brisket cooking process can take up to 18 hours and requires a lot of attention to detail\, so it’s rewarding when people recognize and appreciate the craft behind our work. It’s the best feeling when people tell us that our brisket is the best they’ve ever had. We want every bite to be the best”.
URL:https://loneoakbrewingco.com/event/food-truck-flipside-2/
LOCATION:Lone Oak Brewery\, 5000 Olney Laytonsville Rd\, Olney\, MD\, 20832\, United States
CATEGORIES:Food Truck
ATTACH;FMTTYPE=image/jpeg:https://loneoakbrewingco.com/wp-content/uploads/2023/08/grubbin-hard.jpeg
END:VEVENT
BEGIN:VEVENT
DTSTART;TZID=UTC:20231001T120000
DTEND;TZID=UTC:20231001T200000
DTSTAMP:20260421T220147
CREATED:20230827T190750Z
LAST-MODIFIED:20230827T190750Z
UID:3391-1696161600-1696190400@loneoakbrewingco.com
SUMMARY:FOOD TRUCK- CROQUE
DESCRIPTION:
URL:https://loneoakbrewingco.com/event/food-truck-croque/
LOCATION:Lone Oak Brewery\, 5000 Olney Laytonsville Rd\, Olney\, MD\, 20832\, United States
CATEGORIES:Food Truck
ATTACH;FMTTYPE=image/png:https://loneoakbrewingco.com/wp-content/uploads/2023/08/Capture-300x247-1.png
END:VEVENT
BEGIN:VEVENT
DTSTART;TZID=UTC:20230930T120000
DTEND;TZID=UTC:20230930T200000
DTSTAMP:20260421T220147
CREATED:20230827T184647Z
LAST-MODIFIED:20230907T020740Z
UID:3374-1696075200-1696104000@loneoakbrewingco.com
SUMMARY:FOOD TRUCK- FLIPSIDE
DESCRIPTION:
URL:https://loneoakbrewingco.com/event/food-truck-marias-kitchen-3/
LOCATION:Lone Oak Brewery\, 5000 Olney Laytonsville Rd\, Olney\, MD\, 20832\, United States
CATEGORIES:Food Truck
ATTACH;FMTTYPE=image/jpeg:https://loneoakbrewingco.com/wp-content/uploads/2023/08/Capture-23.jpg
END:VEVENT
BEGIN:VEVENT
DTSTART;TZID=UTC:20230924T120000
DTEND;TZID=UTC:20230924T200000
DTSTAMP:20260421T220147
CREATED:20230827T184455Z
LAST-MODIFIED:20230827T184455Z
UID:3372-1695556800-1695585600@loneoakbrewingco.com
SUMMARY:FOOD TRUCK- DM SLIDERS
DESCRIPTION:
URL:https://loneoakbrewingco.com/event/food-truck-dm-sliders-2/
LOCATION:Lone Oak Brewery\, 5000 Olney Laytonsville Rd\, Olney\, MD\, 20832\, United States
CATEGORIES:Food Truck
ATTACH;FMTTYPE=image/png:https://loneoakbrewingco.com/wp-content/uploads/2023/05/Screenshot-2023-05-25-at-3.02.27-PM.png
END:VEVENT
BEGIN:VEVENT
DTSTART;TZID=UTC:20230923T120000
DTEND;TZID=UTC:20230923T200000
DTSTAMP:20260421T220147
CREATED:20230827T184346Z
LAST-MODIFIED:20230827T184346Z
UID:3369-1695470400-1695499200@loneoakbrewingco.com
SUMMARY:FOOD TRUCK- PAELLA AND TAPAS
DESCRIPTION:
URL:https://loneoakbrewingco.com/event/food-truck-paella-and-tapas-6/
LOCATION:Lone Oak Brewery\, 5000 Olney Laytonsville Rd\, Olney\, MD\, 20832\, United States
CATEGORIES:Food Truck
ATTACH;FMTTYPE=image/jpeg:https://loneoakbrewingco.com/wp-content/uploads/2023/08/348s.jpg
END:VEVENT
BEGIN:VEVENT
DTSTART;TZID=UTC:20230917T120000
DTEND;TZID=UTC:20230917T200000
DTSTAMP:20260421T220147
CREATED:20230827T193449Z
LAST-MODIFIED:20230827T193643Z
UID:3433-1694952000-1694980800@loneoakbrewingco.com
SUMMARY:FOOD TRUCK- MAYTAS PERUVIAN CUISINE
DESCRIPTION:
URL:https://loneoakbrewingco.com/event/food-truck-maytas-peruvian-cuisine/
LOCATION:Lone Oak Brewery\, 5000 Olney Laytonsville Rd\, Olney\, MD\, 20832\, United States
CATEGORIES:Food Truck
ATTACH;FMTTYPE=image/png:https://loneoakbrewingco.com/wp-content/uploads/2023/08/w2K9ce8Utq.png
END:VEVENT
BEGIN:VEVENT
DTSTART;TZID=UTC:20230916T080000
DTEND;TZID=UTC:20230916T170000
DTSTAMP:20260421T220147
CREATED:20230827T184727Z
LAST-MODIFIED:20230827T190534Z
UID:3377-1694851200-1694883600@loneoakbrewingco.com
SUMMARY:FOOD TRUCK- MARIA'S KITCHEN
DESCRIPTION:
URL:https://loneoakbrewingco.com/event/food-truck-marias-kitchen-4/
LOCATION:Lone Oak Brewery\, 5000 Olney Laytonsville Rd\, Olney\, MD\, 20832\, United States
CATEGORIES:Food Truck
ATTACH;FMTTYPE=image/png:https://loneoakbrewingco.com/wp-content/uploads/2023/08/Screenshot-2023-03-17-at-9.25.03-PM.png
END:VEVENT
BEGIN:VEVENT
DTSTART;TZID=UTC:20230910T120000
DTEND;TZID=UTC:20230910T200000
DTSTAMP:20260421T220147
CREATED:20230827T184141Z
LAST-MODIFIED:20230827T184141Z
UID:3366-1694347200-1694376000@loneoakbrewingco.com
SUMMARY:FOOD TRUCK- DINER ON THE GO
DESCRIPTION:
URL:https://loneoakbrewingco.com/event/food-truck-diner-on-the-go-4/
LOCATION:Lone Oak Brewery\, 5000 Olney Laytonsville Rd\, Olney\, MD\, 20832\, United States
CATEGORIES:Food Truck
ATTACH;FMTTYPE=image/jpeg:https://loneoakbrewingco.com/wp-content/uploads/2023/08/Unknown.jpeg
END:VEVENT
BEGIN:VEVENT
DTSTART;TZID=UTC:20230909T120000
DTEND;TZID=UTC:20230909T200000
DTSTAMP:20260421T220147
CREATED:20230827T183918Z
LAST-MODIFIED:20230827T183930Z
UID:3363-1694260800-1694289600@loneoakbrewingco.com
SUMMARY:FOOD TRUCK- KICK'N FLAVORR
DESCRIPTION:
URL:https://loneoakbrewingco.com/event/food-truck-kickn-flavorr/
LOCATION:Lone Oak Brewery\, 5000 Olney Laytonsville Rd\, Olney\, MD\, 20832\, United States
CATEGORIES:Food Truck
ATTACH;FMTTYPE=image/png:https://loneoakbrewingco.com/wp-content/uploads/2023/08/Screen-Shot-2023-08-27-at-10.37.26-AM.png
END:VEVENT
BEGIN:VEVENT
DTSTART;TZID=UTC:20230903T120000
DTEND;TZID=UTC:20230903T200000
DTSTAMP:20260421T220147
CREATED:20230827T183549Z
LAST-MODIFIED:20230827T183807Z
UID:3360-1693742400-1693771200@loneoakbrewingco.com
SUMMARY:FOOD TRUCK- SALAT
DESCRIPTION:
URL:https://loneoakbrewingco.com/event/food-truck-salat-2/
LOCATION:Lone Oak Brewery\, 5000 Olney Laytonsville Rd\, Olney\, MD\, 20832\, United States
CATEGORIES:Food Truck
ATTACH;FMTTYPE=image/png:https://loneoakbrewingco.com/wp-content/uploads/2023/08/Unknown.png
END:VEVENT
BEGIN:VEVENT
DTSTART;TZID=UTC:20230902T120000
DTEND;TZID=UTC:20230902T200000
DTSTAMP:20260421T220147
CREATED:20230827T183430Z
LAST-MODIFIED:20230827T183430Z
UID:3357-1693656000-1693684800@loneoakbrewingco.com
SUMMARY:FOOD TRUCK- FLIPSIDE
DESCRIPTION:
URL:https://loneoakbrewingco.com/event/food-truck-flipside/
LOCATION:Lone Oak Brewery\, 5000 Olney Laytonsville Rd\, Olney\, MD\, 20832\, United States
CATEGORIES:Food Truck
ATTACH;FMTTYPE=image/jpeg:https://loneoakbrewingco.com/wp-content/uploads/2023/08/Capture-23.jpg
END:VEVENT
BEGIN:VEVENT
DTSTART;TZID=UTC:20230826T120000
DTEND;TZID=UTC:20230826T200000
DTSTAMP:20260421T220147
CREATED:20230504T041247Z
LAST-MODIFIED:20230504T041247Z
UID:3150-1693051200-1693080000@loneoakbrewingco.com
SUMMARY:FOOD TRUCK - THE VURRITO SPOT
DESCRIPTION:Day born & raised in Los Angeles California\, I have been working in the restaurant/hospitality for the past 8 years\, I started “the Vurrito Spot” 4 years ago\, the influence came from not only the culture of LA but linking up with friends over game night 2 times out the week and they would always want me to make Mexican food in the kitchen\, whether it was burritos\, tacos or nachos . I love creating dishes that would add to our game night and bring joy and great memories. I wanted to bring that same energy and experience to the East Coast\, my favorite dish to prepare for is our Jac a Tac tacos and veggie dilla (quesadilla) we know that this experience will bring excitement to everyone taste buds\, we’re excited for you guys to enjoy! All of our veggies are local and fresh and our salsa are made in house. We feel that the local ingredients bring a amazing taste and livelinesses to our menu.
URL:https://loneoakbrewingco.com/event/food-truck-the-vurrito-spot-2/
LOCATION:Lone Oak Brewery\, 5000 Olney Laytonsville Rd\, Olney\, MD\, 20832\, United States
CATEGORIES:Food Truck
ATTACH;FMTTYPE=image/png:https://loneoakbrewingco.com/wp-content/uploads/2023/05/Screenshot-2023-05-03-at-8.10.39-PM.png
END:VEVENT
BEGIN:VEVENT
DTSTART;TZID=UTC:20230819T120000
DTEND;TZID=UTC:20230819T200000
DTSTAMP:20260421T220147
CREATED:20230504T041114Z
LAST-MODIFIED:20230504T041114Z
UID:3145-1692446400-1692475200@loneoakbrewingco.com
SUMMARY:FOOD TRUCK - THE VURRITO SPOT
DESCRIPTION:Day born & raised in Los Angeles California\, I have been working in the restaurant/hospitality for the past 8 years\, I started “the Vurrito Spot” 4 years ago\, the influence came from not only the culture of LA but linking up with friends over game night 2 times out the week and they would always want me to make Mexican food in the kitchen\, whether it was burritos\, tacos or nachos . I love creating dishes that would add to our game night and bring joy and great memories. I wanted to bring that same energy and experience to the East Coast\, my favorite dish to prepare for is our Jac a Tac tacos and veggie dilla (quesadilla) we know that this experience will bring excitement to everyone taste buds\, we’re excited for you guys to enjoy! All of our veggies are local and fresh and our salsa are made in house. We feel that the local ingredients bring a amazing taste and livelinesses to our menu.
URL:https://loneoakbrewingco.com/event/food-truck-the-vurrito-spot/
LOCATION:Lone Oak Brewery\, 5000 Olney Laytonsville Rd\, Olney\, MD\, 20832\, United States
CATEGORIES:Food Truck
ATTACH;FMTTYPE=image/png:https://loneoakbrewingco.com/wp-content/uploads/2023/05/Screenshot-2023-05-03-at-8.10.39-PM.png
END:VEVENT
END:VCALENDAR