BEGIN:VCALENDAR
VERSION:2.0
PRODID:-//Lone Oak Brewing Co. - ECPv6.15.20//NONSGML v1.0//EN
CALSCALE:GREGORIAN
METHOD:PUBLISH
X-WR-CALNAME:Lone Oak Brewing Co.
X-ORIGINAL-URL:https://loneoakbrewingco.com
X-WR-CALDESC:Events for Lone Oak Brewing Co.
REFRESH-INTERVAL;VALUE=DURATION:PT1H
X-Robots-Tag:noindex
X-PUBLISHED-TTL:PT1H
BEGIN:VTIMEZONE
TZID:UTC
BEGIN:STANDARD
TZOFFSETFROM:+0000
TZOFFSETTO:+0000
TZNAME:UTC
DTSTART:20210101T000000
END:STANDARD
END:VTIMEZONE
BEGIN:VEVENT
DTSTART;TZID=UTC:20220910T120000
DTEND;TZID=UTC:20220910T200000
DTSTAMP:20260422T110905
CREATED:20220824T171916Z
LAST-MODIFIED:20220824T171916Z
UID:1873-1662811200-1662840000@loneoakbrewingco.com
SUMMARY:FOOD TRUCK - THE HALAL KINGZ
DESCRIPTION:
URL:https://loneoakbrewingco.com/event/food-truck-the-halal-kingz-5/
LOCATION:Lone Oak Brewery\, 5000 Olney Laytonsville Rd\, Olney\, MD\, 20832\, United States
CATEGORIES:Food Truck
ATTACH;FMTTYPE=image/png:https://loneoakbrewingco.com/wp-content/uploads/2022/05/Screen-Shot-2022-05-24-at-1.11.19-PM-e1653412415781.png
END:VEVENT
BEGIN:VEVENT
DTSTART;TZID=UTC:20220909T150000
DTEND;TZID=UTC:20220909T200000
DTSTAMP:20260422T110905
CREATED:20220514T050836Z
LAST-MODIFIED:20220618T221701Z
UID:1418-1662735600-1662753600@loneoakbrewingco.com
SUMMARY:FOOD TRUCK - CORNED BEEF KING
DESCRIPTION:
URL:https://loneoakbrewingco.com/event/food-truck-corned-beef-king-7/
LOCATION:Lone Oak Brewery\, 5000 Olney Laytonsville Rd\, Olney\, MD\, 20832\, United States
CATEGORIES:Food Truck
ATTACH;FMTTYPE=image/jpeg:https://loneoakbrewingco.com/wp-content/uploads/2022/03/cornedbeef.jpg
END:VEVENT
BEGIN:VEVENT
DTSTART;TZID=UTC:20220905T120000
DTEND;TZID=UTC:20220905T190000
DTSTAMP:20260422T110905
CREATED:20220514T045953Z
LAST-MODIFIED:20220514T045953Z
UID:1410-1662379200-1662404400@loneoakbrewingco.com
SUMMARY:FOOD TRUCK - CORNED BEEF KING
DESCRIPTION:
URL:https://loneoakbrewingco.com/event/food-truck-corned-beef-king-6/
LOCATION:Lone Oak Brewery\, 5000 Olney Laytonsville Rd\, Olney\, MD\, 20832\, United States
CATEGORIES:Food Truck
ATTACH;FMTTYPE=image/jpeg:https://loneoakbrewingco.com/wp-content/uploads/2022/03/cornedbeef.jpg
END:VEVENT
BEGIN:VEVENT
DTSTART;TZID=UTC:20220904T120000
DTEND;TZID=UTC:20220904T190000
DTSTAMP:20260422T110905
CREATED:20220514T045658Z
LAST-MODIFIED:20220514T045658Z
UID:1408-1662292800-1662318000@loneoakbrewingco.com
SUMMARY:FOOD TRUCK - GRUBBING HARD BBQ
DESCRIPTION:
URL:https://loneoakbrewingco.com/event/food-truck-grubbing-hard-bbq-7/
LOCATION:Lone Oak Brewery\, 5000 Olney Laytonsville Rd\, Olney\, MD\, 20832\, United States
CATEGORIES:Food Truck
ATTACH;FMTTYPE=image/jpeg:https://loneoakbrewingco.com/wp-content/uploads/2022/03/grubbin-hard.jpeg
END:VEVENT
BEGIN:VEVENT
DTSTART;TZID=UTC:20220903T120000
DTEND;TZID=UTC:20220903T200000
DTSTAMP:20260422T110905
CREATED:20220514T043136Z
LAST-MODIFIED:20220514T043136Z
UID:1402-1662206400-1662235200@loneoakbrewingco.com
SUMMARY:FOOD TRUCK - FLIPSIDE GASTRO
DESCRIPTION:
URL:https://loneoakbrewingco.com/event/food-truck-flipside-gastro-10/
LOCATION:Lone Oak Brewery\, 5000 Olney Laytonsville Rd\, Olney\, MD\, 20832\, United States
CATEGORIES:Food Truck
ATTACH;FMTTYPE=image/jpeg:https://loneoakbrewingco.com/wp-content/uploads/2022/03/flipside-gastro-truck.jpeg
END:VEVENT
BEGIN:VEVENT
DTSTART;TZID=UTC:20220902T130000
DTEND;TZID=UTC:20220902T200000
DTSTAMP:20260422T110905
CREATED:20220514T042900Z
LAST-MODIFIED:20220514T042900Z
UID:1397-1662123600-1662148800@loneoakbrewingco.com
SUMMARY:FOOD TRUCK - DINER ON THE GO
DESCRIPTION:
URL:https://loneoakbrewingco.com/event/food-truck-diner-on-the-go-2/
LOCATION:Lone Oak Brewery\, 5000 Olney Laytonsville Rd\, Olney\, MD\, 20832\, United States
CATEGORIES:Food Truck
ATTACH;FMTTYPE=image/png:https://loneoakbrewingco.com/wp-content/uploads/2022/05/DINER-ON-THE-GO.png
END:VEVENT
BEGIN:VEVENT
DTSTART;TZID=UTC:20220828T120000
DTEND;TZID=UTC:20220828T190000
DTSTAMP:20260422T110905
CREATED:20220821T221440Z
LAST-MODIFIED:20220821T221440Z
UID:1867-1661688000-1661713200@loneoakbrewingco.com
SUMMARY:FOOD TRUCK - SALAT FOODS
DESCRIPTION:
URL:https://loneoakbrewingco.com/event/food-truck-salat-foods-2/
LOCATION:Lone Oak Brewery\, 5000 Olney Laytonsville Rd\, Olney\, MD\, 20832\, United States
CATEGORIES:Food Truck
ATTACH;FMTTYPE=image/png:https://loneoakbrewingco.com/wp-content/uploads/2022/05/Screen-Shot-2022-05-28-at-6.14.01-PM-e1653776206645.png
END:VEVENT
BEGIN:VEVENT
DTSTART;TZID=UTC:20220827T110000
DTEND;TZID=UTC:20220827T200000
DTSTAMP:20260422T110905
CREATED:20220822T004337Z
LAST-MODIFIED:20220822T004337Z
UID:1871-1661598000-1661630400@loneoakbrewingco.com
SUMMARY:FOOD TRUCK - BUN'D UP
DESCRIPTION:
URL:https://loneoakbrewingco.com/event/food-truck-bund-up-7/
LOCATION:Lone Oak Brewery\, 5000 Olney Laytonsville Rd\, Olney\, MD\, 20832\, United States
CATEGORIES:Food Truck
ATTACH;FMTTYPE=image/jpeg:https://loneoakbrewingco.com/wp-content/uploads/2022/04/bundup-Edit-rotated-e1627678270867.jpg
END:VEVENT
BEGIN:VEVENT
DTSTART;TZID=UTC:20220827T110000
DTEND;TZID=UTC:20220827T200000
DTSTAMP:20260422T110905
CREATED:20220822T004159Z
LAST-MODIFIED:20220822T004159Z
UID:1869-1661598000-1661630400@loneoakbrewingco.com
SUMMARY:FOOD TRUCK - PHO WHEELS
DESCRIPTION:
URL:https://loneoakbrewingco.com/event/food-truck-pho-wheels-11/
LOCATION:Lone Oak Brewery\, 5000 Olney Laytonsville Rd\, Olney\, MD\, 20832\, United States
CATEGORIES:Food Truck
ATTACH;FMTTYPE=image/jpeg:https://loneoakbrewingco.com/wp-content/uploads/2022/04/phowheels-e1631744329223.jpg
END:VEVENT
BEGIN:VEVENT
DTSTART;TZID=UTC:20220827T110000
DTEND;TZID=UTC:20220827T200000
DTSTAMP:20260422T110905
CREATED:20220513T044815Z
LAST-MODIFIED:20220822T004243Z
UID:1385-1661598000-1661630400@loneoakbrewingco.com
SUMMARY:FOOD TRUCK -  GRUBBING HARD BBQ
DESCRIPTION:
URL:https://loneoakbrewingco.com/event/food-truck-grubbing-hard-bbq-6/
LOCATION:Lone Oak Brewery\, 5000 Olney Laytonsville Rd\, Olney\, MD\, 20832\, United States
CATEGORIES:Food Truck
ATTACH;FMTTYPE=image/jpeg:https://loneoakbrewingco.com/wp-content/uploads/2022/03/grubbin-hard.jpeg
END:VEVENT
BEGIN:VEVENT
DTSTART;TZID=UTC:20220826T160000
DTEND;TZID=UTC:20220826T190000
DTSTAMP:20260422T110905
CREATED:20220513T044542Z
LAST-MODIFIED:20220812T194254Z
UID:1381-1661529600-1661540400@loneoakbrewingco.com
SUMMARY:LIVE MUSIC - THE OUTTAKES
DESCRIPTION:
URL:https://loneoakbrewingco.com/event/live-music-the-outtakes-4/
LOCATION:Lone Oak Brewery\, 5000 Olney Laytonsville Rd\, Olney\, MD\, 20832\, United States
CATEGORIES:Food Truck
ATTACH;FMTTYPE=image/png:https://loneoakbrewingco.com/wp-content/uploads/2022/05/Screen-Shot-2022-08-12-at-11.41.54-AM.png
END:VEVENT
BEGIN:VEVENT
DTSTART;TZID=UTC:20220826T130000
DTEND;TZID=UTC:20220826T200000
DTSTAMP:20260422T110905
CREATED:20220513T044501Z
LAST-MODIFIED:20220513T044501Z
UID:1379-1661518800-1661544000@loneoakbrewingco.com
SUMMARY:FOOD TRUCK - BUN'D UP
DESCRIPTION:
URL:https://loneoakbrewingco.com/event/food-truck-bund-up-6/
LOCATION:Lone Oak Brewery\, 5000 Olney Laytonsville Rd\, Olney\, MD\, 20832\, United States
CATEGORIES:Food Truck
ATTACH;FMTTYPE=image/jpeg:https://loneoakbrewingco.com/wp-content/uploads/2022/04/bundup-Edit-rotated-e1627678270867.jpg
END:VEVENT
BEGIN:VEVENT
DTSTART;TZID=UTC:20220825T170000
DTEND;TZID=UTC:20220825T210000
DTSTAMP:20260422T110905
CREATED:20220814T215452Z
LAST-MODIFIED:20220814T215452Z
UID:1856-1661446800-1661461200@loneoakbrewingco.com
SUMMARY:FOOD TRUCK - DALIA'S FALAFEL
DESCRIPTION:
URL:https://loneoakbrewingco.com/event/food-truck-dalias-falafel/
LOCATION:Lone Oak Brewery\, 5000 Olney Laytonsville Rd\, Olney\, MD\, 20832\, United States
CATEGORIES:Food Truck
ATTACH;FMTTYPE=image/jpeg:https://loneoakbrewingco.com/wp-content/uploads/2022/03/dalias-falafel.jpeg
END:VEVENT
BEGIN:VEVENT
DTSTART;TZID=UTC:20220821T120000
DTEND;TZID=UTC:20220821T190000
DTSTAMP:20260422T110905
CREATED:20220513T044349Z
LAST-MODIFIED:20220513T044349Z
UID:1377-1661083200-1661108400@loneoakbrewingco.com
SUMMARY:FOOD TRUCK - POP UP POUTINE
DESCRIPTION:
URL:https://loneoakbrewingco.com/event/food-truck-pop-up-poutine-2/
LOCATION:Lone Oak Brewery\, 5000 Olney Laytonsville Rd\, Olney\, MD\, 20832\, United States
CATEGORIES:Food Truck
ATTACH;FMTTYPE=image/png:https://loneoakbrewingco.com/wp-content/uploads/2022/05/Screen-Shot-2022-05-03-at-12.17.34-PM.png
END:VEVENT
BEGIN:VEVENT
DTSTART;TZID=UTC:20220820T120000
DTEND;TZID=UTC:20220820T200000
DTSTAMP:20260422T110905
CREATED:20220818T021037Z
LAST-MODIFIED:20220818T021037Z
UID:1858-1660996800-1661025600@loneoakbrewingco.com
SUMMARY:FOOD TRUCK - CATALYST HOT DOGS
DESCRIPTION:
URL:https://loneoakbrewingco.com/event/food-truck-catalyst-hot-dogs-4/
LOCATION:Lone Oak Brewery\, 5000 Olney Laytonsville Rd\, Olney\, MD\, 20832\, United States
CATEGORIES:Food Truck
ATTACH;FMTTYPE=image/jpeg:https://loneoakbrewingco.com/wp-content/uploads/2022/03/catalysthotdogs.jpg
END:VEVENT
BEGIN:VEVENT
DTSTART;TZID=UTC:20220820T120000
DTEND;TZID=UTC:20220820T200000
DTSTAMP:20260422T110905
CREATED:20220513T043807Z
LAST-MODIFIED:20220513T043807Z
UID:1367-1660996800-1661025600@loneoakbrewingco.com
SUMMARY:FOOD TRUCK - BLUES BBQ
DESCRIPTION:
URL:https://loneoakbrewingco.com/event/food-truck-blues-bbq-3/
LOCATION:Lone Oak Brewery\, 5000 Olney Laytonsville Rd\, Olney\, MD\, 20832\, United States
CATEGORIES:Food Truck
ATTACH;FMTTYPE=image/png:https://loneoakbrewingco.com/wp-content/uploads/2022/05/BLUES-BBQ.png
END:VEVENT
BEGIN:VEVENT
DTSTART;TZID=UTC:20220819T130000
DTEND;TZID=UTC:20220819T200000
DTSTAMP:20260422T110905
CREATED:20220513T043236Z
LAST-MODIFIED:20220717T225931Z
UID:1365-1660914000-1660939200@loneoakbrewingco.com
SUMMARY:FOOD TRUCK - REGULAR FOODZ
DESCRIPTION:
URL:https://loneoakbrewingco.com/event/food-truck-regular-foods-7/
LOCATION:Lone Oak Brewery\, 5000 Olney Laytonsville Rd\, Olney\, MD\, 20832\, United States
CATEGORIES:Food Truck
ATTACH;FMTTYPE=image/jpeg:https://loneoakbrewingco.com/wp-content/uploads/2022/03/background-oak.jpg
END:VEVENT
BEGIN:VEVENT
DTSTART;TZID=UTC:20220814T120000
DTEND;TZID=UTC:20220814T190000
DTSTAMP:20260422T110905
CREATED:20220810T232001Z
LAST-MODIFIED:20220810T232001Z
UID:1844-1660478400-1660503600@loneoakbrewingco.com
SUMMARY:FOOD TRUCK - SALAT FOODS
DESCRIPTION:
URL:https://loneoakbrewingco.com/event/food-truck-salat-foods/
LOCATION:Lone Oak Brewery\, 5000 Olney Laytonsville Rd\, Olney\, MD\, 20832\, United States
CATEGORIES:Food Truck
ATTACH;FMTTYPE=image/png:https://loneoakbrewingco.com/wp-content/uploads/2022/05/Screen-Shot-2022-05-28-at-6.14.01-PM-e1653776206645.png
END:VEVENT
BEGIN:VEVENT
DTSTART;TZID=UTC:20220813T120000
DTEND;TZID=UTC:20220813T200000
DTSTAMP:20260422T110905
CREATED:20220513T042845Z
LAST-MODIFIED:20220810T172629Z
UID:1359-1660392000-1660420800@loneoakbrewingco.com
SUMMARY:FOOD TRUCK - GRUBBING HARD BBQ
DESCRIPTION:
URL:https://loneoakbrewingco.com/event/food-truck-grubbing-hard-bbq-5/
LOCATION:Lone Oak Brewery\, 5000 Olney Laytonsville Rd\, Olney\, MD\, 20832\, United States
CATEGORIES:Food Truck
ATTACH;FMTTYPE=image/jpeg:https://loneoakbrewingco.com/wp-content/uploads/2022/03/grubbin-hard.jpeg
END:VEVENT
BEGIN:VEVENT
DTSTART;TZID=UTC:20220812T130000
DTEND;TZID=UTC:20220812T200000
DTSTAMP:20260422T110905
CREATED:20220513T041842Z
LAST-MODIFIED:20220717T225937Z
UID:1351-1660309200-1660334400@loneoakbrewingco.com
SUMMARY:FOOD TRUCK - REGULAR FOODZ
DESCRIPTION:
URL:https://loneoakbrewingco.com/event/food-truck-regular-foods-6/
LOCATION:Lone Oak Brewery\, 5000 Olney Laytonsville Rd\, Olney\, MD\, 20832\, United States
CATEGORIES:Food Truck
ATTACH;FMTTYPE=image/jpeg:https://loneoakbrewingco.com/wp-content/uploads/2022/03/background-oak.jpg
END:VEVENT
BEGIN:VEVENT
DTSTART;TZID=UTC:20220806T120000
DTEND;TZID=UTC:20220806T200000
DTSTAMP:20260422T110905
CREATED:20220513T035939Z
LAST-MODIFIED:20220513T035939Z
UID:1340-1659787200-1659816000@loneoakbrewingco.com
SUMMARY:FOOD TRUCK - GRUBBING HARD BBQ
DESCRIPTION:
URL:https://loneoakbrewingco.com/event/food-truck-grubbing-hard-bbq-4/
LOCATION:Lone Oak Brewery\, 5000 Olney Laytonsville Rd\, Olney\, MD\, 20832\, United States
CATEGORIES:Food Truck
ATTACH;FMTTYPE=image/jpeg:https://loneoakbrewingco.com/wp-content/uploads/2022/03/grubbin-hard.jpeg
END:VEVENT
BEGIN:VEVENT
DTSTART;TZID=UTC:20220805T160000
DTEND;TZID=UTC:20220805T200000
DTSTAMP:20260422T110905
CREATED:20220805T212036Z
LAST-MODIFIED:20220805T212108Z
UID:1835-1659715200-1659729600@loneoakbrewingco.com
SUMMARY:FOOD TRUCK - THE HALAL KINGZ
DESCRIPTION:
URL:https://loneoakbrewingco.com/event/food-truck-the-halal-kingz-4/
LOCATION:Lone Oak Brewery\, 5000 Olney Laytonsville Rd\, Olney\, MD\, 20832\, United States
CATEGORIES:Food Truck
ATTACH;FMTTYPE=image/png:https://loneoakbrewingco.com/wp-content/uploads/2022/05/Screen-Shot-2022-05-24-at-1.11.19-PM-e1653412415781.png
END:VEVENT
BEGIN:VEVENT
DTSTART;TZID=UTC:20220731T120000
DTEND;TZID=UTC:20220731T190000
DTSTAMP:20260422T110905
CREATED:20220508T034957Z
LAST-MODIFIED:20220508T034957Z
UID:1211-1659268800-1659294000@loneoakbrewingco.com
SUMMARY:FOOD TRUCK - PHO WHEELS
DESCRIPTION:
URL:https://loneoakbrewingco.com/event/food-truck-pho-wheels-5/
LOCATION:Lone Oak Brewery\, 5000 Olney Laytonsville Rd\, Olney\, MD\, 20832\, United States
CATEGORIES:Food Truck
ATTACH;FMTTYPE=image/jpeg:https://loneoakbrewingco.com/wp-content/uploads/2022/04/phowheels-e1631744329223.jpg
END:VEVENT
BEGIN:VEVENT
DTSTART;TZID=UTC:20220730T120000
DTEND;TZID=UTC:20220730T200000
DTSTAMP:20260422T110905
CREATED:20220610T200045Z
LAST-MODIFIED:20220610T200045Z
UID:1725-1659182400-1659211200@loneoakbrewingco.com
SUMMARY:FOOD TRUCK - WI JAMMIN
DESCRIPTION:
URL:https://loneoakbrewingco.com/event/food-truck-wi-jammin-2/
LOCATION:Lone Oak Brewery\, 5000 Olney Laytonsville Rd\, Olney\, MD\, 20832\, United States
CATEGORIES:Food Truck
ATTACH;FMTTYPE=image/png:https://loneoakbrewingco.com/wp-content/uploads/2022/06/Screen-Shot-2022-05-03-at-12.35.13-PM.png
END:VEVENT
BEGIN:VEVENT
DTSTART;TZID=UTC:20220729T160000
DTEND;TZID=UTC:20220729T200000
DTSTAMP:20260422T110905
CREATED:20220508T033215Z
LAST-MODIFIED:20220518T175229Z
UID:1197-1659110400-1659124800@loneoakbrewingco.com
SUMMARY:FOOD TRUCK - GRUBBING HARD BBQ
DESCRIPTION:
URL:https://loneoakbrewingco.com/event/food-truck-grubbing-hard-bbq-3/
LOCATION:Lone Oak Brewery\, 5000 Olney Laytonsville Rd\, Olney\, MD\, 20832\, United States
CATEGORIES:Food Truck
ATTACH;FMTTYPE=image/jpeg:https://loneoakbrewingco.com/wp-content/uploads/2022/03/grubbin-hard.jpeg
END:VEVENT
BEGIN:VEVENT
DTSTART;TZID=UTC:20220724T120000
DTEND;TZID=UTC:20220724T190000
DTSTAMP:20260422T110905
CREATED:20220508T033103Z
LAST-MODIFIED:20220508T033103Z
UID:1195-1658664000-1658689200@loneoakbrewingco.com
SUMMARY:FOOD TRUCK - BUN'D UP
DESCRIPTION:
URL:https://loneoakbrewingco.com/event/food-truck-bund-up-4/
LOCATION:Lone Oak Brewery\, 5000 Olney Laytonsville Rd\, Olney\, MD\, 20832\, United States
CATEGORIES:Food Truck
ATTACH;FMTTYPE=image/jpeg:https://loneoakbrewingco.com/wp-content/uploads/2022/04/bundup-Edit-rotated-e1627678270867.jpg
END:VEVENT
BEGIN:VEVENT
DTSTART;TZID=UTC:20220723T120000
DTEND;TZID=UTC:20220723T200000
DTSTAMP:20260422T110905
CREATED:20220508T032907Z
LAST-MODIFIED:20220508T032907Z
UID:1191-1658577600-1658606400@loneoakbrewingco.com
SUMMARY:FOOD TRUCK - FLIPSIDE GASTRO
DESCRIPTION:
URL:https://loneoakbrewingco.com/event/food-truck-flipside-gastro-9/
LOCATION:Lone Oak Brewery\, 5000 Olney Laytonsville Rd\, Olney\, MD\, 20832\, United States
CATEGORIES:Food Truck
ATTACH;FMTTYPE=image/jpeg:https://loneoakbrewingco.com/wp-content/uploads/2022/03/flipside-gastro-truck.jpeg
END:VEVENT
BEGIN:VEVENT
DTSTART;TZID=UTC:20220722T130000
DTEND;TZID=UTC:20220722T200000
DTSTAMP:20260422T110905
CREATED:20220508T032648Z
LAST-MODIFIED:20220717T225943Z
UID:1189-1658494800-1658520000@loneoakbrewingco.com
SUMMARY:FOOD TRUCK - REGULAR FOODZ
DESCRIPTION:
URL:https://loneoakbrewingco.com/event/food-truck-regular-foods-5/
LOCATION:Lone Oak Brewery\, 5000 Olney Laytonsville Rd\, Olney\, MD\, 20832\, United States
CATEGORIES:Food Truck
ATTACH;FMTTYPE=image/jpeg:https://loneoakbrewingco.com/wp-content/uploads/2022/03/background-oak.jpg
END:VEVENT
BEGIN:VEVENT
DTSTART;TZID=UTC:20220721T170000
DTEND;TZID=UTC:20220721T210000
DTSTAMP:20260422T110905
CREATED:20220721T202950Z
LAST-MODIFIED:20220721T202950Z
UID:1815-1658422800-1658437200@loneoakbrewingco.com
SUMMARY:FOOD TRUCK - THE HALAL KINGZ
DESCRIPTION:
URL:https://loneoakbrewingco.com/event/food-truck-the-halal-kingz-3/
LOCATION:Lone Oak Brewery\, 5000 Olney Laytonsville Rd\, Olney\, MD\, 20832\, United States
CATEGORIES:Food Truck
ATTACH;FMTTYPE=image/png:https://loneoakbrewingco.com/wp-content/uploads/2022/05/Screen-Shot-2022-05-24-at-1.11.19-PM-e1653412415781.png
END:VEVENT
BEGIN:VEVENT
DTSTART;TZID=UTC:20220717T120000
DTEND;TZID=UTC:20220717T190000
DTSTAMP:20260422T110905
CREATED:20220508T032510Z
LAST-MODIFIED:20220508T032510Z
UID:1187-1658059200-1658084400@loneoakbrewingco.com
SUMMARY:FOOD TRUCK - PETIT AFRIK
DESCRIPTION:
URL:https://loneoakbrewingco.com/event/food-truck-petit-afrik-3/
LOCATION:Lone Oak Brewery\, 5000 Olney Laytonsville Rd\, Olney\, MD\, 20832\, United States
CATEGORIES:Food Truck
ATTACH;FMTTYPE=image/jpeg:https://loneoakbrewingco.com/wp-content/uploads/2022/03/background-oak.jpg
END:VEVENT
END:VCALENDAR