BEGIN:VCALENDAR
VERSION:2.0
PRODID:-//Lone Oak Brewing Co. - ECPv6.15.20//NONSGML v1.0//EN
CALSCALE:GREGORIAN
METHOD:PUBLISH
X-WR-CALNAME:Lone Oak Brewing Co.
X-ORIGINAL-URL:https://loneoakbrewingco.com
X-WR-CALDESC:Events for Lone Oak Brewing Co.
REFRESH-INTERVAL;VALUE=DURATION:PT1H
X-Robots-Tag:noindex
X-PUBLISHED-TTL:PT1H
BEGIN:VTIMEZONE
TZID:UTC
BEGIN:STANDARD
TZOFFSETFROM:+0000
TZOFFSETTO:+0000
TZNAME:UTC
DTSTART:20210101T000000
END:STANDARD
END:VTIMEZONE
BEGIN:VEVENT
DTSTART;TZID=UTC:20220522T120000
DTEND;TZID=UTC:20220522T190000
DTSTAMP:20260422T233922
CREATED:20220507T004650Z
LAST-MODIFIED:20220507T004650Z
UID:1073-1653220800-1653246000@loneoakbrewingco.com
SUMMARY:FOOD TRUCK - BOOMBAS KITCHEN
DESCRIPTION:
URL:https://loneoakbrewingco.com/event/food-truck-boombas-kitchen-3/
LOCATION:Lone Oak Brewery\, 5000 Olney Laytonsville Rd\, Olney\, MD\, 20832\, United States
CATEGORIES:Food Truck
ATTACH;FMTTYPE=image/jpeg:https://loneoakbrewingco.com/wp-content/uploads/2022/03/boombas.jpg
END:VEVENT
BEGIN:VEVENT
DTSTART;TZID=UTC:20220521T120000
DTEND;TZID=UTC:20220521T200000
DTSTAMP:20260422T233922
CREATED:20220507T004458Z
LAST-MODIFIED:20220507T004458Z
UID:1070-1653134400-1653163200@loneoakbrewingco.com
SUMMARY:FOOD TRUCK - FLIPSIDE GASTRO
DESCRIPTION:
URL:https://loneoakbrewingco.com/event/food-truck-flipside-gastro-4/
LOCATION:Lone Oak Brewery\, 5000 Olney Laytonsville Rd\, Olney\, MD\, 20832\, United States
CATEGORIES:Food Truck
ATTACH;FMTTYPE=image/jpeg:https://loneoakbrewingco.com/wp-content/uploads/2022/03/flipside-gastro-truck.jpeg
END:VEVENT
BEGIN:VEVENT
DTSTART;TZID=UTC:20220520T160000
DTEND;TZID=UTC:20220520T200000
DTSTAMP:20260422T233922
CREATED:20220507T234023Z
LAST-MODIFIED:20220518T174544Z
UID:1121-1653062400-1653076800@loneoakbrewingco.com
SUMMARY:FOOD TRUCK - GRUBBING HARD BBQ
DESCRIPTION:
URL:https://loneoakbrewingco.com/event/food-truck-grubbing-hard-3/
LOCATION:Lone Oak Brewery\, 5000 Olney Laytonsville Rd\, Olney\, MD\, 20832\, United States
CATEGORIES:Food Truck
ATTACH;FMTTYPE=image/png:https://loneoakbrewingco.com/wp-content/uploads/2022/05/Screen-Shot-2022-05-06-at-4.05.11-PM-1-e1651867741708.png
END:VEVENT
BEGIN:VEVENT
DTSTART;TZID=UTC:20220515T120000
DTEND;TZID=UTC:20220515T190000
DTSTAMP:20260422T233922
CREATED:20220507T001326Z
LAST-MODIFIED:20220507T001326Z
UID:1065-1652616000-1652641200@loneoakbrewingco.com
SUMMARY:FOOD TRUCK - CORNED BEEF KING
DESCRIPTION:
URL:https://loneoakbrewingco.com/event/food-truck-corned-beef-king-3/
LOCATION:Lone Oak Brewery\, 5000 Olney Laytonsville Rd\, Olney\, MD\, 20832\, United States
CATEGORIES:Food Truck
ATTACH;FMTTYPE=image/jpeg:https://loneoakbrewingco.com/wp-content/uploads/2022/03/cornedbeef.jpg
END:VEVENT
BEGIN:VEVENT
DTSTART;TZID=UTC:20220514T120000
DTEND;TZID=UTC:20220514T200000
DTSTAMP:20260422T233922
CREATED:20220507T001206Z
LAST-MODIFIED:20220508T013300Z
UID:1063-1652529600-1652558400@loneoakbrewingco.com
SUMMARY:FOOD TRUCK - CATALYST HOT DOGS
DESCRIPTION:
URL:https://loneoakbrewingco.com/event/food-truck-catalyst-hod-dogs/
LOCATION:Lone Oak Brewery\, 5000 Olney Laytonsville Rd\, Olney\, MD\, 20832\, United States
CATEGORIES:Food Truck
ATTACH;FMTTYPE=image/jpeg:https://loneoakbrewingco.com/wp-content/uploads/2022/03/catalysthotdogs.jpg
END:VEVENT
BEGIN:VEVENT
DTSTART;TZID=UTC:20220513T160000
DTEND;TZID=UTC:20220513T200000
DTSTAMP:20260422T233922
CREATED:20220507T000541Z
LAST-MODIFIED:20220513T215117Z
UID:1059-1652457600-1652472000@loneoakbrewingco.com
SUMMARY:FOOD TRUCK - GRUBBING HARD BBQ
DESCRIPTION:
URL:https://loneoakbrewingco.com/event/food-truck-grubbing-hard/
LOCATION:Lone Oak Brewery\, 5000 Olney Laytonsville Rd\, Olney\, MD\, 20832\, United States
CATEGORIES:Food Truck
ATTACH;FMTTYPE=image/png:https://loneoakbrewingco.com/wp-content/uploads/2022/05/Screen-Shot-2022-05-06-at-4.05.11-PM-e1651867669770.png
END:VEVENT
BEGIN:VEVENT
DTSTART;TZID=UTC:20220508T120000
DTEND;TZID=UTC:20220508T190000
DTSTAMP:20260422T233922
CREATED:20220507T000237Z
LAST-MODIFIED:20220507T000319Z
UID:1056-1652011200-1652036400@loneoakbrewingco.com
SUMMARY:FOOD TRUCK - CATALYST HOT DOGS
DESCRIPTION:
URL:https://loneoakbrewingco.com/event/food-truck-catalyst-hot-dogs-3/
LOCATION:Lone Oak Brewery\, 5000 Olney Laytonsville Rd\, Olney\, MD\, 20832\, United States
CATEGORIES:Food Truck
ATTACH;FMTTYPE=image/jpeg:https://loneoakbrewingco.com/wp-content/uploads/2022/03/catalysthotdogs.jpg
END:VEVENT
BEGIN:VEVENT
DTSTART;TZID=UTC:20220507T150000
DTEND;TZID=UTC:20220507T200000
DTSTAMP:20260422T233922
CREATED:20220503T204036Z
LAST-MODIFIED:20220507T001022Z
UID:1037-1651935600-1651953600@loneoakbrewingco.com
SUMMARY:FOOD TRUCK - PAPA MAMA'S JUICE
DESCRIPTION:
URL:https://loneoakbrewingco.com/event/food-truck-papa-mama-juice/
LOCATION:Lone Oak Brewery\, 5000 Olney Laytonsville Rd\, Olney\, MD\, 20832\, United States
CATEGORIES:Food Truck
ATTACH;FMTTYPE=image/png:https://loneoakbrewingco.com/wp-content/uploads/2022/05/Screen-Shot-2022-05-03-at-12.39.20-PM-e1651867808255.png
END:VEVENT
BEGIN:VEVENT
DTSTART;TZID=UTC:20220507T120000
DTEND;TZID=UTC:20220507T200000
DTSTAMP:20260422T233922
CREATED:20220503T202544Z
LAST-MODIFIED:20220503T203052Z
UID:1029-1651924800-1651953600@loneoakbrewingco.com
SUMMARY:FOOD TRUCK - NO SAUCE QUE
DESCRIPTION:
URL:https://loneoakbrewingco.com/event/food-truck-no-sauce-que/
LOCATION:Lone Oak Brewery\, 5000 Olney Laytonsville Rd\, Olney\, MD\, 20832\, United States
CATEGORIES:Food Truck
ATTACH;FMTTYPE=image/png:https://loneoakbrewingco.com/wp-content/uploads/2022/05/Screen-Shot-2022-05-03-at-12.28.58-PM-e1651595447785.png
END:VEVENT
BEGIN:VEVENT
DTSTART;TZID=UTC:20220507T120000
DTEND;TZID=UTC:20220507T200000
DTSTAMP:20260422T233922
CREATED:20220503T202100Z
LAST-MODIFIED:20220503T202100Z
UID:1027-1651924800-1651953600@loneoakbrewingco.com
SUMMARY:FOOD TRUCK - FLIPSIDE GASTRO
DESCRIPTION:
URL:https://loneoakbrewingco.com/event/food-truck-flipside-gastro-3/
LOCATION:Lone Oak Brewery\, 5000 Olney Laytonsville Rd\, Olney\, MD\, 20832\, United States
CATEGORIES:Food Truck
ATTACH;FMTTYPE=image/jpeg:https://loneoakbrewingco.com/wp-content/uploads/2022/03/flipside-gastro-truck.jpeg
END:VEVENT
BEGIN:VEVENT
DTSTART;TZID=UTC:20220501T120000
DTEND;TZID=UTC:20220501T190000
DTSTAMP:20260422T233922
CREATED:20220429T205410Z
LAST-MODIFIED:20220429T205410Z
UID:963-1651406400-1651431600@loneoakbrewingco.com
SUMMARY:FOOD TRUCK - PAELLA AND TAPAS
DESCRIPTION:
URL:https://loneoakbrewingco.com/event/food-truck-paella-and-tapas/
LOCATION:Lone Oak Brewery\, 5000 Olney Laytonsville Rd\, Olney\, MD\, 20832\, United States
CATEGORIES:Food Truck
ATTACH;FMTTYPE=image/jpeg:https://loneoakbrewingco.com/wp-content/uploads/2022/04/Paella-and-Tapas.jpg
END:VEVENT
BEGIN:VEVENT
DTSTART;TZID=UTC:20220430T120000
DTEND;TZID=UTC:20220430T200000
DTSTAMP:20260422T233922
CREATED:20220429T204804Z
LAST-MODIFIED:20220429T204804Z
UID:955-1651320000-1651348800@loneoakbrewingco.com
SUMMARY:FOOD TRUCK - PHO WHEELS
DESCRIPTION:
URL:https://loneoakbrewingco.com/event/food-truck-pho-wheels-2/
LOCATION:Lone Oak Brewery\, 5000 Olney Laytonsville Rd\, Olney\, MD\, 20832\, United States
CATEGORIES:Food Truck
ATTACH;FMTTYPE=image/jpeg:https://loneoakbrewingco.com/wp-content/uploads/2022/04/phowheels-e1631744329223.jpg
END:VEVENT
BEGIN:VEVENT
DTSTART;TZID=UTC:20220429T130000
DTEND;TZID=UTC:20220429T200000
DTSTAMP:20260422T233922
CREATED:20220429T204531Z
LAST-MODIFIED:20220429T204531Z
UID:948-1651237200-1651262400@loneoakbrewingco.com
SUMMARY:FOOD TRUCK - CORNED BEEF KING
DESCRIPTION:
URL:https://loneoakbrewingco.com/event/food-truck-corned-beef-king-2/
LOCATION:Lone Oak Brewery\, 5000 Olney Laytonsville Rd\, Olney\, MD\, 20832\, United States
CATEGORIES:Food Truck
ATTACH;FMTTYPE=image/jpeg:https://loneoakbrewingco.com/wp-content/uploads/2022/04/file.jpeg
END:VEVENT
BEGIN:VEVENT
DTSTART;TZID=UTC:20220424T120000
DTEND;TZID=UTC:20220424T190000
DTSTAMP:20260422T233922
CREATED:20220411T035228Z
LAST-MODIFIED:20220411T035228Z
UID:794-1650801600-1650826800@loneoakbrewingco.com
SUMMARY:FOOD TRUCK – GRUBBING HARD BBQ
DESCRIPTION:
URL:https://loneoakbrewingco.com/event/food-truck-grubbing-hard-bbq-2/
LOCATION:Lone Oak Brewery\, 5000 Olney Laytonsville Rd\, Olney\, MD\, 20832\, United States
CATEGORIES:Food Truck
ATTACH;FMTTYPE=image/jpeg:https://loneoakbrewingco.com/wp-content/uploads/2022/03/grubbin-hard.jpeg
END:VEVENT
BEGIN:VEVENT
DTSTART;TZID=UTC:20220423T120000
DTEND;TZID=UTC:20220423T200000
DTSTAMP:20260422T233922
CREATED:20220411T034924Z
LAST-MODIFIED:20220411T034924Z
UID:786-1650715200-1650744000@loneoakbrewingco.com
SUMMARY:FOOD TRUCK – PHO WHEELS
DESCRIPTION:
URL:https://loneoakbrewingco.com/event/food-truck-pho-wheels/
LOCATION:Lone Oak Brewery\, 5000 Olney Laytonsville Rd\, Olney\, MD\, 20832\, United States
CATEGORIES:Food Truck
ATTACH;FMTTYPE=image/jpeg:https://loneoakbrewingco.com/wp-content/uploads/2022/04/phowheels-e1631744329223.jpg
END:VEVENT
BEGIN:VEVENT
DTSTART;TZID=UTC:20220422T150000
DTEND;TZID=UTC:20220422T200000
DTSTAMP:20260422T233922
CREATED:20220411T034540Z
LAST-MODIFIED:20220411T034815Z
UID:780-1650639600-1650657600@loneoakbrewingco.com
SUMMARY:FOOD TRUCK – BUN’D UP
DESCRIPTION:
URL:https://loneoakbrewingco.com/event/food-truck-bund-up/
LOCATION:Lone Oak Brewery\, 5000 Olney Laytonsville Rd\, Olney\, MD\, 20832\, United States
CATEGORIES:Food Truck
ATTACH;FMTTYPE=image/jpeg:https://loneoakbrewingco.com/wp-content/uploads/2022/04/bundup-Edit-rotated-e1627678270867.jpg
END:VEVENT
BEGIN:VEVENT
DTSTART;TZID=UTC:20220417T120000
DTEND;TZID=UTC:20220417T190000
DTSTAMP:20260422T233922
CREATED:20220411T034240Z
LAST-MODIFIED:20220411T034240Z
UID:775-1650196800-1650222000@loneoakbrewingco.com
SUMMARY:FOOD TRUCK – BOOMBAS KITCHEN
DESCRIPTION:
URL:https://loneoakbrewingco.com/event/food-truck-boombas-kitchen-2/
LOCATION:Lone Oak Brewery\, 5000 Olney Laytonsville Rd\, Olney\, MD\, 20832\, United States
CATEGORIES:Food Truck
ATTACH;FMTTYPE=image/jpeg:https://loneoakbrewingco.com/wp-content/uploads/2022/03/boombas.jpg
END:VEVENT
BEGIN:VEVENT
DTSTART;TZID=UTC:20220416T120000
DTEND;TZID=UTC:20220416T200000
DTSTAMP:20260422T233922
CREATED:20220411T033757Z
LAST-MODIFIED:20220411T033757Z
UID:769-1650110400-1650139200@loneoakbrewingco.com
SUMMARY:FOOD TRUCK – CATALYST HOT DOGS
DESCRIPTION:
URL:https://loneoakbrewingco.com/event/food-truck-catalyst-hot-dogs-2/
LOCATION:Lone Oak Brewery\, 5000 Olney Laytonsville Rd\, Olney\, MD\, 20832\, United States
CATEGORIES:Food Truck
END:VEVENT
BEGIN:VEVENT
DTSTART;TZID=UTC:20220415T150000
DTEND;TZID=UTC:20220415T200000
DTSTAMP:20260422T233922
CREATED:20220411T033615Z
LAST-MODIFIED:20220411T033615Z
UID:764-1650034800-1650052800@loneoakbrewingco.com
SUMMARY:FOOD TRUCK – FLIPSIDE GASTRO
DESCRIPTION:
URL:https://loneoakbrewingco.com/event/food-truck-flipside-gastro-2/
LOCATION:Lone Oak Brewery\, 5000 Olney Laytonsville Rd\, Olney\, MD\, 20832\, United States
CATEGORIES:Food Truck
ATTACH;FMTTYPE=image/jpeg:https://loneoakbrewingco.com/wp-content/uploads/2022/03/flipside-gastro-truck.jpeg
END:VEVENT
BEGIN:VEVENT
DTSTART;TZID=UTC:20220327T120000
DTEND;TZID=UTC:20220327T190000
DTSTAMP:20260422T233922
CREATED:20220316T001355Z
LAST-MODIFIED:20220316T001355Z
UID:207-1648382400-1648407600@loneoakbrewingco.com
SUMMARY:Food Truck - Boomba's Kitchen
DESCRIPTION:
URL:https://loneoakbrewingco.com/event/food-truck-boombas-kitchen/
LOCATION:Lone Oak Brewery\, 5000 Olney Laytonsville Rd\, Olney\, MD\, 20832\, United States
CATEGORIES:Food Truck
ATTACH;FMTTYPE=image/jpeg:https://loneoakbrewingco.com/wp-content/uploads/2022/03/boombas.jpg
END:VEVENT
BEGIN:VEVENT
DTSTART;TZID=UTC:20220326T120000
DTEND;TZID=UTC:20220326T200000
DTSTAMP:20260422T233922
CREATED:20220316T000522Z
LAST-MODIFIED:20220316T000555Z
UID:200-1648296000-1648324800@loneoakbrewingco.com
SUMMARY:Food Truck - Catalyst Hot Dogs
DESCRIPTION:
URL:https://loneoakbrewingco.com/event/food-truck-catalyst-hot-dogs/
LOCATION:Lone Oak Brewery\, 5000 Olney Laytonsville Rd\, Olney\, MD\, 20832\, United States
CATEGORIES:Food Truck
ATTACH;FMTTYPE=image/jpeg:https://loneoakbrewingco.com/wp-content/uploads/2022/03/catalysthotdogs.jpg
END:VEVENT
BEGIN:VEVENT
DTSTART;TZID=UTC:20220325T120000
DTEND;TZID=UTC:20220325T200000
DTSTAMP:20260422T233922
CREATED:20220315T235900Z
LAST-MODIFIED:20220315T235900Z
UID:192-1648209600-1648238400@loneoakbrewingco.com
SUMMARY:Food Truck - Buck n Grill
DESCRIPTION:
URL:https://loneoakbrewingco.com/event/food-truck-buck-n-grill/
LOCATION:Lone Oak Brewery\, 5000 Olney Laytonsville Rd\, Olney\, MD\, 20832\, United States
CATEGORIES:Food Truck
ATTACH;FMTTYPE=image/jpeg:https://loneoakbrewingco.com/wp-content/uploads/2022/03/buckngrill.jpg
END:VEVENT
BEGIN:VEVENT
DTSTART;TZID=UTC:20220320T120000
DTEND;TZID=UTC:20220320T190000
DTSTAMP:20260422T233922
CREATED:20220315T234218Z
LAST-MODIFIED:20220315T234218Z
UID:182-1647777600-1647802800@loneoakbrewingco.com
SUMMARY:Food Truck - Corned Beef King
DESCRIPTION:
URL:https://loneoakbrewingco.com/event/food-truck-corned-beef-king/
LOCATION:Lone Oak Brewery\, 5000 Olney Laytonsville Rd\, Olney\, MD\, 20832\, United States
CATEGORIES:Food Truck
ATTACH;FMTTYPE=image/jpeg:https://loneoakbrewingco.com/wp-content/uploads/2022/03/cornedbeef.jpg
END:VEVENT
BEGIN:VEVENT
DTSTART;TZID=UTC:20220318T153000
DTEND;TZID=UTC:20220318T200000
DTSTAMP:20260422T233922
CREATED:20220315T233319Z
LAST-MODIFIED:20220315T233319Z
UID:169-1647617400-1647633600@loneoakbrewingco.com
SUMMARY:Food Truck - Grubbing Hard BBQ
DESCRIPTION:
URL:https://loneoakbrewingco.com/event/food-truck-grubbing-hard-bbq/
LOCATION:Lone Oak Brewery\, 5000 Olney Laytonsville Rd\, Olney\, MD\, 20832\, United States
CATEGORIES:Food Truck
ATTACH;FMTTYPE=image/jpeg:https://loneoakbrewingco.com/wp-content/uploads/2022/03/grubbin-hard.jpeg
END:VEVENT
BEGIN:VEVENT
DTSTART;TZID=UTC:20220318T120000
DTEND;TZID=UTC:20220318T200000
DTSTAMP:20260422T233922
CREATED:20220315T233642Z
LAST-MODIFIED:20220315T233642Z
UID:176-1647604800-1647633600@loneoakbrewingco.com
SUMMARY:Food Truck – Flipside Gastro
DESCRIPTION:
URL:https://loneoakbrewingco.com/event/food-truck-flipside-gastro/
LOCATION:Lone Oak Brewery\, 5000 Olney Laytonsville Rd\, Olney\, MD\, 20832\, United States
CATEGORIES:Food Truck
ATTACH;FMTTYPE=image/jpeg:https://loneoakbrewingco.com/wp-content/uploads/2022/03/flipside-gastro-truck.jpeg
END:VEVENT
END:VCALENDAR