BEGIN:VCALENDAR
VERSION:2.0
PRODID:-//Lone Oak Brewing Co. - ECPv6.15.20//NONSGML v1.0//EN
CALSCALE:GREGORIAN
METHOD:PUBLISH
X-WR-CALNAME:Lone Oak Brewing Co.
X-ORIGINAL-URL:https://loneoakbrewingco.com
X-WR-CALDESC:Events for Lone Oak Brewing Co.
REFRESH-INTERVAL;VALUE=DURATION:PT1H
X-Robots-Tag:noindex
X-PUBLISHED-TTL:PT1H
BEGIN:VTIMEZONE
TZID:UTC
BEGIN:STANDARD
TZOFFSETFROM:+0000
TZOFFSETTO:+0000
TZNAME:UTC
DTSTART:20230101T000000
END:STANDARD
END:VTIMEZONE
BEGIN:VEVENT
DTSTART;TZID=UTC:20250306T180000
DTEND;TZID=UTC:20250306T200000
DTSTAMP:20260421T153116
CREATED:20240103T202213Z
LAST-MODIFIED:20250122T091316Z
UID:4027-1741284000-1741291200@loneoakbrewingco.com
SUMMARY:TRIVIA
DESCRIPTION:Grab your thinking cap and test your knowledge with Pour House Trivia! Get a group together for prizes and $6 beer! All ages and levels are welcome.
URL:https://loneoakbrewingco.com/event/trivia-3-2025-03-06/
LOCATION:Lone Oak Brewery\, 5000 Olney Laytonsville Rd\, Olney\, MD\, 20832\, United States
CATEGORIES:Trivia
ATTACH;FMTTYPE=image/jpeg:https://loneoakbrewingco.com/wp-content/uploads/2023/08/pourhousetrivia-1.jpg
END:VEVENT
BEGIN:VEVENT
DTSTART;TZID=UTC:20250227T180000
DTEND;TZID=UTC:20250227T200000
DTSTAMP:20260421T153116
CREATED:20240103T202213Z
LAST-MODIFIED:20250122T091315Z
UID:4026-1740679200-1740686400@loneoakbrewingco.com
SUMMARY:TRIVIA
DESCRIPTION:Grab your thinking cap and test your knowledge with Pour House Trivia! Get a group together for prizes and $6 beer! All ages and levels are welcome.
URL:https://loneoakbrewingco.com/event/trivia-3-2025-02-27/
LOCATION:Lone Oak Brewery\, 5000 Olney Laytonsville Rd\, Olney\, MD\, 20832\, United States
CATEGORIES:Trivia
ATTACH;FMTTYPE=image/jpeg:https://loneoakbrewingco.com/wp-content/uploads/2023/08/pourhousetrivia-1.jpg
END:VEVENT
BEGIN:VEVENT
DTSTART;TZID=UTC:20250220T180000
DTEND;TZID=UTC:20250220T200000
DTSTAMP:20260421T153116
CREATED:20240103T202213Z
LAST-MODIFIED:20250122T091315Z
UID:4025-1740074400-1740081600@loneoakbrewingco.com
SUMMARY:TRIVIA
DESCRIPTION:Grab your thinking cap and test your knowledge with Pour House Trivia! Get a group together for prizes and $6 beer! All ages and levels are welcome.
URL:https://loneoakbrewingco.com/event/trivia-3-2025-02-20/
LOCATION:Lone Oak Brewery\, 5000 Olney Laytonsville Rd\, Olney\, MD\, 20832\, United States
CATEGORIES:Trivia
ATTACH;FMTTYPE=image/jpeg:https://loneoakbrewingco.com/wp-content/uploads/2023/08/pourhousetrivia-1.jpg
END:VEVENT
BEGIN:VEVENT
DTSTART;TZID=UTC:20250213T180000
DTEND;TZID=UTC:20250213T200000
DTSTAMP:20260421T153116
CREATED:20240103T202213Z
LAST-MODIFIED:20250122T091315Z
UID:4024-1739469600-1739476800@loneoakbrewingco.com
SUMMARY:TRIVIA
DESCRIPTION:Grab your thinking cap and test your knowledge with Pour House Trivia! Get a group together for prizes and $6 beer! All ages and levels are welcome.
URL:https://loneoakbrewingco.com/event/trivia-3-2025-02-13/
LOCATION:Lone Oak Brewery\, 5000 Olney Laytonsville Rd\, Olney\, MD\, 20832\, United States
CATEGORIES:Trivia
ATTACH;FMTTYPE=image/jpeg:https://loneoakbrewingco.com/wp-content/uploads/2023/08/pourhousetrivia-1.jpg
END:VEVENT
BEGIN:VEVENT
DTSTART;TZID=UTC:20250206T180000
DTEND;TZID=UTC:20250206T200000
DTSTAMP:20260421T153116
CREATED:20240103T202213Z
LAST-MODIFIED:20250122T091315Z
UID:4023-1738864800-1738872000@loneoakbrewingco.com
SUMMARY:TRIVIA
DESCRIPTION:Grab your thinking cap and test your knowledge with Pour House Trivia! Get a group together for prizes and $6 beer! All ages and levels are welcome.
URL:https://loneoakbrewingco.com/event/trivia-3-2025-02-06/
LOCATION:Lone Oak Brewery\, 5000 Olney Laytonsville Rd\, Olney\, MD\, 20832\, United States
CATEGORIES:Trivia
ATTACH;FMTTYPE=image/jpeg:https://loneoakbrewingco.com/wp-content/uploads/2023/08/pourhousetrivia-1.jpg
END:VEVENT
BEGIN:VEVENT
DTSTART;TZID=UTC:20250130T180000
DTEND;TZID=UTC:20250130T200000
DTSTAMP:20260421T153116
CREATED:20240103T202213Z
LAST-MODIFIED:20250122T091315Z
UID:4022-1738260000-1738267200@loneoakbrewingco.com
SUMMARY:TRIVIA
DESCRIPTION:Grab your thinking cap and test your knowledge with Pour House Trivia! Get a group together for prizes and $6 beer! All ages and levels are welcome.
URL:https://loneoakbrewingco.com/event/trivia-3-2025-01-30/
LOCATION:Lone Oak Brewery\, 5000 Olney Laytonsville Rd\, Olney\, MD\, 20832\, United States
CATEGORIES:Trivia
ATTACH;FMTTYPE=image/jpeg:https://loneoakbrewingco.com/wp-content/uploads/2023/08/pourhousetrivia-1.jpg
END:VEVENT
BEGIN:VEVENT
DTSTART;TZID=UTC:20250123T180000
DTEND;TZID=UTC:20250123T200000
DTSTAMP:20260421T153116
CREATED:20240103T202213Z
LAST-MODIFIED:20250122T091315Z
UID:4021-1737655200-1737662400@loneoakbrewingco.com
SUMMARY:TRIVIA
DESCRIPTION:Grab your thinking cap and test your knowledge with Pour House Trivia! Get a group together for prizes and $6 beer! All ages and levels are welcome.
URL:https://loneoakbrewingco.com/event/trivia-3-2025-01-23/
LOCATION:Lone Oak Brewery\, 5000 Olney Laytonsville Rd\, Olney\, MD\, 20832\, United States
CATEGORIES:Trivia
ATTACH;FMTTYPE=image/jpeg:https://loneoakbrewingco.com/wp-content/uploads/2023/08/pourhousetrivia-1.jpg
END:VEVENT
BEGIN:VEVENT
DTSTART;TZID=UTC:20250116T180000
DTEND;TZID=UTC:20250116T200000
DTSTAMP:20260421T153116
CREATED:20240103T202213Z
LAST-MODIFIED:20250122T091315Z
UID:4020-1737050400-1737057600@loneoakbrewingco.com
SUMMARY:TRIVIA
DESCRIPTION:Grab your thinking cap and test your knowledge with Pour House Trivia! Get a group together for prizes and $6 beer! All ages and levels are welcome.
URL:https://loneoakbrewingco.com/event/trivia-3-2025-01-16/
LOCATION:Lone Oak Brewery\, 5000 Olney Laytonsville Rd\, Olney\, MD\, 20832\, United States
CATEGORIES:Trivia
ATTACH;FMTTYPE=image/jpeg:https://loneoakbrewingco.com/wp-content/uploads/2023/08/pourhousetrivia-1.jpg
END:VEVENT
BEGIN:VEVENT
DTSTART;TZID=UTC:20250109T180000
DTEND;TZID=UTC:20250109T200000
DTSTAMP:20260421T153116
CREATED:20240103T202213Z
LAST-MODIFIED:20250122T091314Z
UID:4019-1736445600-1736452800@loneoakbrewingco.com
SUMMARY:TRIVIA
DESCRIPTION:Grab your thinking cap and test your knowledge with Pour House Trivia! Get a group together for prizes and $6 beer! All ages and levels are welcome.
URL:https://loneoakbrewingco.com/event/trivia-3-2025-01-09/
LOCATION:Lone Oak Brewery\, 5000 Olney Laytonsville Rd\, Olney\, MD\, 20832\, United States
CATEGORIES:Trivia
ATTACH;FMTTYPE=image/jpeg:https://loneoakbrewingco.com/wp-content/uploads/2023/08/pourhousetrivia-1.jpg
END:VEVENT
BEGIN:VEVENT
DTSTART;TZID=UTC:20250102T180000
DTEND;TZID=UTC:20250102T200000
DTSTAMP:20260421T153116
CREATED:20240103T202213Z
LAST-MODIFIED:20250122T091313Z
UID:4018-1735840800-1735848000@loneoakbrewingco.com
SUMMARY:TRIVIA
DESCRIPTION:Grab your thinking cap and test your knowledge with Pour House Trivia! Get a group together for prizes and $6 beer! All ages and levels are welcome.
URL:https://loneoakbrewingco.com/event/trivia-3-2025-01-02/
LOCATION:Lone Oak Brewery\, 5000 Olney Laytonsville Rd\, Olney\, MD\, 20832\, United States
CATEGORIES:Trivia
ATTACH;FMTTYPE=image/jpeg:https://loneoakbrewingco.com/wp-content/uploads/2023/08/pourhousetrivia-1.jpg
END:VEVENT
BEGIN:VEVENT
DTSTART;TZID=UTC:20241226T180000
DTEND;TZID=UTC:20241226T200000
DTSTAMP:20260421T153116
CREATED:20240103T202213Z
LAST-MODIFIED:20250122T091313Z
UID:4017-1735236000-1735243200@loneoakbrewingco.com
SUMMARY:TRIVIA
DESCRIPTION:Grab your thinking cap and test your knowledge with Pour House Trivia! Get a group together for prizes and $6 beer! All ages and levels are welcome.
URL:https://loneoakbrewingco.com/event/trivia-3-2024-12-26/
LOCATION:Lone Oak Brewery\, 5000 Olney Laytonsville Rd\, Olney\, MD\, 20832\, United States
CATEGORIES:Trivia
ATTACH;FMTTYPE=image/jpeg:https://loneoakbrewingco.com/wp-content/uploads/2023/08/pourhousetrivia-1.jpg
END:VEVENT
BEGIN:VEVENT
DTSTART;TZID=UTC:20241219T180000
DTEND;TZID=UTC:20241219T200000
DTSTAMP:20260421T153116
CREATED:20240103T202213Z
LAST-MODIFIED:20250122T091312Z
UID:4016-1734631200-1734638400@loneoakbrewingco.com
SUMMARY:TRIVIA
DESCRIPTION:Grab your thinking cap and test your knowledge with Pour House Trivia! Get a group together for prizes and $6 beer! All ages and levels are welcome.
URL:https://loneoakbrewingco.com/event/trivia-3-2024-12-19/
LOCATION:Lone Oak Brewery\, 5000 Olney Laytonsville Rd\, Olney\, MD\, 20832\, United States
CATEGORIES:Trivia
ATTACH;FMTTYPE=image/jpeg:https://loneoakbrewingco.com/wp-content/uploads/2023/08/pourhousetrivia-1.jpg
END:VEVENT
BEGIN:VEVENT
DTSTART;TZID=UTC:20241212T180000
DTEND;TZID=UTC:20241212T200000
DTSTAMP:20260421T153116
CREATED:20240103T202213Z
LAST-MODIFIED:20250122T091312Z
UID:4015-1734026400-1734033600@loneoakbrewingco.com
SUMMARY:TRIVIA
DESCRIPTION:Grab your thinking cap and test your knowledge with Pour House Trivia! Get a group together for prizes and $6 beer! All ages and levels are welcome.
URL:https://loneoakbrewingco.com/event/trivia-3-2024-12-12/
LOCATION:Lone Oak Brewery\, 5000 Olney Laytonsville Rd\, Olney\, MD\, 20832\, United States
CATEGORIES:Trivia
ATTACH;FMTTYPE=image/jpeg:https://loneoakbrewingco.com/wp-content/uploads/2023/08/pourhousetrivia-1.jpg
END:VEVENT
BEGIN:VEVENT
DTSTART;TZID=UTC:20241205T180000
DTEND;TZID=UTC:20241205T200000
DTSTAMP:20260421T153116
CREATED:20240103T202213Z
LAST-MODIFIED:20250122T091312Z
UID:4014-1733421600-1733428800@loneoakbrewingco.com
SUMMARY:TRIVIA
DESCRIPTION:Grab your thinking cap and test your knowledge with Pour House Trivia! Get a group together for prizes and $6 beer! All ages and levels are welcome.
URL:https://loneoakbrewingco.com/event/trivia-3-2024-12-05/
LOCATION:Lone Oak Brewery\, 5000 Olney Laytonsville Rd\, Olney\, MD\, 20832\, United States
CATEGORIES:Trivia
ATTACH;FMTTYPE=image/jpeg:https://loneoakbrewingco.com/wp-content/uploads/2023/08/pourhousetrivia-1.jpg
END:VEVENT
BEGIN:VEVENT
DTSTART;TZID=UTC:20241128T180000
DTEND;TZID=UTC:20241128T200000
DTSTAMP:20260421T153116
CREATED:20240103T202213Z
LAST-MODIFIED:20250122T091312Z
UID:4013-1732816800-1732824000@loneoakbrewingco.com
SUMMARY:TRIVIA
DESCRIPTION:Grab your thinking cap and test your knowledge with Pour House Trivia! Get a group together for prizes and $6 beer! All ages and levels are welcome.
URL:https://loneoakbrewingco.com/event/trivia-3-2024-11-28/
LOCATION:Lone Oak Brewery\, 5000 Olney Laytonsville Rd\, Olney\, MD\, 20832\, United States
CATEGORIES:Trivia
ATTACH;FMTTYPE=image/jpeg:https://loneoakbrewingco.com/wp-content/uploads/2023/08/pourhousetrivia-1.jpg
END:VEVENT
BEGIN:VEVENT
DTSTART;TZID=UTC:20241121T180000
DTEND;TZID=UTC:20241121T200000
DTSTAMP:20260421T153116
CREATED:20240103T202213Z
LAST-MODIFIED:20250122T091312Z
UID:4012-1732212000-1732219200@loneoakbrewingco.com
SUMMARY:TRIVIA
DESCRIPTION:Grab your thinking cap and test your knowledge with Pour House Trivia! Get a group together for prizes and $6 beer! All ages and levels are welcome.
URL:https://loneoakbrewingco.com/event/trivia-3-2024-11-21/
LOCATION:Lone Oak Brewery\, 5000 Olney Laytonsville Rd\, Olney\, MD\, 20832\, United States
CATEGORIES:Trivia
ATTACH;FMTTYPE=image/jpeg:https://loneoakbrewingco.com/wp-content/uploads/2023/08/pourhousetrivia-1.jpg
END:VEVENT
BEGIN:VEVENT
DTSTART;TZID=UTC:20241114T180000
DTEND;TZID=UTC:20241114T200000
DTSTAMP:20260421T153116
CREATED:20240103T202213Z
LAST-MODIFIED:20250122T091312Z
UID:4011-1731607200-1731614400@loneoakbrewingco.com
SUMMARY:TRIVIA
DESCRIPTION:Grab your thinking cap and test your knowledge with Pour House Trivia! Get a group together for prizes and $6 beer! All ages and levels are welcome.
URL:https://loneoakbrewingco.com/event/trivia-3-2024-11-14/
LOCATION:Lone Oak Brewery\, 5000 Olney Laytonsville Rd\, Olney\, MD\, 20832\, United States
CATEGORIES:Trivia
ATTACH;FMTTYPE=image/jpeg:https://loneoakbrewingco.com/wp-content/uploads/2023/08/pourhousetrivia-1.jpg
END:VEVENT
BEGIN:VEVENT
DTSTART;TZID=UTC:20241107T180000
DTEND;TZID=UTC:20241107T200000
DTSTAMP:20260421T153116
CREATED:20240103T202213Z
LAST-MODIFIED:20250122T091311Z
UID:4010-1731002400-1731009600@loneoakbrewingco.com
SUMMARY:TRIVIA
DESCRIPTION:Grab your thinking cap and test your knowledge with Pour House Trivia! Get a group together for prizes and $6 beer! All ages and levels are welcome.
URL:https://loneoakbrewingco.com/event/trivia-3-2024-11-07/
LOCATION:Lone Oak Brewery\, 5000 Olney Laytonsville Rd\, Olney\, MD\, 20832\, United States
CATEGORIES:Trivia
ATTACH;FMTTYPE=image/jpeg:https://loneoakbrewingco.com/wp-content/uploads/2023/08/pourhousetrivia-1.jpg
END:VEVENT
BEGIN:VEVENT
DTSTART;TZID=UTC:20241031T180000
DTEND;TZID=UTC:20241031T200000
DTSTAMP:20260421T153116
CREATED:20240103T202213Z
LAST-MODIFIED:20250122T091311Z
UID:4009-1730397600-1730404800@loneoakbrewingco.com
SUMMARY:TRIVIA
DESCRIPTION:Grab your thinking cap and test your knowledge with Pour House Trivia! Get a group together for prizes and $6 beer! All ages and levels are welcome.
URL:https://loneoakbrewingco.com/event/trivia-3-2024-10-31/
LOCATION:Lone Oak Brewery\, 5000 Olney Laytonsville Rd\, Olney\, MD\, 20832\, United States
CATEGORIES:Trivia
ATTACH;FMTTYPE=image/jpeg:https://loneoakbrewingco.com/wp-content/uploads/2023/08/pourhousetrivia-1.jpg
END:VEVENT
BEGIN:VEVENT
DTSTART;TZID=UTC:20241024T180000
DTEND;TZID=UTC:20241024T200000
DTSTAMP:20260421T153116
CREATED:20240103T202213Z
LAST-MODIFIED:20250122T091309Z
UID:4008-1729792800-1729800000@loneoakbrewingco.com
SUMMARY:TRIVIA
DESCRIPTION:Grab your thinking cap and test your knowledge with Pour House Trivia! Get a group together for prizes and $6 beer! All ages and levels are welcome.
URL:https://loneoakbrewingco.com/event/trivia-3-2024-10-24/
LOCATION:Lone Oak Brewery\, 5000 Olney Laytonsville Rd\, Olney\, MD\, 20832\, United States
CATEGORIES:Trivia
ATTACH;FMTTYPE=image/jpeg:https://loneoakbrewingco.com/wp-content/uploads/2023/08/pourhousetrivia-1.jpg
END:VEVENT
BEGIN:VEVENT
DTSTART;TZID=UTC:20241017T180000
DTEND;TZID=UTC:20241017T200000
DTSTAMP:20260421T153116
CREATED:20240103T202213Z
LAST-MODIFIED:20250122T091309Z
UID:4007-1729188000-1729195200@loneoakbrewingco.com
SUMMARY:TRIVIA
DESCRIPTION:Grab your thinking cap and test your knowledge with Pour House Trivia! Get a group together for prizes and $6 beer! All ages and levels are welcome.
URL:https://loneoakbrewingco.com/event/trivia-3-2024-10-17/
LOCATION:Lone Oak Brewery\, 5000 Olney Laytonsville Rd\, Olney\, MD\, 20832\, United States
CATEGORIES:Trivia
ATTACH;FMTTYPE=image/jpeg:https://loneoakbrewingco.com/wp-content/uploads/2023/08/pourhousetrivia-1.jpg
END:VEVENT
BEGIN:VEVENT
DTSTART;TZID=UTC:20241010T180000
DTEND;TZID=UTC:20241010T200000
DTSTAMP:20260421T153116
CREATED:20240103T202213Z
LAST-MODIFIED:20250122T091309Z
UID:4006-1728583200-1728590400@loneoakbrewingco.com
SUMMARY:TRIVIA
DESCRIPTION:Grab your thinking cap and test your knowledge with Pour House Trivia! Get a group together for prizes and $6 beer! All ages and levels are welcome.
URL:https://loneoakbrewingco.com/event/trivia-3-2024-10-10/
LOCATION:Lone Oak Brewery\, 5000 Olney Laytonsville Rd\, Olney\, MD\, 20832\, United States
CATEGORIES:Trivia
ATTACH;FMTTYPE=image/jpeg:https://loneoakbrewingco.com/wp-content/uploads/2023/08/pourhousetrivia-1.jpg
END:VEVENT
BEGIN:VEVENT
DTSTART;TZID=UTC:20241003T180000
DTEND;TZID=UTC:20241003T200000
DTSTAMP:20260421T153116
CREATED:20240103T202213Z
LAST-MODIFIED:20250122T091309Z
UID:4005-1727978400-1727985600@loneoakbrewingco.com
SUMMARY:TRIVIA
DESCRIPTION:Grab your thinking cap and test your knowledge with Pour House Trivia! Get a group together for prizes and $6 beer! All ages and levels are welcome.
URL:https://loneoakbrewingco.com/event/trivia-3-2024-10-03/
LOCATION:Lone Oak Brewery\, 5000 Olney Laytonsville Rd\, Olney\, MD\, 20832\, United States
CATEGORIES:Trivia
ATTACH;FMTTYPE=image/jpeg:https://loneoakbrewingco.com/wp-content/uploads/2023/08/pourhousetrivia-1.jpg
END:VEVENT
BEGIN:VEVENT
DTSTART;TZID=UTC:20240926T180000
DTEND;TZID=UTC:20240926T200000
DTSTAMP:20260421T153116
CREATED:20240103T202213Z
LAST-MODIFIED:20250122T091309Z
UID:4004-1727373600-1727380800@loneoakbrewingco.com
SUMMARY:TRIVIA
DESCRIPTION:Grab your thinking cap and test your knowledge with Pour House Trivia! Get a group together for prizes and $6 beer! All ages and levels are welcome.
URL:https://loneoakbrewingco.com/event/trivia-3-2024-09-26/
LOCATION:Lone Oak Brewery\, 5000 Olney Laytonsville Rd\, Olney\, MD\, 20832\, United States
CATEGORIES:Trivia
ATTACH;FMTTYPE=image/jpeg:https://loneoakbrewingco.com/wp-content/uploads/2023/08/pourhousetrivia-1.jpg
END:VEVENT
BEGIN:VEVENT
DTSTART;TZID=UTC:20240919T180000
DTEND;TZID=UTC:20240919T200000
DTSTAMP:20260421T153116
CREATED:20240103T202213Z
LAST-MODIFIED:20250122T091309Z
UID:4003-1726768800-1726776000@loneoakbrewingco.com
SUMMARY:TRIVIA
DESCRIPTION:Grab your thinking cap and test your knowledge with Pour House Trivia! Get a group together for prizes and $6 beer! All ages and levels are welcome.
URL:https://loneoakbrewingco.com/event/trivia-3-2024-09-19/
LOCATION:Lone Oak Brewery\, 5000 Olney Laytonsville Rd\, Olney\, MD\, 20832\, United States
CATEGORIES:Trivia
ATTACH;FMTTYPE=image/jpeg:https://loneoakbrewingco.com/wp-content/uploads/2023/08/pourhousetrivia-1.jpg
END:VEVENT
BEGIN:VEVENT
DTSTART;TZID=UTC:20240912T180000
DTEND;TZID=UTC:20240912T200000
DTSTAMP:20260421T153116
CREATED:20240103T202213Z
LAST-MODIFIED:20250122T091308Z
UID:4002-1726164000-1726171200@loneoakbrewingco.com
SUMMARY:TRIVIA
DESCRIPTION:Grab your thinking cap and test your knowledge with Pour House Trivia! Get a group together for prizes and $6 beer! All ages and levels are welcome.
URL:https://loneoakbrewingco.com/event/trivia-3-2024-09-12/
LOCATION:Lone Oak Brewery\, 5000 Olney Laytonsville Rd\, Olney\, MD\, 20832\, United States
CATEGORIES:Trivia
ATTACH;FMTTYPE=image/jpeg:https://loneoakbrewingco.com/wp-content/uploads/2023/08/pourhousetrivia-1.jpg
END:VEVENT
BEGIN:VEVENT
DTSTART;TZID=UTC:20240905T180000
DTEND;TZID=UTC:20240905T200000
DTSTAMP:20260421T153116
CREATED:20240103T202213Z
LAST-MODIFIED:20250122T091308Z
UID:4001-1725559200-1725566400@loneoakbrewingco.com
SUMMARY:TRIVIA
DESCRIPTION:Grab your thinking cap and test your knowledge with Pour House Trivia! Get a group together for prizes and $6 beer! All ages and levels are welcome.
URL:https://loneoakbrewingco.com/event/trivia-3-2024-09-05/
LOCATION:Lone Oak Brewery\, 5000 Olney Laytonsville Rd\, Olney\, MD\, 20832\, United States
CATEGORIES:Trivia
ATTACH;FMTTYPE=image/jpeg:https://loneoakbrewingco.com/wp-content/uploads/2023/08/pourhousetrivia-1.jpg
END:VEVENT
BEGIN:VEVENT
DTSTART;TZID=UTC:20240829T180000
DTEND;TZID=UTC:20240829T200000
DTSTAMP:20260421T153116
CREATED:20240103T202213Z
LAST-MODIFIED:20250122T091308Z
UID:4000-1724954400-1724961600@loneoakbrewingco.com
SUMMARY:TRIVIA
DESCRIPTION:Grab your thinking cap and test your knowledge with Pour House Trivia! Get a group together for prizes and $6 beer! All ages and levels are welcome.
URL:https://loneoakbrewingco.com/event/trivia-3-2024-08-29/
LOCATION:Lone Oak Brewery\, 5000 Olney Laytonsville Rd\, Olney\, MD\, 20832\, United States
CATEGORIES:Trivia
ATTACH;FMTTYPE=image/jpeg:https://loneoakbrewingco.com/wp-content/uploads/2023/08/pourhousetrivia-1.jpg
END:VEVENT
BEGIN:VEVENT
DTSTART;TZID=UTC:20240822T180000
DTEND;TZID=UTC:20240822T200000
DTSTAMP:20260421T153116
CREATED:20240103T202213Z
LAST-MODIFIED:20250122T091308Z
UID:3999-1724349600-1724356800@loneoakbrewingco.com
SUMMARY:TRIVIA
DESCRIPTION:Grab your thinking cap and test your knowledge with Pour House Trivia! Get a group together for prizes and $6 beer! All ages and levels are welcome.
URL:https://loneoakbrewingco.com/event/trivia-3-2024-08-22/
LOCATION:Lone Oak Brewery\, 5000 Olney Laytonsville Rd\, Olney\, MD\, 20832\, United States
CATEGORIES:Trivia
ATTACH;FMTTYPE=image/jpeg:https://loneoakbrewingco.com/wp-content/uploads/2023/08/pourhousetrivia-1.jpg
END:VEVENT
BEGIN:VEVENT
DTSTART;TZID=UTC:20240815T180000
DTEND;TZID=UTC:20240815T200000
DTSTAMP:20260421T153116
CREATED:20240103T202213Z
LAST-MODIFIED:20250122T091303Z
UID:3998-1723744800-1723752000@loneoakbrewingco.com
SUMMARY:TRIVIA
DESCRIPTION:Grab your thinking cap and test your knowledge with Pour House Trivia! Get a group together for prizes and $6 beer! All ages and levels are welcome.
URL:https://loneoakbrewingco.com/event/trivia-3-2024-08-15/
LOCATION:Lone Oak Brewery\, 5000 Olney Laytonsville Rd\, Olney\, MD\, 20832\, United States
CATEGORIES:Trivia
ATTACH;FMTTYPE=image/jpeg:https://loneoakbrewingco.com/wp-content/uploads/2023/08/pourhousetrivia-1.jpg
END:VEVENT
END:VCALENDAR