BEGIN:VCALENDAR
VERSION:2.0
PRODID:-//Lone Oak Brewing Co. - ECPv6.15.20//NONSGML v1.0//EN
CALSCALE:GREGORIAN
METHOD:PUBLISH
X-WR-CALNAME:Lone Oak Brewing Co.
X-ORIGINAL-URL:https://loneoakbrewingco.com
X-WR-CALDESC:Events for Lone Oak Brewing Co.
REFRESH-INTERVAL;VALUE=DURATION:PT1H
X-Robots-Tag:noindex
X-PUBLISHED-TTL:PT1H
BEGIN:VTIMEZONE
TZID:UTC
BEGIN:STANDARD
TZOFFSETFROM:+0000
TZOFFSETTO:+0000
TZNAME:UTC
DTSTART:20210101T000000
END:STANDARD
END:VTIMEZONE
BEGIN:VEVENT
DTSTART;TZID=UTC:20220527T130000
DTEND;TZID=UTC:20220527T200000
DTSTAMP:20260423T063058
CREATED:20220507T004838Z
LAST-MODIFIED:20220507T004838Z
UID:1075-1653656400-1653681600@loneoakbrewingco.com
SUMMARY:FOOD TRUCK - BOOMBAS KITCHEN
DESCRIPTION:
URL:https://loneoakbrewingco.com/event/food-truck-boombas-kitchen-4/
LOCATION:Lone Oak Brewery\, 5000 Olney Laytonsville Rd\, Olney\, MD\, 20832\, United States
CATEGORIES:Food Truck
ATTACH;FMTTYPE=image/jpeg:https://loneoakbrewingco.com/wp-content/uploads/2022/03/boombas.jpg
END:VEVENT
BEGIN:VEVENT
DTSTART;TZID=UTC:20220527T160000
DTEND;TZID=UTC:20220527T190000
DTSTAMP:20260423T063058
CREATED:20220507T020023Z
LAST-MODIFIED:20220507T020023Z
UID:1102-1653667200-1653678000@loneoakbrewingco.com
SUMMARY:LIVE MUSIC - JOHN DECESARE
DESCRIPTION:
URL:https://loneoakbrewingco.com/event/live-music-john-decesare/
LOCATION:Lone Oak Brewery\, 5000 Olney Laytonsville Rd\, Olney\, MD\, 20832\, United States
CATEGORIES:Live Music
ATTACH;FMTTYPE=image/png:https://loneoakbrewingco.com/wp-content/uploads/2022/05/Screen-Shot-2022-05-06-at-6.00.04-PM.png
END:VEVENT
BEGIN:VEVENT
DTSTART;TZID=UTC:20220528T120000
DTEND;TZID=UTC:20220528T200000
DTSTAMP:20260423T063058
CREATED:20220507T005112Z
LAST-MODIFIED:20220507T005131Z
UID:1077-1653739200-1653768000@loneoakbrewingco.com
SUMMARY:FOOD TRUCK - WI JAMMIN
DESCRIPTION:
URL:https://loneoakbrewingco.com/event/food-truck-wi-jammin/
LOCATION:Lone Oak Brewery\, 5000 Olney Laytonsville Rd\, Olney\, MD\, 20832\, United States
CATEGORIES:Food Truck
ATTACH;FMTTYPE=image/png:https://loneoakbrewingco.com/wp-content/uploads/2022/05/Screen-Shot-2022-05-03-at-12.36.05-PM.png
END:VEVENT
BEGIN:VEVENT
DTSTART;TZID=UTC:20220528T140000
DTEND;TZID=UTC:20220528T170000
DTSTAMP:20260423T063058
CREATED:20220507T020514Z
LAST-MODIFIED:20220507T020514Z
UID:1107-1653746400-1653757200@loneoakbrewingco.com
SUMMARY:LIVE MUSIC - DAVE CHAPPELL
DESCRIPTION:
URL:https://loneoakbrewingco.com/event/live-music-dave-chappell/
LOCATION:Lone Oak Brewery\, 5000 Olney Laytonsville Rd\, Olney\, MD\, 20832\, United States
CATEGORIES:Live Music
ATTACH;FMTTYPE=image/jpeg:https://loneoakbrewingco.com/wp-content/uploads/2022/04/Dave-Chappelle-e1651874705345.jpg
END:VEVENT
BEGIN:VEVENT
DTSTART;TZID=UTC:20220529T120000
DTEND;TZID=UTC:20220529T190000
DTSTAMP:20260423T063058
CREATED:20220521T010307Z
LAST-MODIFIED:20220521T010412Z
UID:1447-1653825600-1653850800@loneoakbrewingco.com
SUMMARY:Kuk's Tribute Cuisine
DESCRIPTION:
URL:https://loneoakbrewingco.com/event/kuks-tribute-cuisine/
LOCATION:Lone Oak Brewery\, 5000 Olney Laytonsville Rd\, Olney\, MD\, 20832\, United States
CATEGORIES:Food Truck
ATTACH;FMTTYPE=image/png:https://loneoakbrewingco.com/wp-content/uploads/2022/05/Screen-Shot-2022-05-20-at-5.01.53-PM-e1653080636514.png
END:VEVENT
BEGIN:VEVENT
DTSTART;TZID=UTC:20220529T140000
DTEND;TZID=UTC:20220529T170000
DTSTAMP:20260423T063058
CREATED:20220507T022852Z
LAST-MODIFIED:20220507T023315Z
UID:1109-1653832800-1653843600@loneoakbrewingco.com
SUMMARY:LIVE MUSIC - LUKE ANDREWS
DESCRIPTION:
URL:https://loneoakbrewingco.com/event/live-music-luke-andrews/
LOCATION:Lone Oak Brewery\, 5000 Olney Laytonsville Rd\, Olney\, MD\, 20832\, United States
CATEGORIES:Live Music
ATTACH;FMTTYPE=image/png:https://loneoakbrewingco.com/wp-content/uploads/2022/05/Screen-Shot-2022-05-06-at-6.32.40-PM.png
END:VEVENT
BEGIN:VEVENT
DTSTART;TZID=UTC:20220530T120000
DTEND;TZID=UTC:20220530T190000
DTSTAMP:20260423T063058
CREATED:20220524T211157Z
LAST-MODIFIED:20220529T043459Z
UID:1450-1653912000-1653937200@loneoakbrewingco.com
SUMMARY:Food Truck - THE HALAL KINGZ
DESCRIPTION:
URL:https://loneoakbrewingco.com/event/food-truck-the-halal-kingz/
LOCATION:Lone Oak Brewery\, 5000 Olney Laytonsville Rd\, Olney\, MD\, 20832\, United States
CATEGORIES:Food Truck
ATTACH;FMTTYPE=image/png:https://loneoakbrewingco.com/wp-content/uploads/2022/05/Screen-Shot-2022-05-24-at-1.11.19-PM-e1653412415781.png
END:VEVENT
BEGIN:VEVENT
DTSTART;TZID=UTC:20220530T140000
DTEND;TZID=UTC:20220530T170000
DTSTAMP:20260423T063058
CREATED:20220512T003351Z
LAST-MODIFIED:20220512T003351Z
UID:1251-1653919200-1653930000@loneoakbrewingco.com
SUMMARY:LIVE MUSIC - BRADY OCONOR
DESCRIPTION:
URL:https://loneoakbrewingco.com/event/live-music-brady-oconor-3/
LOCATION:Lone Oak Brewery\, 5000 Olney Laytonsville Rd\, Olney\, MD\, 20832\, United States
CATEGORIES:Live Music
ATTACH;FMTTYPE=image/jpeg:https://loneoakbrewingco.com/wp-content/uploads/2022/03/brady-oconor.jpg
END:VEVENT
BEGIN:VEVENT
DTSTART;TZID=UTC:20220602T170000
DTEND;TZID=UTC:20220602T210000
DTSTAMP:20260423T063058
CREATED:20220512T005423Z
LAST-MODIFIED:20220512T231424Z
UID:1253-1654189200-1654203600@loneoakbrewingco.com
SUMMARY:FOOD TRUCK - CORNED BEEF KING
DESCRIPTION:
URL:https://loneoakbrewingco.com/event/food-truck-corned-beef-king-5/
LOCATION:Lone Oak Brewery\, 5000 Olney Laytonsville Rd\, Olney\, MD\, 20832\, United States
CATEGORIES:Food Truck
ATTACH;FMTTYPE=image/jpeg:https://loneoakbrewingco.com/wp-content/uploads/2022/03/cornedbeef.jpg
END:VEVENT
BEGIN:VEVENT
DTSTART;TZID=UTC:20220602T190000
DTEND;TZID=UTC:20220602T210000
DTSTAMP:20260423T063058
CREATED:20220512T045854Z
LAST-MODIFIED:20220527T003707Z
UID:1284-1654196400-1654203600@loneoakbrewingco.com
SUMMARY:LAUGH AT LONE OAK COMEDY SHOW
DESCRIPTION:with national touring comedians DYLAN VATTELANA and JACKIE FLYNN \n\n\n\n\nJackie Flynn is an actor and comedian you may recognize from “The King of Queens\,” or “Veep” and is the winner of the prestigious San Francisco Comedy Competition. \nDylan Vattelana is a stand-up comedian\, actor\, sketch writer\, performing at some of New York City’s most famous comedy clubs. A finalist at the World Series of Comedy\, Dylan has performed with some of the biggest names in comedy. \n\nPurchase tickets here \nUse coupon code “5 off” for discount on tickets when you purchase a ticket to our Farmer’s and Friends Festival June 11th!
URL:https://loneoakbrewingco.com/event/laugh-at-lone-oak-comedy-show/
LOCATION:Lone Oak Brewery\, 5000 Olney Laytonsville Rd\, Olney\, MD\, 20832\, United States
CATEGORIES:Ticketed Event
ATTACH;FMTTYPE=image/png:https://loneoakbrewingco.com/wp-content/uploads/2022/05/Screen-Shot-2022-05-11-at-8.58.28-PM.png
END:VEVENT
BEGIN:VEVENT
DTSTART;TZID=UTC:20220603T160000
DTEND;TZID=UTC:20220603T190000
DTSTAMP:20260423T063058
CREATED:20220512T005823Z
LAST-MODIFIED:20220512T005823Z
UID:1255-1654272000-1654282800@loneoakbrewingco.com
SUMMARY:LIVE MUSIC - MICHAEL FALCONE
DESCRIPTION:
URL:https://loneoakbrewingco.com/event/live-music-michael-falcone/
LOCATION:Lone Oak Brewery\, 5000 Olney Laytonsville Rd\, Olney\, MD\, 20832\, United States
CATEGORIES:Live Music
ATTACH;FMTTYPE=image/jpeg:https://loneoakbrewingco.com/wp-content/uploads/2022/03/background-oak.jpg
END:VEVENT
BEGIN:VEVENT
DTSTART;TZID=UTC:20220603T160000
DTEND;TZID=UTC:20220603T200000
DTSTAMP:20260423T063058
CREATED:20220603T043405Z
LAST-MODIFIED:20220603T043405Z
UID:1213-1654272000-1654286400@loneoakbrewingco.com
SUMMARY:FOOD TRUCK - BOOMBAS KITCHEN
DESCRIPTION:
URL:https://loneoakbrewingco.com/event/food-truck-boombas-kitchen-20/
LOCATION:MD
CATEGORIES:Food Truck
ATTACH;FMTTYPE=image/jpeg:https://loneoakbrewingco.com/wp-content/uploads/2022/03/boombas.jpg
END:VEVENT
BEGIN:VEVENT
DTSTART;TZID=UTC:20220604T120000
DTEND;TZID=UTC:20220604T200000
DTSTAMP:20260423T063058
CREATED:20220507T235621Z
LAST-MODIFIED:20220507T235621Z
UID:1129-1654344000-1654372800@loneoakbrewingco.com
SUMMARY:FOOD TRUCK - BUN'D UP
DESCRIPTION:
URL:https://loneoakbrewingco.com/event/food-truck-bund-up-2/
LOCATION:Lone Oak Brewery\, 5000 Olney Laytonsville Rd\, Olney\, MD\, 20832\, United States
CATEGORIES:Food Truck
ATTACH;FMTTYPE=image/jpeg:https://loneoakbrewingco.com/wp-content/uploads/2022/04/bundup-Edit-rotated-e1627678270867.jpg
END:VEVENT
BEGIN:VEVENT
DTSTART;TZID=UTC:20220604T120000
DTEND;TZID=UTC:20220604T200000
DTSTAMP:20260423T063058
CREATED:20220507T235735Z
LAST-MODIFIED:20220508T033326Z
UID:1131-1654344000-1654372800@loneoakbrewingco.com
SUMMARY:FOOD TRUCK - GRUBBING HARD BBQ
DESCRIPTION:
URL:https://loneoakbrewingco.com/event/food-truck-grubbing-hard-4/
LOCATION:Lone Oak Brewery\, 5000 Olney Laytonsville Rd\, Olney\, MD\, 20832\, United States
CATEGORIES:Food Truck
ATTACH;FMTTYPE=image/png:https://loneoakbrewingco.com/wp-content/uploads/2022/05/Screen-Shot-2022-05-06-at-4.05.11-PM-1-e1651867741708.png
END:VEVENT
BEGIN:VEVENT
DTSTART;TZID=UTC:20220604T140000
DTEND;TZID=UTC:20220604T170000
DTSTAMP:20260423T063058
CREATED:20220512T030601Z
LAST-MODIFIED:20220512T030601Z
UID:1260-1654351200-1654362000@loneoakbrewingco.com
SUMMARY:LIVE MUSIC - JOSEPH MONASTERIAL
DESCRIPTION:
URL:https://loneoakbrewingco.com/event/live-music-joseph-monasterial-2/
LOCATION:Lone Oak Brewery\, 5000 Olney Laytonsville Rd\, Olney\, MD\, 20832\, United States
CATEGORIES:Live Music
ATTACH;FMTTYPE=image/jpeg:https://loneoakbrewingco.com/wp-content/uploads/2022/04/joseph-music-e1628112971737.jpg
END:VEVENT
BEGIN:VEVENT
DTSTART;TZID=UTC:20220605T120000
DTEND;TZID=UTC:20220605T190000
DTSTAMP:20260423T063058
CREATED:20220527T022740Z
LAST-MODIFIED:20220527T022740Z
UID:1457-1654430400-1654455600@loneoakbrewingco.com
SUMMARY:FOOD TRUCK - THE HALAL KINGZ
DESCRIPTION:
URL:https://loneoakbrewingco.com/event/food-truck-the-halal-kingz-2/
LOCATION:Lone Oak Brewery\, 5000 Olney Laytonsville Rd\, Olney\, MD\, 20832\, United States
CATEGORIES:Food Truck
ATTACH;FMTTYPE=image/png:https://loneoakbrewingco.com/wp-content/uploads/2022/05/Screen-Shot-2022-05-24-at-1.11.19-PM-e1653412415781.png
END:VEVENT
BEGIN:VEVENT
DTSTART;TZID=UTC:20220605T140000
DTEND;TZID=UTC:20220605T170000
DTSTAMP:20260423T063058
CREATED:20220512T011702Z
LAST-MODIFIED:20220512T011702Z
UID:1257-1654437600-1654448400@loneoakbrewingco.com
SUMMARY:LIVE MUSIC - DOMINICA KNAPP
DESCRIPTION:
URL:https://loneoakbrewingco.com/event/live-music-dominica-knapp/
LOCATION:Lone Oak Brewery\, 5000 Olney Laytonsville Rd\, Olney\, MD\, 20832\, United States
CATEGORIES:Live Music
ATTACH;FMTTYPE=image/png:https://loneoakbrewingco.com/wp-content/uploads/2022/05/DOMINICA-KNAPP.png
END:VEVENT
BEGIN:VEVENT
DTSTART;TZID=UTC:20220610T150000
DTEND;TZID=UTC:20220610T200000
DTSTAMP:20260423T063058
CREATED:20220508T000557Z
LAST-MODIFIED:20220608T021205Z
UID:1135-1654873200-1654891200@loneoakbrewingco.com
SUMMARY:FOOD TRUCK - POP UP POUTINE
DESCRIPTION:
URL:https://loneoakbrewingco.com/event/food-truck-pop-up-poutine/
LOCATION:Lone Oak Brewery\, 5000 Olney Laytonsville Rd\, Olney\, MD\, 20832\, United States
CATEGORIES:Food Truck
ATTACH;FMTTYPE=image/png:https://loneoakbrewingco.com/wp-content/uploads/2022/05/Screen-Shot-2022-05-03-at-12.17.34-PM.png
END:VEVENT
BEGIN:VEVENT
DTSTART;TZID=UTC:20220610T160000
DTEND;TZID=UTC:20220610T190000
DTSTAMP:20260423T063058
CREATED:20220512T031517Z
LAST-MODIFIED:20220604T202752Z
UID:1262-1654876800-1654887600@loneoakbrewingco.com
SUMMARY:LIVE MUSIC - THE OUTTAKES
DESCRIPTION:
URL:https://loneoakbrewingco.com/event/live-music-the-outtakes/
LOCATION:Lone Oak Brewery\, 5000 Olney Laytonsville Rd\, Olney\, MD\, 20832\, United States
CATEGORIES:Live Music
ATTACH;FMTTYPE=image/png:https://loneoakbrewingco.com/wp-content/uploads/2022/05/Screen-Shot-2022-06-04-at-12.24.06-PM.png
END:VEVENT
BEGIN:VEVENT
DTSTART;VALUE=DATE:20220611
DTEND;VALUE=DATE:20220612
DTSTAMP:20260423T063058
CREATED:20220430T044600Z
LAST-MODIFIED:20220512T031711Z
UID:999-1654905600-1654991999@loneoakbrewingco.com
SUMMARY:2nd Annual Farmers & Friends Festival
DESCRIPTION:ALL. DAY. FUN! You won’t want to miss LONE OAK FARM’S 2nd ANNUAL FARMERS AND FRIENDS FESTIVAL! We’re talkin’ 6 BREWERIES\, A WINERY\, DISTILLERY\, MEADERY\, AND CIDERY – plus 3 food trucks\, 12 vendors and Nashville’s own JOHN KING COUNTRY BAND!   \nADULT TICKETS ARE $30\, ‘UNDER 21’ TICKETS ARE $12. CHILDREN 3 AND UNDER ARE FREE  \n*Entrance fee: $30/pp\, includes 5 tasting tickets you can redeem with any brewery\, winery\, meadery\, cidery or distillery \n*1 ticket = one 4oz sample of beer (smaller sample sizes for a winery/distillery) \n*Guests can purchase additional tickets on-site \nPARKING IS $10
URL:https://loneoakbrewingco.com/event/2nd-annual-farmers-friends-festival/
LOCATION:Lone Oak Brewery\, 5000 Olney Laytonsville Rd\, Olney\, MD\, 20832\, United States
CATEGORIES:Festival
ATTACH;FMTTYPE=image/jpeg:https://loneoakbrewingco.com/wp-content/uploads/2022/04/2022-FARMERS-AND-FRIENDS-FLYER-4-scaled-e1651279545105.jpg
END:VEVENT
BEGIN:VEVENT
DTSTART;TZID=UTC:20220611T120000
DTEND;TZID=UTC:20220611T200000
DTSTAMP:20260423T063058
CREATED:20220508T000758Z
LAST-MODIFIED:20220508T000758Z
UID:1137-1654948800-1654977600@loneoakbrewingco.com
SUMMARY:FOOD TRUCK - FLIPSIDE GASTRO
DESCRIPTION:
URL:https://loneoakbrewingco.com/event/food-truck-flipside-gastro-6/
LOCATION:Lone Oak Brewery\, 5000 Olney Laytonsville Rd\, Olney\, MD\, 20832\, United States
CATEGORIES:Food Truck
ATTACH;FMTTYPE=image/jpeg:https://loneoakbrewingco.com/wp-content/uploads/2022/03/flipside-gastro-truck.jpeg
END:VEVENT
BEGIN:VEVENT
DTSTART;TZID=UTC:20220611T120000
DTEND;TZID=UTC:20220611T200000
DTSTAMP:20260423T063058
CREATED:20220512T224930Z
LAST-MODIFIED:20220512T224930Z
UID:1294-1654948800-1654977600@loneoakbrewingco.com
SUMMARY:FOOD TRUCK - BUN'D UP
DESCRIPTION:
URL:https://loneoakbrewingco.com/event/food-truck-bund-up-5/
LOCATION:Lone Oak Brewery\, 5000 Olney Laytonsville Rd\, Olney\, MD\, 20832\, United States
CATEGORIES:Food Truck
ATTACH;FMTTYPE=image/jpeg:https://loneoakbrewingco.com/wp-content/uploads/2022/04/bundup-Edit-rotated-e1627678270867.jpg
END:VEVENT
BEGIN:VEVENT
DTSTART;TZID=UTC:20220611T150000
DTEND;TZID=UTC:20220611T200000
DTSTAMP:20260423T063058
CREATED:20220508T000949Z
LAST-MODIFIED:20220512T225111Z
UID:1139-1654959600-1654977600@loneoakbrewingco.com
SUMMARY:FOOD TRUCK - PHO WHEELS
DESCRIPTION:
URL:https://loneoakbrewingco.com/event/food-truck-pho-wheels-4/
LOCATION:Lone Oak Brewery\, 5000 Olney Laytonsville Rd\, Olney\, MD\, 20832\, United States
CATEGORIES:Food Truck
ATTACH;FMTTYPE=image/jpeg:https://loneoakbrewingco.com/wp-content/uploads/2022/04/phowheels-e1631744329223.jpg
END:VEVENT
BEGIN:VEVENT
DTSTART;TZID=UTC:20220612T120000
DTEND;TZID=UTC:20220612T190000
DTSTAMP:20260423T063058
CREATED:20220508T001345Z
LAST-MODIFIED:20220717T225953Z
UID:1141-1655035200-1655060400@loneoakbrewingco.com
SUMMARY:FOOD TRUCK - REGULAR FOODZ
DESCRIPTION:
URL:https://loneoakbrewingco.com/event/food-truck-regular-foods/
LOCATION:Lone Oak Brewery\, 5000 Olney Laytonsville Rd\, Olney\, MD\, 20832\, United States
CATEGORIES:Food Truck
ATTACH;FMTTYPE=image/jpeg:https://loneoakbrewingco.com/wp-content/uploads/2022/03/background-oak.jpg
END:VEVENT
BEGIN:VEVENT
DTSTART;TZID=UTC:20220612T140000
DTEND;TZID=UTC:20220612T170000
DTSTAMP:20260423T063058
CREATED:20220513T033148Z
LAST-MODIFIED:20220513T033148Z
UID:1330-1655042400-1655053200@loneoakbrewingco.com
SUMMARY:LIVE MUSIC - THE ROLLIN' RUST
DESCRIPTION:
URL:https://loneoakbrewingco.com/event/live-music-the-rollin-rust/
LOCATION:Lone Oak Brewery\, 5000 Olney Laytonsville Rd\, Olney\, MD\, 20832\, United States
CATEGORIES:Live Music
ATTACH;FMTTYPE=image/png:https://loneoakbrewingco.com/wp-content/uploads/2022/05/THE-ROLLING-RUST.png
END:VEVENT
BEGIN:VEVENT
DTSTART;TZID=UTC:20220615T180000
DTEND;TZID=UTC:20220615T200000
DTSTAMP:20260423T063058
CREATED:20220610T025317Z
LAST-MODIFIED:20220610T025317Z
UID:1710-1655316000-1655323200@loneoakbrewingco.com
SUMMARY:MAGIC-al Wednesday!
DESCRIPTION:David Em is a magician and mentalist of local renown in the DC/MD/VA area and has been a student of the conjuring arts for 20 years. David has shared his mysterious art all over the United States and has performed internationally as well.  His specialty lies in the world of close-up magic and mindreading. The style in which David performs can be associated with that of a street magician\, doing things with ordinary objects that defy reality. Each performance leaves audience members with impossible objects and souvenirs\, allowing them to better remember the magic they participated in.  \nDavid is bilingual\, offering performances in English and Spanish to accommodate diverse audiences. As a classical pianist\, he has the dexterity to manipulate cards and the like to achieve astounding things. David’s personality is almost as magical as his magic and is sure to make your next event a fun and unique experience!
URL:https://loneoakbrewingco.com/event/magic-al-wednesday/
LOCATION:Lone Oak Brewery\, 5000 Olney Laytonsville Rd\, Olney\, MD\, 20832\, United States
CATEGORIES:Magician
ATTACH;FMTTYPE=image/jpeg:https://loneoakbrewingco.com/wp-content/uploads/2022/06/12316555_10154347668483272_7620632140885560264_n.jpg
END:VEVENT
BEGIN:VEVENT
DTSTART;TZID=UTC:20220617T130000
DTEND;TZID=UTC:20220617T200000
DTSTAMP:20260423T063058
CREATED:20220508T001822Z
LAST-MODIFIED:20220508T001822Z
UID:1145-1655470800-1655496000@loneoakbrewingco.com
SUMMARY:FOOD TRUCK - CORNED BEEF KING
DESCRIPTION:
URL:https://loneoakbrewingco.com/event/food-truck-corned-beef-king-4/
LOCATION:Lone Oak Brewery\, 5000 Olney Laytonsville Rd\, Olney\, MD\, 20832\, United States
CATEGORIES:Food Truck
ATTACH;FMTTYPE=image/jpeg:https://loneoakbrewingco.com/wp-content/uploads/2022/03/cornedbeef.jpg
END:VEVENT
BEGIN:VEVENT
DTSTART;TZID=UTC:20220617T160000
DTEND;TZID=UTC:20220617T190000
DTSTAMP:20260423T063058
CREATED:20220512T033519Z
LAST-MODIFIED:20220512T033519Z
UID:1268-1655481600-1655492400@loneoakbrewingco.com
SUMMARY:LIVE MUSIC - MICHAEL FALCONE
DESCRIPTION:
URL:https://loneoakbrewingco.com/event/live-music-michael-falcone-2/
LOCATION:Lone Oak Brewery\, 5000 Olney Laytonsville Rd\, Olney\, MD\, 20832\, United States
CATEGORIES:Live Music
ATTACH;FMTTYPE=image/jpeg:https://loneoakbrewingco.com/wp-content/uploads/2022/03/background-oak.jpg
END:VEVENT
BEGIN:VEVENT
DTSTART;TZID=UTC:20220618T110000
DTEND;TZID=UTC:20220618T140000
DTSTAMP:20260423T063058
CREATED:20220512T035223Z
LAST-MODIFIED:20220518T175531Z
UID:1270-1655550000-1655560800@loneoakbrewingco.com
SUMMARY:LIVE MUSIC - MATT HARPER
DESCRIPTION:
URL:https://loneoakbrewingco.com/event/live-music-matt-harper-2/
LOCATION:Lone Oak Brewery\, 5000 Olney Laytonsville Rd\, Olney\, MD\, 20832\, United States
CATEGORIES:Live Music
ATTACH;FMTTYPE=image/png:https://loneoakbrewingco.com/wp-content/uploads/2022/05/Screen-Shot-2022-05-11-at-12.54.06-PM-e1652288270908.png
END:VEVENT
BEGIN:VEVENT
DTSTART;TZID=UTC:20220618T120000
DTEND;TZID=UTC:20220618T150000
DTSTAMP:20260423T063058
CREATED:20220508T002858Z
LAST-MODIFIED:20220518T175737Z
UID:1149-1655553600-1655564400@loneoakbrewingco.com
SUMMARY:FOOD TRUCK - SALAT
DESCRIPTION:
URL:https://loneoakbrewingco.com/event/food-truck-salat/
LOCATION:Lone Oak Brewery\, 5000 Olney Laytonsville Rd\, Olney\, MD\, 20832\, United States
CATEGORIES:Food Truck
ATTACH;FMTTYPE=image/jpeg:https://loneoakbrewingco.com/wp-content/uploads/2022/03/background-oak.jpg
END:VEVENT
END:VCALENDAR