BEGIN:VCALENDAR
VERSION:2.0
PRODID:-//Lone Oak Brewing Co. - ECPv6.15.20//NONSGML v1.0//EN
CALSCALE:GREGORIAN
METHOD:PUBLISH
X-WR-CALNAME:Lone Oak Brewing Co.
X-ORIGINAL-URL:https://loneoakbrewingco.com
X-WR-CALDESC:Events for Lone Oak Brewing Co.
REFRESH-INTERVAL;VALUE=DURATION:PT1H
X-Robots-Tag:noindex
X-PUBLISHED-TTL:PT1H
BEGIN:VTIMEZONE
TZID:UTC
BEGIN:STANDARD
TZOFFSETFROM:+0000
TZOFFSETTO:+0000
TZNAME:UTC
DTSTART:20210101T000000
END:STANDARD
END:VTIMEZONE
BEGIN:VEVENT
DTSTART;TZID=UTC:20220916T130000
DTEND;TZID=UTC:20220916T200000
DTSTAMP:20260423T063311
CREATED:20220529T004112Z
LAST-MODIFIED:20220529T004112Z
UID:1590-1663333200-1663358400@loneoakbrewingco.com
SUMMARY:FOOD TRUCK - DINER ON THE GO
DESCRIPTION:
URL:https://loneoakbrewingco.com/event/food-truck-diner-on-the-go-3/
LOCATION:Lone Oak Brewery\, 5000 Olney Laytonsville Rd\, Olney\, MD\, 20832\, United States
CATEGORIES:Food Truck
ATTACH;FMTTYPE=image/png:https://loneoakbrewingco.com/wp-content/uploads/2022/05/DINER-ON-THE-GO.png
END:VEVENT
BEGIN:VEVENT
DTSTART;TZID=UTC:20220916T160000
DTEND;TZID=UTC:20220916T190000
DTSTAMP:20260423T063311
CREATED:20220527T032437Z
LAST-MODIFIED:20220527T032437Z
UID:1462-1663344000-1663354800@loneoakbrewingco.com
SUMMARY:LIVE MUSIC - MATT HARPER
DESCRIPTION:
URL:https://loneoakbrewingco.com/event/live-music-matt-harper-4/
LOCATION:Lone Oak Brewery\, 5000 Olney Laytonsville Rd\, Olney\, MD\, 20832\, United States
CATEGORIES:Live Music
ATTACH;FMTTYPE=image/png:https://loneoakbrewingco.com/wp-content/uploads/2022/05/Screen-Shot-2022-05-11-at-12.54.06-PM-e1652288270908.png
END:VEVENT
BEGIN:VEVENT
DTSTART;TZID=UTC:20220917T120000
DTEND;TZID=UTC:20220917T200000
DTSTAMP:20260423T063311
CREATED:20220529T004353Z
LAST-MODIFIED:20220529T004353Z
UID:1592-1663416000-1663444800@loneoakbrewingco.com
SUMMARY:FOOD TRUCK - FLIPSIDE GASTRO
DESCRIPTION:
URL:https://loneoakbrewingco.com/event/food-truck-flipside-gastro-11/
LOCATION:Lone Oak Brewery\, 5000 Olney Laytonsville Rd\, Olney\, MD\, 20832\, United States
CATEGORIES:Food Truck
ATTACH;FMTTYPE=image/jpeg:https://loneoakbrewingco.com/wp-content/uploads/2022/03/flipside-gastro-truck.jpeg
END:VEVENT
BEGIN:VEVENT
DTSTART;TZID=UTC:20220917T140000
DTEND;TZID=UTC:20220917T170000
DTSTAMP:20260423T063311
CREATED:20220904T032550Z
LAST-MODIFIED:20220904T032550Z
UID:1912-1663423200-1663434000@loneoakbrewingco.com
SUMMARY:LIVE MUSIC - TUCK AND FRIENDS
DESCRIPTION:
URL:https://loneoakbrewingco.com/event/live-music-tuck-and-friends/
LOCATION:Lone Oak Brewery\, 5000 Olney Laytonsville Rd\, Olney\, MD\, 20832\, United States
CATEGORIES:Live Music
ATTACH;FMTTYPE=image/jpeg:https://loneoakbrewingco.com/wp-content/uploads/2022/03/background-oak.jpg
END:VEVENT
BEGIN:VEVENT
DTSTART;TZID=UTC:20220917T150000
DTEND;TZID=UTC:20220917T190000
DTSTAMP:20260423T063311
CREATED:20220901T235128Z
LAST-MODIFIED:20220901T235326Z
UID:1901-1663426800-1663441200@loneoakbrewingco.com
SUMMARY:OFFSITE EVENT - BEHAN STRONG CORNHOLE TOURNAMENT AT OBGC
DESCRIPTION:Help Pat Behan Fight ALS. \nDATE: SEPTEMBER 17\, 2022 \nTIME: DOORS OPEN AT 3PM\, BAGS FLY AT 4PM \nCOST: $100 PER TEAM \nPRIZES: FIRST $600\, SECOND $250\, THIRD $150 \nLOCATION: OBGC COMMUNITY PARK\, 4501 OLNEY-LAYTONSVILLE RD. OLNEY\, MD 20832 \nLone Oak Farm Brewing Co. and Olney Winery will be pouring for the event!! \nTo find out more information about Pat and to sign up go to THIS WEBSITE or go straight to the REGISTRATION PAGE HERE: 
URL:https://loneoakbrewingco.com/event/offsite-event-behan-strong-cornhole-tournament-at-obgc/
LOCATION:OBGC COMMUNITY PARK\,\, 4501 OLNEY-LAYTONSVILLE RD\, OLNEY\, 20832
CATEGORIES:Offsite Event
ATTACH;FMTTYPE=image/png:https://loneoakbrewingco.com/wp-content/uploads/2022/09/Screen-Shot-2022-09-01-at-3.53.13-PM.png
END:VEVENT
BEGIN:VEVENT
DTSTART;TZID=UTC:20220918T120000
DTEND;TZID=UTC:20220918T190000
DTSTAMP:20260423T063311
CREATED:20220529T004512Z
LAST-MODIFIED:20220529T004512Z
UID:1594-1663502400-1663527600@loneoakbrewingco.com
SUMMARY:FOOD TRUCK - PHO WHEELS
DESCRIPTION:
URL:https://loneoakbrewingco.com/event/food-truck-pho-wheels-3/
LOCATION:Lone Oak Brewery\, 5000 Olney Laytonsville Rd\, Olney\, MD\, 20832\, United States
CATEGORIES:Food Truck
ATTACH;FMTTYPE=image/jpeg:https://loneoakbrewingco.com/wp-content/uploads/2022/04/phowheels-e1631744329223.jpg
END:VEVENT
BEGIN:VEVENT
DTSTART;TZID=UTC:20220918T120000
DTEND;TZID=UTC:20220918T200000
DTSTAMP:20260423T063311
CREATED:20220902T060625Z
LAST-MODIFIED:20220904T035708Z
UID:1908-1663502400-1663531200@loneoakbrewingco.com
SUMMARY:MONTGOMERY COUNTY CORNHOLE PRESENTS THE THROWDOWN CORNHOLE TOURNAMENT AT LONE OAK FARM
DESCRIPTION:MOCO COHO PRESENTS “THE THROWDOWN CORNHOLE TOURNAMENT” AT LONE OAK FARM – SUNDAY\, SEPTEMBER 18TH \nShow ’em what ya got! Grab a partner (or sign up solo) for our 2nd  cornhole tournament at Lone Oak Farm! It’s a total blast\, and a great way take down a few brews and spend some time at The Farm. \nWHEN: SUNDAY\, SEPTEMBER 18 AT 12PM \n$40 ENTRY FEE PER TEAM \nCASH PRIZES AND LOF SWAG FOR WINNERS \nLIVE MUSIC FROM ROCKFISH BAND with MoCo CoHo’s own Derek”D-Rock” Smith on guitar from 2-5pm \nQuestions? Reach out to mococornhole@yahoo.com \nRegister on the Scoreholio App here or using our flyers hanging around the taproom. Can’t wait to see you there!
URL:https://loneoakbrewingco.com/event/montgomery-county-cornhole-presents-the-throwdown-cornhole-tournament-at-lone-oak-farm/
LOCATION:Lone Oak Brewery\, 5000 Olney Laytonsville Rd\, Olney\, MD\, 20832\, United States
CATEGORIES:Ticketed Event
ATTACH;FMTTYPE=image/png:https://loneoakbrewingco.com/wp-content/uploads/2022/09/Screen-Shot-2022-09-01-at-10.05.45-PM.png
END:VEVENT
BEGIN:VEVENT
DTSTART;TZID=UTC:20220918T140000
DTEND;TZID=UTC:20220918T170000
DTSTAMP:20260423T063311
CREATED:20220904T035935Z
LAST-MODIFIED:20220904T035935Z
UID:1916-1663509600-1663520400@loneoakbrewingco.com
SUMMARY:LIVE MUSIC - ROCKFISH
DESCRIPTION:
URL:https://loneoakbrewingco.com/event/live-music-rockfish/
LOCATION:Lone Oak Brewery\, 5000 Olney Laytonsville Rd\, Olney\, MD\, 20832\, United States
CATEGORIES:Live Music
ATTACH;FMTTYPE=image/png:https://loneoakbrewingco.com/wp-content/uploads/2022/09/Screen-Shot-2022-09-03-at-7.59.17-PM.png
END:VEVENT
BEGIN:VEVENT
DTSTART;TZID=UTC:20220922T160000
DTEND;TZID=UTC:20220922T190000
DTSTAMP:20260423T063311
CREATED:20220527T033059Z
LAST-MODIFIED:20220812T031524Z
UID:1467-1663862400-1663873200@loneoakbrewingco.com
SUMMARY:LIVE MUSIC - BRIAN HARRIS
DESCRIPTION:
URL:https://loneoakbrewingco.com/event/live-music-brian-harris-7/
LOCATION:Lone Oak Brewery\, 5000 Olney Laytonsville Rd\, Olney\, MD\, 20832\, United States
CATEGORIES:Live Music
ATTACH;FMTTYPE=image/jpeg:https://loneoakbrewingco.com/wp-content/uploads/2022/03/brian-harris-1-1.jpeg
END:VEVENT
BEGIN:VEVENT
DTSTART;TZID=UTC:20220923T130000
DTEND;TZID=UTC:20220923T200000
DTSTAMP:20260423T063311
CREATED:20220529T004705Z
LAST-MODIFIED:20220529T004705Z
UID:1596-1663938000-1663963200@loneoakbrewingco.com
SUMMARY:FOOD TRUCK - PHO WHEELS
DESCRIPTION:
URL:https://loneoakbrewingco.com/event/food-truck-pho-wheels-6/
LOCATION:Lone Oak Brewery\, 5000 Olney Laytonsville Rd\, Olney\, MD\, 20832\, United States
CATEGORIES:Live Music
ATTACH;FMTTYPE=image/jpeg:https://loneoakbrewingco.com/wp-content/uploads/2022/04/phowheels-e1631744329223.jpg
END:VEVENT
BEGIN:VEVENT
DTSTART;TZID=UTC:20220923T160000
DTEND;TZID=UTC:20220923T210000
DTSTAMP:20260423T063311
CREATED:20220811T213643Z
LAST-MODIFIED:20220901T220659Z
UID:1846-1663948800-1663966800@loneoakbrewingco.com
SUMMARY:BILLY\, BUFFETT & BEERS
DESCRIPTION:Encore! Encore! After the massive success of our first Billy\, Buffett and Beers concert we’re bringing it back! Only bands “One Particular Harbour” and “Hudson River Line” can make saying ‘sayonara’ to summer a little less painful. \n  \nBUY TICKETS HERE: https://loneoakfarm.oznr.com/offers/2137053
URL:https://loneoakbrewingco.com/event/billy-buffett-beers-2/
LOCATION:Lone Oak Brewery\, 5000 Olney Laytonsville Rd\, Olney\, MD\, 20832\, United States
CATEGORIES:Festival,Live Music
ATTACH;FMTTYPE=image/png:https://loneoakbrewingco.com/wp-content/uploads/2022/08/Screen-Shot-2022-09-01-at-2.03.05-PM.png
END:VEVENT
BEGIN:VEVENT
DTSTART;TZID=UTC:20220924T120000
DTEND;TZID=UTC:20220924T200000
DTSTAMP:20260423T063311
CREATED:20220908T024818Z
LAST-MODIFIED:20220908T024818Z
UID:1923-1664020800-1664049600@loneoakbrewingco.com
SUMMARY:FOOD TRUCK - GRUBBING HARD BBQ
DESCRIPTION:
URL:https://loneoakbrewingco.com/event/food-truck-grubbing-hard-bbq-11/
LOCATION:Lone Oak Brewery\, 5000 Olney Laytonsville Rd\, Olney\, MD\, 20832\, United States
CATEGORIES:Food Truck
ATTACH;FMTTYPE=image/jpeg:https://loneoakbrewingco.com/wp-content/uploads/2022/03/grubbin-hard.jpeg
END:VEVENT
BEGIN:VEVENT
DTSTART;TZID=UTC:20220924T140000
DTEND;TZID=UTC:20220924T170000
DTSTAMP:20260423T063311
CREATED:20220908T025450Z
LAST-MODIFIED:20220908T025450Z
UID:1925-1664028000-1664038800@loneoakbrewingco.com
SUMMARY:LIVE MUSIC - DAVIS GESTIEHR
DESCRIPTION:
URL:https://loneoakbrewingco.com/event/live-music-davis-gestiehr/
LOCATION:Lone Oak Brewery\, 5000 Olney Laytonsville Rd\, Olney\, MD\, 20832\, United States
CATEGORIES:Live Music
ATTACH;FMTTYPE=image/png:https://loneoakbrewingco.com/wp-content/uploads/2022/09/Screen-Shot-2022-09-07-at-6.54.30-PM.png
END:VEVENT
BEGIN:VEVENT
DTSTART;TZID=UTC:20220925T120000
DTEND;TZID=UTC:20220925T190000
DTSTAMP:20260423T063311
CREATED:20220529T005312Z
LAST-MODIFIED:20220529T005312Z
UID:1601-1664107200-1664132400@loneoakbrewingco.com
SUMMARY:FOOD TRUCK - PAELLA AND TAPAS
DESCRIPTION:
URL:https://loneoakbrewingco.com/event/food-truck-paella-and-tapas-2/
LOCATION:Lone Oak Brewery\, 5000 Olney Laytonsville Rd\, Olney\, MD\, 20832\, United States
CATEGORIES:Food Truck
ATTACH;FMTTYPE=image/jpeg:https://loneoakbrewingco.com/wp-content/uploads/2022/04/Paella-and-Tapas.jpg
END:VEVENT
BEGIN:VEVENT
DTSTART;TZID=UTC:20220925T140000
DTEND;TZID=UTC:20220925T170000
DTSTAMP:20260423T063311
CREATED:20220901T031052Z
LAST-MODIFIED:20220901T031052Z
UID:1895-1664114400-1664125200@loneoakbrewingco.com
SUMMARY:LIVE MUSIC - THE OUTTAKES
DESCRIPTION:
URL:https://loneoakbrewingco.com/event/live-music-the-outtakes-5/
LOCATION:Lone Oak Brewery\, 5000 Olney Laytonsville Rd\, Olney\, MD\, 20832\, United States
CATEGORIES:Live Music
ATTACH;FMTTYPE=image/png:https://loneoakbrewingco.com/wp-content/uploads/2022/05/Screen-Shot-2022-06-04-at-12.24.06-PM.png
END:VEVENT
BEGIN:VEVENT
DTSTART;TZID=UTC:20220929T170000
DTEND;TZID=UTC:20220929T210000
DTSTAMP:20260423T063311
CREATED:20220824T172606Z
LAST-MODIFIED:20220824T172606Z
UID:1875-1664470800-1664485200@loneoakbrewingco.com
SUMMARY:FOOD TRUCK - FLIPSIDE GASTRO
DESCRIPTION:
URL:https://loneoakbrewingco.com/event/food-truck-flipside-gastro-5/
LOCATION:Lone Oak Brewery\, 5000 Olney Laytonsville Rd\, Olney\, MD\, 20832\, United States
CATEGORIES:Food Truck
ATTACH;FMTTYPE=image/jpeg:https://loneoakbrewingco.com/wp-content/uploads/2022/03/flipside-gastro-truck.jpeg
END:VEVENT
BEGIN:VEVENT
DTSTART;TZID=UTC:20220929T190000
DTEND;TZID=UTC:20220929T210000
DTSTAMP:20260423T063311
CREATED:20220908T012639Z
LAST-MODIFIED:20220908T012717Z
UID:1920-1664478000-1664485200@loneoakbrewingco.com
SUMMARY:LAUGH AT LONE OAK COMEDY SHOW
DESCRIPTION:Come on out September 29th for a special comedy show featuring nationally touring comedian Paul Lyons. \nPaul has been seen on Comedy Central\, Showtime\, and even on hit sitcoms like Everybody Loves Raymond. He’s also an accomplished author who writes for Chicken Soup for the Soul and has the best-selling book on Amazon called Carpe Dlem\, Manana. \nPurchase tickets here
URL:https://loneoakbrewingco.com/event/laugh-at-lone-oak-comedy-show-5/
LOCATION:Lone Oak Brewery\, 5000 Olney Laytonsville Rd\, Olney\, MD\, 20832\, United States
CATEGORIES:Ticketed Event
ATTACH;FMTTYPE=image/png:https://loneoakbrewingco.com/wp-content/uploads/2022/09/Screen-Shot-2022-09-07-at-5.07.09-PM.png
END:VEVENT
BEGIN:VEVENT
DTSTART;TZID=UTC:20220930T160000
DTEND;TZID=UTC:20220930T190000
DTSTAMP:20260423T063311
CREATED:20220527T033547Z
LAST-MODIFIED:20220527T033547Z
UID:1473-1664553600-1664564400@loneoakbrewingco.com
SUMMARY:LIVE MUSIC - FRAN SCUDERI
DESCRIPTION:
URL:https://loneoakbrewingco.com/event/live-music-fran-scuderi-8/
LOCATION:Lone Oak Brewery\, 5000 Olney Laytonsville Rd\, Olney\, MD\, 20832\, United States
CATEGORIES:Live Music
ATTACH;FMTTYPE=image/png:https://loneoakbrewingco.com/wp-content/uploads/2022/05/FRAN-SCUDERI.png
END:VEVENT
BEGIN:VEVENT
DTSTART;TZID=UTC:20221001T120000
DTEND;TZID=UTC:20221001T200000
DTSTAMP:20260423T063311
CREATED:20220529T005546Z
LAST-MODIFIED:20220529T005546Z
UID:1605-1664625600-1664654400@loneoakbrewingco.com
SUMMARY:FOOD TRUCK - CATALYST HOT DOGS
DESCRIPTION:
URL:https://loneoakbrewingco.com/event/food-truck-catalyst-hot-dogs-6/
LOCATION:Lone Oak Brewery\, 5000 Olney Laytonsville Rd\, Olney\, MD\, 20832\, United States
CATEGORIES:Food Truck
ATTACH;FMTTYPE=image/jpeg:https://loneoakbrewingco.com/wp-content/uploads/2022/03/catalysthotdogs.jpg
END:VEVENT
BEGIN:VEVENT
DTSTART;TZID=UTC:20221001T140000
DTEND;TZID=UTC:20221001T170000
DTSTAMP:20260423T063311
CREATED:20220527T034239Z
LAST-MODIFIED:20220527T034239Z
UID:1478-1664632800-1664643600@loneoakbrewingco.com
SUMMARY:LIVE MUSIC - MICHAEL HEISTER
DESCRIPTION:
URL:https://loneoakbrewingco.com/event/live-music-michael-heister/
LOCATION:Lone Oak Brewery\, 5000 Olney Laytonsville Rd\, Olney\, MD\, 20832\, United States
CATEGORIES:Live Music
ATTACH;FMTTYPE=image/png:https://loneoakbrewingco.com/wp-content/uploads/2022/05/Screen-Shot-2022-05-26-at-7.40.43-PM-e1653768867364.png
END:VEVENT
BEGIN:VEVENT
DTSTART;TZID=UTC:20221002T120000
DTEND;TZID=UTC:20221002T190000
DTSTAMP:20260423T063311
CREATED:20220529T010035Z
LAST-MODIFIED:20220529T010324Z
UID:1607-1664712000-1664737200@loneoakbrewingco.com
SUMMARY:FOOD TRUCK - TRIPPY TACOS
DESCRIPTION:
URL:https://loneoakbrewingco.com/event/food-truck-trippy-tacos/
LOCATION:Lone Oak Brewery\, 5000 Olney Laytonsville Rd\, Olney\, MD\, 20832\, United States
CATEGORIES:Food Truck
ATTACH;FMTTYPE=image/png:https://loneoakbrewingco.com/wp-content/uploads/2022/05/Screen-Shot-2022-05-28-at-5.02.34-PM.png
END:VEVENT
BEGIN:VEVENT
DTSTART;TZID=UTC:20221002T140000
DTEND;TZID=UTC:20221002T170000
DTSTAMP:20260423T063311
CREATED:20220704T001335Z
LAST-MODIFIED:20220704T001335Z
UID:1756-1664719200-1664730000@loneoakbrewingco.com
SUMMARY:MUSICIAN - LUKE ANDREWS
DESCRIPTION:
URL:https://loneoakbrewingco.com/event/musician-luke-andrews/
LOCATION:Lone Oak Brewery\, 5000 Olney Laytonsville Rd\, Olney\, MD\, 20832\, United States
CATEGORIES:Live Music
ATTACH;FMTTYPE=image/png:https://loneoakbrewingco.com/wp-content/uploads/2022/05/LUKE-ANDREWS.png
END:VEVENT
BEGIN:VEVENT
DTSTART;TZID=UTC:20221008T120000
DTEND;TZID=UTC:20221008T200000
DTSTAMP:20260423T063311
CREATED:20220529T010504Z
LAST-MODIFIED:20220529T010504Z
UID:1611-1665230400-1665259200@loneoakbrewingco.com
SUMMARY:FOOD TRUCK - FLIPSIDE GASTRO
DESCRIPTION:
URL:https://loneoakbrewingco.com/event/food-truck-flipside-gastro-12/
LOCATION:Lone Oak Brewery\, 5000 Olney Laytonsville Rd\, Olney\, MD\, 20832\, United States
CATEGORIES:Food Truck
ATTACH;FMTTYPE=image/jpeg:https://loneoakbrewingco.com/wp-content/uploads/2022/03/flipside-gastro-truck.jpeg
END:VEVENT
BEGIN:VEVENT
DTSTART;TZID=UTC:20221008T140000
DTEND;TZID=UTC:20221008T170000
DTSTAMP:20260423T063311
CREATED:20221006T030458Z
LAST-MODIFIED:20221006T030458Z
UID:1974-1665237600-1665248400@loneoakbrewingco.com
SUMMARY:LIVE MUSIC - MICHAEL HEISTER
DESCRIPTION:
URL:https://loneoakbrewingco.com/event/live-music-michael-heister-3/
LOCATION:Lone Oak Brewery\, 5000 Olney Laytonsville Rd\, Olney\, MD\, 20832\, United States
CATEGORIES:Live Music
ATTACH;FMTTYPE=image/png:https://loneoakbrewingco.com/wp-content/uploads/2022/05/Screen-Shot-2022-05-26-at-7.40.43-PM-e1653768867364.png
END:VEVENT
BEGIN:VEVENT
DTSTART;TZID=UTC:20221009T120000
DTEND;TZID=UTC:20221009T190000
DTSTAMP:20260423T063311
CREATED:20220529T010628Z
LAST-MODIFIED:20220529T010628Z
UID:1613-1665316800-1665342000@loneoakbrewingco.com
SUMMARY:FOOD TRUCK - TRIPPY TACOS
DESCRIPTION:
URL:https://loneoakbrewingco.com/event/food-truck-trippy-tacos-2/
LOCATION:Lone Oak Brewery\, 5000 Olney Laytonsville Rd\, Olney\, MD\, 20832\, United States
CATEGORIES:Food Truck
ATTACH;FMTTYPE=image/png:https://loneoakbrewingco.com/wp-content/uploads/2022/05/Screen-Shot-2022-05-28-at-5.02.34-PM.png
END:VEVENT
BEGIN:VEVENT
DTSTART;TZID=UTC:20221009T140000
DTEND;TZID=UTC:20221009T170000
DTSTAMP:20260423T063311
CREATED:20220527T034450Z
LAST-MODIFIED:20220602T022102Z
UID:1480-1665324000-1665334800@loneoakbrewingco.com
SUMMARY:LIVE MUSIC - THE LIDO DECK
DESCRIPTION:
URL:https://loneoakbrewingco.com/event/live-music-the-lido-deck-2/
LOCATION:Lone Oak Brewery\, 5000 Olney Laytonsville Rd\, Olney\, MD\, 20832\, United States
CATEGORIES:Live Music
ATTACH;FMTTYPE=image/png:https://loneoakbrewingco.com/wp-content/uploads/2022/05/Screen-Shot-2022-06-01-at-6.19.09-PM.png
END:VEVENT
BEGIN:VEVENT
DTSTART;TZID=UTC:20221014T120000
DTEND;TZID=UTC:20221014T190000
DTSTAMP:20260423T063311
CREATED:20220529T010728Z
LAST-MODIFIED:20220529T010728Z
UID:1615-1665748800-1665774000@loneoakbrewingco.com
SUMMARY:FOOD TRUCK - PAELLA AND TAPAS
DESCRIPTION:
URL:https://loneoakbrewingco.com/event/food-truck-paella-and-tapas-3/
LOCATION:Lone Oak Brewery\, 5000 Olney Laytonsville Rd\, Olney\, MD\, 20832\, United States
CATEGORIES:Food Truck
ATTACH;FMTTYPE=image/jpeg:https://loneoakbrewingco.com/wp-content/uploads/2022/04/Paella-and-Tapas.jpg
END:VEVENT
BEGIN:VEVENT
DTSTART;TZID=UTC:20221014T160000
DTEND;TZID=UTC:20221014T190000
DTSTAMP:20260423T063311
CREATED:20220528T232106Z
LAST-MODIFIED:20220528T232106Z
UID:1538-1665763200-1665774000@loneoakbrewingco.com
SUMMARY:LIVE MUSIC - OLDSCOOL
DESCRIPTION:
URL:https://loneoakbrewingco.com/event/live-music-oldscool/
LOCATION:Lone Oak Brewery\, 5000 Olney Laytonsville Rd\, Olney\, MD\, 20832\, United States
CATEGORIES:Live Music
ATTACH;FMTTYPE=image/jpeg:https://loneoakbrewingco.com/wp-content/uploads/2022/05/oldscool-e1652027274688.jpg
END:VEVENT
BEGIN:VEVENT
DTSTART;TZID=UTC:20221015T120000
DTEND;TZID=UTC:20221015T200000
DTSTAMP:20260423T063311
CREATED:20221015T023641Z
LAST-MODIFIED:20221015T023641Z
UID:1981-1665835200-1665864000@loneoakbrewingco.com
SUMMARY:FOOD TRUCK - CORNED BEEF KING
DESCRIPTION:
URL:https://loneoakbrewingco.com/event/food-truck-corned-beef-king-9/
LOCATION:Lone Oak Brewery\, 5000 Olney Laytonsville Rd\, Olney\, MD\, 20832\, United States
CATEGORIES:Food Truck
ATTACH;FMTTYPE=image/jpeg:https://loneoakbrewingco.com/wp-content/uploads/2022/03/cornedbeef.jpg
END:VEVENT
BEGIN:VEVENT
DTSTART;TZID=UTC:20221015T140000
DTEND;TZID=UTC:20221015T170000
DTSTAMP:20260423T063311
CREATED:20220528T232418Z
LAST-MODIFIED:20220528T232418Z
UID:1540-1665842400-1665853200@loneoakbrewingco.com
SUMMARY:LIVE MUSIC - FRAN SCUDERI
DESCRIPTION:
URL:https://loneoakbrewingco.com/event/live-music-fran-scuderi-9/
LOCATION:Lone Oak Brewery\, 5000 Olney Laytonsville Rd\, Olney\, MD\, 20832\, United States
CATEGORIES:Live Music
ATTACH;FMTTYPE=image/png:https://loneoakbrewingco.com/wp-content/uploads/2022/05/FRAN-SCUDERI.png
END:VEVENT
END:VCALENDAR