BEGIN:VCALENDAR
VERSION:2.0
PRODID:-//Lone Oak Brewing Co. - ECPv6.15.20//NONSGML v1.0//EN
CALSCALE:GREGORIAN
METHOD:PUBLISH
X-WR-CALNAME:Lone Oak Brewing Co.
X-ORIGINAL-URL:https://loneoakbrewingco.com
X-WR-CALDESC:Events for Lone Oak Brewing Co.
REFRESH-INTERVAL;VALUE=DURATION:PT1H
X-Robots-Tag:noindex
X-PUBLISHED-TTL:PT1H
BEGIN:VTIMEZONE
TZID:UTC
BEGIN:STANDARD
TZOFFSETFROM:+0000
TZOFFSETTO:+0000
TZNAME:UTC
DTSTART:20210101T000000
END:STANDARD
END:VTIMEZONE
BEGIN:VEVENT
DTSTART;TZID=UTC:20221014T120000
DTEND;TZID=UTC:20221014T190000
DTSTAMP:20260423T012743
CREATED:20220529T010728Z
LAST-MODIFIED:20220529T010728Z
UID:1615-1665748800-1665774000@loneoakbrewingco.com
SUMMARY:FOOD TRUCK - PAELLA AND TAPAS
DESCRIPTION:
URL:https://loneoakbrewingco.com/event/food-truck-paella-and-tapas-3/
LOCATION:Lone Oak Brewery\, 5000 Olney Laytonsville Rd\, Olney\, MD\, 20832\, United States
CATEGORIES:Food Truck
ATTACH;FMTTYPE=image/jpeg:https://loneoakbrewingco.com/wp-content/uploads/2022/04/Paella-and-Tapas.jpg
END:VEVENT
BEGIN:VEVENT
DTSTART;TZID=UTC:20221014T160000
DTEND;TZID=UTC:20221014T190000
DTSTAMP:20260423T012743
CREATED:20220528T232106Z
LAST-MODIFIED:20220528T232106Z
UID:1538-1665763200-1665774000@loneoakbrewingco.com
SUMMARY:LIVE MUSIC - OLDSCOOL
DESCRIPTION:
URL:https://loneoakbrewingco.com/event/live-music-oldscool/
LOCATION:Lone Oak Brewery\, 5000 Olney Laytonsville Rd\, Olney\, MD\, 20832\, United States
CATEGORIES:Live Music
ATTACH;FMTTYPE=image/jpeg:https://loneoakbrewingco.com/wp-content/uploads/2022/05/oldscool-e1652027274688.jpg
END:VEVENT
BEGIN:VEVENT
DTSTART;TZID=UTC:20221015T120000
DTEND;TZID=UTC:20221015T200000
DTSTAMP:20260423T012743
CREATED:20221015T023641Z
LAST-MODIFIED:20221015T023641Z
UID:1981-1665835200-1665864000@loneoakbrewingco.com
SUMMARY:FOOD TRUCK - CORNED BEEF KING
DESCRIPTION:
URL:https://loneoakbrewingco.com/event/food-truck-corned-beef-king-9/
LOCATION:Lone Oak Brewery\, 5000 Olney Laytonsville Rd\, Olney\, MD\, 20832\, United States
CATEGORIES:Food Truck
ATTACH;FMTTYPE=image/jpeg:https://loneoakbrewingco.com/wp-content/uploads/2022/03/cornedbeef.jpg
END:VEVENT
BEGIN:VEVENT
DTSTART;TZID=UTC:20221015T140000
DTEND;TZID=UTC:20221015T170000
DTSTAMP:20260423T012743
CREATED:20220528T232418Z
LAST-MODIFIED:20220528T232418Z
UID:1540-1665842400-1665853200@loneoakbrewingco.com
SUMMARY:LIVE MUSIC - FRAN SCUDERI
DESCRIPTION:
URL:https://loneoakbrewingco.com/event/live-music-fran-scuderi-9/
LOCATION:Lone Oak Brewery\, 5000 Olney Laytonsville Rd\, Olney\, MD\, 20832\, United States
CATEGORIES:Live Music
ATTACH;FMTTYPE=image/png:https://loneoakbrewingco.com/wp-content/uploads/2022/05/FRAN-SCUDERI.png
END:VEVENT
BEGIN:VEVENT
DTSTART;TZID=UTC:20221016T120000
DTEND;TZID=UTC:20221016T190000
DTSTAMP:20260423T012743
CREATED:20220529T010952Z
LAST-MODIFIED:20220529T010952Z
UID:1619-1665921600-1665946800@loneoakbrewingco.com
SUMMARY:FOOD TRUCK - PETIT AFRIK
DESCRIPTION:
URL:https://loneoakbrewingco.com/event/food-truck-petit-afrik/
LOCATION:Lone Oak Brewery\, 5000 Olney Laytonsville Rd\, Olney\, MD\, 20832\, United States
CATEGORIES:Food Truck
ATTACH;FMTTYPE=image/jpeg:https://loneoakbrewingco.com/wp-content/uploads/2022/03/background-oak.jpg
END:VEVENT
BEGIN:VEVENT
DTSTART;TZID=UTC:20221016T140000
DTEND;TZID=UTC:20221016T170000
DTSTAMP:20260423T012743
CREATED:20220528T232538Z
LAST-MODIFIED:20220528T232538Z
UID:1542-1665928800-1665939600@loneoakbrewingco.com
SUMMARY:LIVE MUSIC - PARK VALLEY
DESCRIPTION:
URL:https://loneoakbrewingco.com/event/live-music-park-valley/
LOCATION:Lone Oak Brewery\, 5000 Olney Laytonsville Rd\, Olney\, MD\, 20832\, United States
CATEGORIES:Live Music
ATTACH;FMTTYPE=image/png:https://loneoakbrewingco.com/wp-content/uploads/2022/05/Screen-Shot-2022-05-13-at-9.02.02-PM.png
END:VEVENT
BEGIN:VEVENT
DTSTART;TZID=UTC:20221021T130000
DTEND;TZID=UTC:20221021T200000
DTSTAMP:20260423T012743
CREATED:20220824T203143Z
LAST-MODIFIED:20220824T203143Z
UID:1881-1666357200-1666382400@loneoakbrewingco.com
SUMMARY:FOOD TRUCK - FLIPSIDE GASTRO
DESCRIPTION:
URL:https://loneoakbrewingco.com/event/food-truck-flipside-gastro-14/
LOCATION:Lone Oak Brewery\, 5000 Olney Laytonsville Rd\, Olney\, MD\, 20832\, United States
CATEGORIES:Food Truck
ATTACH;FMTTYPE=image/jpeg:https://loneoakbrewingco.com/wp-content/uploads/2022/03/flipside-gastro-truck.jpeg
END:VEVENT
BEGIN:VEVENT
DTSTART;TZID=UTC:20221021T160000
DTEND;TZID=UTC:20221021T190000
DTSTAMP:20260423T012743
CREATED:20220713T213251Z
LAST-MODIFIED:20221020T203922Z
UID:1782-1666368000-1666378800@loneoakbrewingco.com
SUMMARY:LIVE MUSIC - Noah Booz
DESCRIPTION:
URL:https://loneoakbrewingco.com/event/live-music-noahbooz/
LOCATION:Lone Oak Brewery\, 5000 Olney Laytonsville Rd\, Olney\, MD\, 20832\, United States
CATEGORIES:Live Music
ATTACH;FMTTYPE=image/png:https://loneoakbrewingco.com/wp-content/uploads/2022/10/Screen-Shot-2022-10-14-at-7.11.50-PM-e1665789147651.png
END:VEVENT
BEGIN:VEVENT
DTSTART;TZID=UTC:20221022T120000
DTEND;TZID=UTC:20221022T200000
DTSTAMP:20260423T012743
CREATED:20220530T204257Z
LAST-MODIFIED:20220530T204257Z
UID:1687-1666440000-1666468800@loneoakbrewingco.com
SUMMARY:FOOD TRUCK - PHO WHEELS
DESCRIPTION:
URL:https://loneoakbrewingco.com/event/food-truck-pho-wheels-10/
LOCATION:Lone Oak Brewery\, 5000 Olney Laytonsville Rd\, Olney\, MD\, 20832\, United States
CATEGORIES:Food Truck
ATTACH;FMTTYPE=image/jpeg:https://loneoakbrewingco.com/wp-content/uploads/2022/04/phowheels-e1631744329223.jpg
END:VEVENT
BEGIN:VEVENT
DTSTART;TZID=UTC:20221023T120000
DTEND;TZID=UTC:20221023T190000
DTSTAMP:20260423T012743
CREATED:20220529T011434Z
LAST-MODIFIED:20220805T230521Z
UID:1627-1666526400-1666551600@loneoakbrewingco.com
SUMMARY:FOOD TRUCK - KOFEMI GRUB N GO
DESCRIPTION:
URL:https://loneoakbrewingco.com/event/food-truck-kofemi-grub-n-go-3/
LOCATION:Lone Oak Brewery\, 5000 Olney Laytonsville Rd\, Olney\, MD\, 20832\, United States
CATEGORIES:Food Truck
ATTACH;FMTTYPE=image/png:https://loneoakbrewingco.com/wp-content/uploads/2022/05/Screen-Shot-2022-08-04-at-9.58.24-PM.png
END:VEVENT
BEGIN:VEVENT
DTSTART;TZID=UTC:20221023T140000
DTEND;TZID=UTC:20221023T170000
DTSTAMP:20260423T012743
CREATED:20220528T232741Z
LAST-MODIFIED:20220528T232741Z
UID:1544-1666533600-1666544400@loneoakbrewingco.com
SUMMARY:LIVE MUSIC - FRAN SCUDERI
DESCRIPTION:
URL:https://loneoakbrewingco.com/event/live-music-fran-scuderi-10/
LOCATION:Lone Oak Brewery\, 5000 Olney Laytonsville Rd\, Olney\, MD\, 20832\, United States
CATEGORIES:Live Music
ATTACH;FMTTYPE=image/png:https://loneoakbrewingco.com/wp-content/uploads/2022/05/FRAN-SCUDERI.png
END:VEVENT
BEGIN:VEVENT
DTSTART;TZID=UTC:20221028T160000
DTEND;TZID=UTC:20221028T200000
DTSTAMP:20260423T012743
CREATED:20220529T011604Z
LAST-MODIFIED:20220529T011604Z
UID:1629-1666972800-1666987200@loneoakbrewingco.com
SUMMARY:FOOD TRUCK - GRUBBING HARD BBQ
DESCRIPTION:
URL:https://loneoakbrewingco.com/event/food-truck-grubbing-hard-bbq-8/
LOCATION:Lone Oak Brewery\, 5000 Olney Laytonsville Rd\, Olney\, MD\, 20832\, United States
CATEGORIES:Food Truck
ATTACH;FMTTYPE=image/jpeg:https://loneoakbrewingco.com/wp-content/uploads/2022/03/grubbin-hard.jpeg
END:VEVENT
BEGIN:VEVENT
DTSTART;TZID=UTC:20221028T190000
DTEND;TZID=UTC:20221028T210000
DTSTAMP:20260423T012743
CREATED:20221001T030653Z
LAST-MODIFIED:20221026T200948Z
UID:1962-1666983600-1666990800@loneoakbrewingco.com
SUMMARY:LAUGH AT LONE OAK COMEDY SHOW
DESCRIPTION:Come out to Lone Oak Farm Brewing Company for our LAST COMEDY SHOW OF THE YEAR on FRIDAY October 28 for a special “comedy for a cause” stand up show\, featuring national comedians Joe Marlotti & Robert Mac. $10 from every ticket and $1 from every beer will go directly to ADOPTIONS TOGETHER to support those looking to adopt. \nJoe and Robert have been seen on Comedy Central\, NBC\, HBO and performing with comedy legends like Jeff Foxworthy\, Drew Carey\, and Dennis Miller. \nTickets are only $22 per person & tables of 6 are $125! \nPurchase tickets here
URL:https://loneoakbrewingco.com/event/laugh-at-lone-oak-comedy-show-3/
LOCATION:Lone Oak Brewery\, 5000 Olney Laytonsville Rd\, Olney\, MD\, 20832\, United States
CATEGORIES:Ticketed Event
ATTACH;FMTTYPE=image/png:https://loneoakbrewingco.com/wp-content/uploads/2022/09/Screen-Shot-2022-10-26-at-12.09.24-PM.png
END:VEVENT
BEGIN:VEVENT
DTSTART;VALUE=DATE:20221029
DTEND;VALUE=DATE:20221031
DTSTAMP:20260423T012743
CREATED:20221026T201750Z
LAST-MODIFIED:20221026T201750Z
UID:1995-1667001600-1667174399@loneoakbrewingco.com
SUMMARY:Halloween Spook-tOAK-ular!
DESCRIPTION:It’s our Halloween Spook–tOAK–ular! \nSaturday and Sunday\, October 29th and 30th \nBEST COSTUME WINS A $25 GIFT CARD! One human and one dog winner each day! Show us watcha got! 
URL:https://loneoakbrewingco.com/event/halloween-spook-toak-ular/
LOCATION:Lone Oak Brewery\, 5000 Olney Laytonsville Rd\, Olney\, MD\, 20832\, United States
CATEGORIES:Holiday Events
ATTACH;FMTTYPE=image/png:https://loneoakbrewingco.com/wp-content/uploads/2022/10/Screen-Shot-2022-10-26-at-12.17.37-PM.png
END:VEVENT
BEGIN:VEVENT
DTSTART;TZID=UTC:20221029T120000
DTEND;TZID=UTC:20221029T200000
DTSTAMP:20260423T012743
CREATED:20220529T011700Z
LAST-MODIFIED:20220529T011733Z
UID:1631-1667044800-1667073600@loneoakbrewingco.com
SUMMARY:FOOD TRUCK - PHO WHEELS
DESCRIPTION:
URL:https://loneoakbrewingco.com/event/food-truck-pho-wheels-7/
LOCATION:Lone Oak Brewery\, 5000 Olney Laytonsville Rd\, Olney\, MD\, 20832\, United States
CATEGORIES:Food Truck
ATTACH;FMTTYPE=image/jpeg:https://loneoakbrewingco.com/wp-content/uploads/2022/04/phowheels-e1631744329223.jpg
END:VEVENT
BEGIN:VEVENT
DTSTART;TZID=UTC:20221029T140000
DTEND;TZID=UTC:20221029T170000
DTSTAMP:20260423T012743
CREATED:20220528T234017Z
LAST-MODIFIED:20220528T234201Z
UID:1548-1667052000-1667062800@loneoakbrewingco.com
SUMMARY:LIVE MUSIC - JESSIE MARIE
DESCRIPTION:
URL:https://loneoakbrewingco.com/event/live-music-jessie-marie/
LOCATION:Lone Oak Brewery\, 5000 Olney Laytonsville Rd\, Olney\, MD\, 20832\, United States
CATEGORIES:Live Music
ATTACH;FMTTYPE=image/png:https://loneoakbrewingco.com/wp-content/uploads/2022/05/Screen-Shot-2022-05-28-at-3.39.22-PM-e1653766887987.png
END:VEVENT
BEGIN:VEVENT
DTSTART;TZID=UTC:20221030T120000
DTEND;TZID=UTC:20221030T190000
DTSTAMP:20260423T012743
CREATED:20220529T011825Z
LAST-MODIFIED:20220529T011825Z
UID:1635-1667131200-1667156400@loneoakbrewingco.com
SUMMARY:FOOD TRUCK - PAELLA AND TAPAS
DESCRIPTION:
URL:https://loneoakbrewingco.com/event/food-truck-paella-and-tapas-4/
LOCATION:Lone Oak Brewery\, 5000 Olney Laytonsville Rd\, Olney\, MD\, 20832\, United States
CATEGORIES:Food Truck
ATTACH;FMTTYPE=image/jpeg:https://loneoakbrewingco.com/wp-content/uploads/2022/04/Paella-and-Tapas.jpg
END:VEVENT
BEGIN:VEVENT
DTSTART;VALUE=DATE:20221102
DTEND;VALUE=DATE:20221121
DTSTAMP:20260423T012743
CREATED:20221026T203514Z
LAST-MODIFIED:20221026T203640Z
UID:1998-1667347200-1668988799@loneoakbrewingco.com
SUMMARY:Lone Oak Farm's "Feeding Families Food Drive"
DESCRIPTION:Join us as we gather food for a local pantry! “So What Else” feeds 250\,000 people each year! Bring in a can\, and help a family. Bring in 10 cans and get $5 off your tab of $20 or more! \nPlease drop your donations in the taproom! Thank you!
URL:https://loneoakbrewingco.com/event/lone-oak-farms-feeding-families-food-drive/
LOCATION:Lone Oak Brewery\, 5000 Olney Laytonsville Rd\, Olney\, MD\, 20832\, United States
CATEGORIES:Fundraiser
ATTACH;FMTTYPE=image/png:https://loneoakbrewingco.com/wp-content/uploads/2022/10/Screen-Shot-2022-10-26-at-12.34.36-PM-e1666802104634.png
END:VEVENT
BEGIN:VEVENT
DTSTART;TZID=UTC:20221104T130000
DTEND;TZID=UTC:20221104T200000
DTSTAMP:20260423T012743
CREATED:20220529T011929Z
LAST-MODIFIED:20220529T011929Z
UID:1637-1667566800-1667592000@loneoakbrewingco.com
SUMMARY:FOOD TRUCK - PHO WHEELS
DESCRIPTION:
URL:https://loneoakbrewingco.com/event/food-truck-pho-wheels-8/
LOCATION:Lone Oak Brewery\, 5000 Olney Laytonsville Rd\, Olney\, MD\, 20832\, United States
CATEGORIES:Food Truck
ATTACH;FMTTYPE=image/jpeg:https://loneoakbrewingco.com/wp-content/uploads/2022/04/phowheels-e1631744329223.jpg
END:VEVENT
BEGIN:VEVENT
DTSTART;TZID=UTC:20221105T120000
DTEND;TZID=UTC:20221105T200000
DTSTAMP:20260423T012743
CREATED:20220914T184322Z
LAST-MODIFIED:20220914T184322Z
UID:1934-1667649600-1667678400@loneoakbrewingco.com
SUMMARY:FOOD TRUCK - PHOWHEELS
DESCRIPTION:
URL:https://loneoakbrewingco.com/event/food-truck-phowheels/
LOCATION:Lone Oak Brewery\, 5000 Olney Laytonsville Rd\, Olney\, MD\, 20832\, United States
CATEGORIES:Food Truck
ATTACH;FMTTYPE=image/jpeg:https://loneoakbrewingco.com/wp-content/uploads/2022/04/phowheels-e1631744329223.jpg
END:VEVENT
BEGIN:VEVENT
DTSTART;TZID=UTC:20221105T140000
DTEND;TZID=UTC:20221105T170000
DTSTAMP:20260423T012743
CREATED:20220602T021135Z
LAST-MODIFIED:20220602T021135Z
UID:1691-1667656800-1667667600@loneoakbrewingco.com
SUMMARY:LIVE MUSIC - BRADY OCONOR
DESCRIPTION:
URL:https://loneoakbrewingco.com/event/live-music-brady-oconor-4/
LOCATION:Lone Oak Brewery\, 5000 Olney Laytonsville Rd\, Olney\, MD\, 20832\, United States
CATEGORIES:Live Music
ATTACH;FMTTYPE=image/jpeg:https://loneoakbrewingco.com/wp-content/uploads/2022/03/brady-oconor.jpg
END:VEVENT
BEGIN:VEVENT
DTSTART;TZID=UTC:20221106T120000
DTEND;TZID=UTC:20221106T190000
DTSTAMP:20260423T012743
CREATED:20220824T204611Z
LAST-MODIFIED:20220824T204611Z
UID:1883-1667736000-1667761200@loneoakbrewingco.com
SUMMARY:FOOD TRUCK - GRUBBING HARD BBQ
DESCRIPTION:
URL:https://loneoakbrewingco.com/event/food-truck-grubbing-hard-bbq-10/
LOCATION:Lone Oak Brewery\, 5000 Olney Laytonsville Rd\, Olney\, MD\, 20832\, United States
CATEGORIES:Food Truck
ATTACH;FMTTYPE=image/jpeg:https://loneoakbrewingco.com/wp-content/uploads/2022/03/grubbin-hard.jpeg
END:VEVENT
BEGIN:VEVENT
DTSTART;TZID=UTC:20221112T120000
DTEND;TZID=UTC:20221112T200000
DTSTAMP:20260423T012743
CREATED:20220529T012714Z
LAST-MODIFIED:20220529T012714Z
UID:1647-1668254400-1668283200@loneoakbrewingco.com
SUMMARY:FOOD TRUCK - TRIPPY TACOS
DESCRIPTION:
URL:https://loneoakbrewingco.com/event/food-truck-trippy-tacos-3/
LOCATION:Lone Oak Brewery\, 5000 Olney Laytonsville Rd\, Olney\, MD\, 20832\, United States
CATEGORIES:Food Truck
ATTACH;FMTTYPE=image/png:https://loneoakbrewingco.com/wp-content/uploads/2022/05/Screen-Shot-2022-05-28-at-5.02.34-PM.png
END:VEVENT
BEGIN:VEVENT
DTSTART;TZID=UTC:20221112T140000
DTEND;TZID=UTC:20221112T170000
DTSTAMP:20260423T012743
CREATED:20221015T031304Z
LAST-MODIFIED:20221015T031304Z
UID:1983-1668261600-1668272400@loneoakbrewingco.com
SUMMARY:LIVE MUSIC - NOAH BOOZ
DESCRIPTION:
URL:https://loneoakbrewingco.com/event/live-music-noah-booz/
LOCATION:Lone Oak Brewery\, 5000 Olney Laytonsville Rd\, Olney\, MD\, 20832\, United States
CATEGORIES:Live Music
ATTACH;FMTTYPE=image/png:https://loneoakbrewingco.com/wp-content/uploads/2022/10/Screen-Shot-2022-10-14-at-7.11.50-PM-e1665789147651.png
END:VEVENT
BEGIN:VEVENT
DTSTART;TZID=UTC:20221113T120000
DTEND;TZID=UTC:20221113T190000
DTSTAMP:20260423T012743
CREATED:20220529T014908Z
LAST-MODIFIED:20220529T014908Z
UID:1649-1668340800-1668366000@loneoakbrewingco.com
SUMMARY:FOOD TRUCK - TRIPPY TACOS
DESCRIPTION:
URL:https://loneoakbrewingco.com/event/food-truck-trippy-tacos-4/
LOCATION:Lone Oak Brewery\, 5000 Olney Laytonsville Rd\, Olney\, MD\, 20832\, United States
CATEGORIES:Food Truck
ATTACH;FMTTYPE=image/png:https://loneoakbrewingco.com/wp-content/uploads/2022/05/Screen-Shot-2022-05-28-at-5.02.34-PM.png
END:VEVENT
BEGIN:VEVENT
DTSTART;TZID=UTC:20221119T120000
DTEND;TZID=UTC:20221119T200000
DTSTAMP:20260423T012743
CREATED:20220529T015825Z
LAST-MODIFIED:20220529T015825Z
UID:1653-1668859200-1668888000@loneoakbrewingco.com
SUMMARY:FOOD TRUCK - CATALYST HOT DOGS
DESCRIPTION:
URL:https://loneoakbrewingco.com/event/food-truck-catalyst-hot-dogs-9/
LOCATION:Lone Oak Brewery\, 5000 Olney Laytonsville Rd\, Olney\, MD\, 20832\, United States
CATEGORIES:Food Truck
ATTACH;FMTTYPE=image/jpeg:https://loneoakbrewingco.com/wp-content/uploads/2022/03/catalysthotdogs.jpg
END:VEVENT
BEGIN:VEVENT
DTSTART;TZID=UTC:20221119T140000
DTEND;TZID=UTC:20221119T170000
DTSTAMP:20260423T012743
CREATED:20220529T001104Z
LAST-MODIFIED:20220529T001518Z
UID:1571-1668866400-1668877200@loneoakbrewingco.com
SUMMARY:LIVE MUSIC - MICHAEL HEISTER
DESCRIPTION:
URL:https://loneoakbrewingco.com/event/live-music-michael-heister-2/
LOCATION:Lone Oak Brewery\, 5000 Olney Laytonsville Rd\, Olney\, MD\, 20832\, United States
CATEGORIES:Live Music
ATTACH;FMTTYPE=image/png:https://loneoakbrewingco.com/wp-content/uploads/2022/05/Screen-Shot-2022-05-26-at-7.40.43-PM-e1653768867364.png
END:VEVENT
BEGIN:VEVENT
DTSTART;TZID=UTC:20221120T120000
DTEND;TZID=UTC:20221120T190000
DTSTAMP:20260423T012743
CREATED:20220529T015935Z
LAST-MODIFIED:20220529T015935Z
UID:1655-1668945600-1668970800@loneoakbrewingco.com
SUMMARY:FOOD TRUCK - PETIT AFRIK
DESCRIPTION:
URL:https://loneoakbrewingco.com/event/food-truck-petit-afrik-5/
LOCATION:Lone Oak Brewery\, 5000 Olney Laytonsville Rd\, Olney\, MD\, 20832\, United States
CATEGORIES:Food Truck
ATTACH;FMTTYPE=image/jpeg:https://loneoakbrewingco.com/wp-content/uploads/2022/03/background-oak.jpg
END:VEVENT
BEGIN:VEVENT
DTSTART;TZID=UTC:20221125T160000
DTEND;TZID=UTC:20221125T190000
DTSTAMP:20260423T012743
CREATED:20221109T195117Z
LAST-MODIFIED:20221109T195117Z
UID:2025-1669392000-1669402800@loneoakbrewingco.com
SUMMARY:LIVE MUSIC - DROP THE MIC A CAPELLA
DESCRIPTION:
URL:https://loneoakbrewingco.com/event/live-music-drop-the-mic-a-capella/
LOCATION:Lone Oak Brewery\, 5000 Olney Laytonsville Rd\, Olney\, MD\, 20832\, United States
CATEGORIES:Live Music
ATTACH;FMTTYPE=image/png:https://loneoakbrewingco.com/wp-content/uploads/2022/11/Screen-Shot-2022-11-09-at-9.49.31-AM.png
END:VEVENT
BEGIN:VEVENT
DTSTART;TZID=UTC:20221126T120000
DTEND;TZID=UTC:20221126T200000
DTSTAMP:20260423T012743
CREATED:20220824T205028Z
LAST-MODIFIED:20220824T205028Z
UID:1885-1669464000-1669492800@loneoakbrewingco.com
SUMMARY:FOOD TRUCK - FLIPSIDE GASTRO
DESCRIPTION:
URL:https://loneoakbrewingco.com/event/food-truck-flipside-gastro-17/
LOCATION:Lone Oak Brewery\, 5000 Olney Laytonsville Rd\, Olney\, MD\, 20832\, United States
CATEGORIES:Food Truck
ATTACH;FMTTYPE=image/jpeg:https://loneoakbrewingco.com/wp-content/uploads/2022/03/flipside-gastro-truck.jpeg
END:VEVENT
END:VCALENDAR