BEGIN:VCALENDAR
VERSION:2.0
PRODID:-//Lone Oak Brewing Co. - ECPv6.15.20//NONSGML v1.0//EN
CALSCALE:GREGORIAN
METHOD:PUBLISH
X-ORIGINAL-URL:https://loneoakbrewingco.com
X-WR-CALDESC:Events for Lone Oak Brewing Co.
REFRESH-INTERVAL;VALUE=DURATION:PT1H
X-Robots-Tag:noindex
X-PUBLISHED-TTL:PT1H
BEGIN:VTIMEZONE
TZID:UTC
BEGIN:STANDARD
TZOFFSETFROM:+0000
TZOFFSETTO:+0000
TZNAME:UTC
DTSTART:20210101T000000
END:STANDARD
END:VTIMEZONE
BEGIN:VEVENT
DTSTART;VALUE=DATE:20221201
DTEND;VALUE=DATE:20221219
DTSTAMP:20260422T174550
CREATED:20221201T034808Z
LAST-MODIFIED:20221201T034808Z
UID:2102-1669852800-1671407999@loneoakbrewingco.com
SUMMARY:LONE OAK FARM TOY DRIVE
DESCRIPTION:Benefitting MasonStrong Village and Children’s Hospital
URL:https://loneoakbrewingco.com/event/lone-oak-farm-toy-drive/
LOCATION:Lone Oak Brewery\, 5000 Olney Laytonsville Rd\, Olney\, MD\, 20832\, United States
CATEGORIES:Fundraiser
ATTACH;FMTTYPE=image/png:https://loneoakbrewingco.com/wp-content/uploads/2022/11/Screen-Shot-2022-11-30-at-5.47.44-PM.png
END:VEVENT
BEGIN:VEVENT
DTSTART;TZID=UTC:20221201T180000
DTEND;TZID=UTC:20221201T200000
DTSTAMP:20260422T174550
CREATED:20221129T205831Z
LAST-MODIFIED:20221129T205831Z
UID:2087-1669917600-1669924800@loneoakbrewingco.com
SUMMARY:TRIVIA NIGHT WITH POUR HOUSE TRIVIA!
DESCRIPTION:
URL:https://loneoakbrewingco.com/event/trivia-night-with-pour-house-trivia/
LOCATION:Lone Oak Brewery\, 5000 Olney Laytonsville Rd\, Olney\, MD\, 20832\, United States
CATEGORIES:Trivia
ATTACH;FMTTYPE=image/jpeg:https://loneoakbrewingco.com/wp-content/uploads/2022/03/pourhousetrivia.jpg
END:VEVENT
BEGIN:VEVENT
DTSTART;TZID=UTC:20221203T120000
DTEND;TZID=UTC:20221203T140000
DTSTAMP:20260422T174550
CREATED:20221201T031359Z
LAST-MODIFIED:20221201T031507Z
UID:2097-1670068800-1670076000@loneoakbrewingco.com
SUMMARY:SANTA AT THE FARM!
DESCRIPTION:
URL:https://loneoakbrewingco.com/event/santa-at-the-farm/
LOCATION:MD
CATEGORIES:Holiday Events
ATTACH;FMTTYPE=image/png:https://loneoakbrewingco.com/wp-content/uploads/2022/11/Screen-Shot-2022-11-30-at-5.12.52-PM-e1669846499800.png
END:VEVENT
BEGIN:VEVENT
DTSTART;TZID=UTC:20221203T120000
DTEND;TZID=UTC:20221203T170000
DTSTAMP:20260422T174550
CREATED:20221201T040154Z
LAST-MODIFIED:20221201T040154Z
UID:2108-1670068800-1670086800@loneoakbrewingco.com
SUMMARY:OFFSITE EVENT: SAINT BERNADETTES SIP AND SHOP
DESCRIPTION:
URL:https://loneoakbrewingco.com/event/offsite-event-saint-bernadettes-sip-and-shop/
LOCATION:Lone Oak Brewery\, 5000 Olney Laytonsville Rd\, Olney\, MD\, 20832\, United States
CATEGORIES:Offsite Event
ATTACH;FMTTYPE=image/png:https://loneoakbrewingco.com/wp-content/uploads/2022/11/Screen-Shot-2022-11-30-at-6.01.42-PM.png
END:VEVENT
BEGIN:VEVENT
DTSTART;TZID=UTC:20221203T120000
DTEND;TZID=UTC:20221203T200000
DTSTAMP:20260422T174550
CREATED:20220529T020737Z
LAST-MODIFIED:20220529T020737Z
UID:1665-1670068800-1670097600@loneoakbrewingco.com
SUMMARY:FOOD TRUCK - FLIPSIDE GASTRO
DESCRIPTION:
URL:https://loneoakbrewingco.com/event/food-truck-flipside-gastro-15/
LOCATION:Lone Oak Brewery\, 5000 Olney Laytonsville Rd\, Olney\, MD\, 20832\, United States
CATEGORIES:Food Truck
ATTACH;FMTTYPE=image/jpeg:https://loneoakbrewingco.com/wp-content/uploads/2022/03/flipside-gastro-truck.jpeg
END:VEVENT
BEGIN:VEVENT
DTSTART;TZID=UTC:20221203T140000
DTEND;TZID=UTC:20221203T170000
DTSTAMP:20260422T174550
CREATED:20220529T002632Z
LAST-MODIFIED:20220529T002815Z
UID:1583-1670076000-1670086800@loneoakbrewingco.com
SUMMARY:LIVE MUSIC - FRAN SCUDERI
DESCRIPTION:
URL:https://loneoakbrewingco.com/event/live-music-fran-scuderi-13/
LOCATION:Lone Oak Brewery\, 5000 Olney Laytonsville Rd\, Olney\, MD\, 20832\, United States
CATEGORIES:Live Music
ATTACH;FMTTYPE=image/png:https://loneoakbrewingco.com/wp-content/uploads/2022/05/FRAN-SCUDERI.png
END:VEVENT
BEGIN:VEVENT
DTSTART;TZID=UTC:20221208T180000
DTEND;TZID=UTC:20221208T200000
DTSTAMP:20260422T174550
CREATED:20221201T030412Z
LAST-MODIFIED:20221201T030412Z
UID:2089-1670522400-1670529600@loneoakbrewingco.com
SUMMARY:TRIVIA NIGHT WITH POUR HOUSE TRIVIA!
DESCRIPTION:
URL:https://loneoakbrewingco.com/event/trivia-night-with-pour-house-trivia-2/
LOCATION:Lone Oak Brewery\, 5000 Olney Laytonsville Rd\, Olney\, MD\, 20832\, United States
CATEGORIES:Trivia
ATTACH;FMTTYPE=image/jpeg:https://loneoakbrewingco.com/wp-content/uploads/2022/03/pourhousetrivia.jpg
END:VEVENT
BEGIN:VEVENT
DTSTART;TZID=UTC:20221208T180000
DTEND;TZID=UTC:20221208T200000
DTSTAMP:20260422T174550
CREATED:20221201T031854Z
LAST-MODIFIED:20221201T035630Z
UID:2100-1670522400-1670529600@loneoakbrewingco.com
SUMMARY:Barrel Club Event in Brewhouse
DESCRIPTION:Click here to sign up:
URL:https://loneoakbrewingco.com/event/barrel-club-event-in-brewhouse/
LOCATION:Lone Oak Brewery\, 5000 Olney Laytonsville Rd\, Olney\, MD\, 20832\, United States
CATEGORIES:Private Event
ATTACH;FMTTYPE=image/jpeg:https://loneoakbrewingco.com/wp-content/uploads/2022/03/our-story-header.jpg
END:VEVENT
BEGIN:VEVENT
DTSTART;TZID=UTC:20221210T120000
DTEND;TZID=UTC:20221210T200000
DTSTAMP:20260422T174550
CREATED:20220529T021804Z
LAST-MODIFIED:20220529T021804Z
UID:1672-1670673600-1670702400@loneoakbrewingco.com
SUMMARY:FOOD TRUCK - CORNED BEEF KING
DESCRIPTION:
URL:https://loneoakbrewingco.com/event/food-truck-corned-beef-king-8/
LOCATION:Lone Oak Brewery\, 5000 Olney Laytonsville Rd\, Olney\, MD\, 20832\, United States
CATEGORIES:Food Truck
ATTACH;FMTTYPE=image/jpeg:https://loneoakbrewingco.com/wp-content/uploads/2022/03/cornedbeef.jpg
END:VEVENT
BEGIN:VEVENT
DTSTART;TZID=UTC:20221210T140000
DTEND;TZID=UTC:20221210T170000
DTSTAMP:20260422T174550
CREATED:20220529T002917Z
LAST-MODIFIED:20220529T002917Z
UID:1586-1670680800-1670691600@loneoakbrewingco.com
SUMMARY:LIVE MUSIC - PARK VALLEY
DESCRIPTION:
URL:https://loneoakbrewingco.com/event/live-music-park-valley-2/
LOCATION:Lone Oak Brewery\, 5000 Olney Laytonsville Rd\, Olney\, MD\, 20832\, United States
CATEGORIES:Live Music
ATTACH;FMTTYPE=image/png:https://loneoakbrewingco.com/wp-content/uploads/2022/05/Screen-Shot-2022-05-13-at-9.02.02-PM.png
END:VEVENT
BEGIN:VEVENT
DTSTART;TZID=UTC:20221215T180000
DTEND;TZID=UTC:20221215T200000
DTSTAMP:20260422T174550
CREATED:20221201T030455Z
LAST-MODIFIED:20221201T030455Z
UID:2091-1671127200-1671134400@loneoakbrewingco.com
SUMMARY:TRIVIA NIGHT WITH POUR HOUSE TRIVIA!
DESCRIPTION:
URL:https://loneoakbrewingco.com/event/trivia-night-with-pour-house-trivia-3/
LOCATION:Lone Oak Brewery\, 5000 Olney Laytonsville Rd\, Olney\, MD\, 20832\, United States
CATEGORIES:Trivia
ATTACH;FMTTYPE=image/jpeg:https://loneoakbrewingco.com/wp-content/uploads/2022/03/pourhousetrivia.jpg
END:VEVENT
BEGIN:VEVENT
DTSTART;TZID=UTC:20221217T120000
DTEND;TZID=UTC:20221217T200000
DTSTAMP:20260422T174550
CREATED:20220529T042853Z
LAST-MODIFIED:20220529T042853Z
UID:1678-1671278400-1671307200@loneoakbrewingco.com
SUMMARY:FOOD TRUCK - FLIPSIDE GASTRO
DESCRIPTION:
URL:https://loneoakbrewingco.com/event/food-truck-flipside-gastro-16/
LOCATION:Lone Oak Brewery\, 5000 Olney Laytonsville Rd\, Olney\, MD\, 20832\, United States
CATEGORIES:Food Truck
ATTACH;FMTTYPE=image/jpeg:https://loneoakbrewingco.com/wp-content/uploads/2022/03/flipside-gastro-truck.jpeg
END:VEVENT
BEGIN:VEVENT
DTSTART;TZID=UTC:20221217T140000
DTEND;TZID=UTC:20221217T170000
DTSTAMP:20260422T174550
CREATED:20220602T021310Z
LAST-MODIFIED:20220602T021310Z
UID:1693-1671285600-1671296400@loneoakbrewingco.com
SUMMARY:LIVE MUSIC - BRADY OCONOR
DESCRIPTION:
URL:https://loneoakbrewingco.com/event/live-music-brady-oconor-5/
LOCATION:Lone Oak Brewery\, 5000 Olney Laytonsville Rd\, Olney\, MD\, 20832\, United States
CATEGORIES:Live Music
ATTACH;FMTTYPE=image/jpeg:https://loneoakbrewingco.com/wp-content/uploads/2022/03/brady-oconor.jpg
END:VEVENT
BEGIN:VEVENT
DTSTART;TZID=UTC:20221222T180000
DTEND;TZID=UTC:20221222T200000
DTSTAMP:20260422T174550
CREATED:20221201T030616Z
LAST-MODIFIED:20221201T030616Z
UID:2093-1671732000-1671739200@loneoakbrewingco.com
SUMMARY:TRIVIA NIGHT WITH POUR HOUSE TRIVIA!
DESCRIPTION:
URL:https://loneoakbrewingco.com/event/trivia-night-with-pour-house-trivia-4/
LOCATION:Lone Oak Brewery\, 5000 Olney Laytonsville Rd\, Olney\, MD\, 20832\, United States
CATEGORIES:Trivia
ATTACH;FMTTYPE=image/jpeg:https://loneoakbrewingco.com/wp-content/uploads/2022/03/pourhousetrivia.jpg
END:VEVENT
BEGIN:VEVENT
DTSTART;TZID=UTC:20221224T170000
DTEND;TZID=UTC:20221224T170000
DTSTAMP:20260422T174550
CREATED:20221209T041254Z
LAST-MODIFIED:20221209T041254Z
UID:2113-1671901200-1671901200@loneoakbrewingco.com
SUMMARY:HOLIDAY HOURS: 12/24 CLOSED AT 5PM
DESCRIPTION:
URL:https://loneoakbrewingco.com/event/holiday-hours-12-24-closed-at-5pm/
LOCATION:Lone Oak Brewery\, 5000 Olney Laytonsville Rd\, Olney\, MD\, 20832\, United States
CATEGORIES:Holiday Hours
ATTACH;FMTTYPE=image/png:https://loneoakbrewingco.com/wp-content/uploads/2022/04/login.png
END:VEVENT
BEGIN:VEVENT
DTSTART;VALUE=DATE:20221225
DTEND;VALUE=DATE:20221226
DTSTAMP:20260422T174550
CREATED:20221209T041654Z
LAST-MODIFIED:20221209T041735Z
UID:2115-1671926400-1672012799@loneoakbrewingco.com
SUMMARY:HOLIDAY HOURS: 12/25 CLOSED
DESCRIPTION:
URL:https://loneoakbrewingco.com/event/holiday-hours-12-25-closed/
LOCATION:Lone Oak Brewery\, 5000 Olney Laytonsville Rd\, Olney\, MD\, 20832\, United States
CATEGORIES:Holiday Hours
ATTACH;FMTTYPE=image/png:https://loneoakbrewingco.com/wp-content/uploads/2022/04/login.png
END:VEVENT
BEGIN:VEVENT
DTSTART;TZID=UTC:20221229T180000
DTEND;TZID=UTC:20221229T200000
DTSTAMP:20260422T174550
CREATED:20221201T030717Z
LAST-MODIFIED:20230119T022442Z
UID:2095-1672336800-1672344000@loneoakbrewingco.com
SUMMARY:TRIVIA NIGHT WITH POUR HOUSE TRIVIA!
DESCRIPTION:Grab your thinking cap and test your knowledge with Pour House Trivia! Get a group together for prizes and $5 beer! All ages and levels are welcome. \nWe’ll see you there!
URL:https://loneoakbrewingco.com/event/trivia-night-with-pour-house-trivia-5/
LOCATION:Lone Oak Brewery\, 5000 Olney Laytonsville Rd\, Olney\, MD\, 20832\, United States
CATEGORIES:Trivia
ATTACH;FMTTYPE=image/jpeg:https://loneoakbrewingco.com/wp-content/uploads/2022/03/pourhousetrivia.jpg
END:VEVENT
BEGIN:VEVENT
DTSTART;TZID=UTC:20221231T110000
DTEND;TZID=UTC:20221231T210000
DTSTAMP:20260422T174550
CREATED:20221209T042325Z
LAST-MODIFIED:20221209T043437Z
UID:2117-1672484400-1672520400@loneoakbrewingco.com
SUMMARY:HOLIDAY HOURS: 12/31 NORMAL HOURS
DESCRIPTION:
URL:https://loneoakbrewingco.com/event/holiday-hours-12-31-normal-hours/
LOCATION:Lone Oak Brewery\, 5000 Olney Laytonsville Rd\, Olney\, MD\, 20832\, United States
CATEGORIES:Holiday Hours
ATTACH;FMTTYPE=image/png:https://loneoakbrewingco.com/wp-content/uploads/2022/04/login.png
END:VEVENT
BEGIN:VEVENT
DTSTART;TZID=UTC:20230101T110000
DTEND;TZID=UTC:20230101T200000
DTSTAMP:20260422T174550
CREATED:20221209T043111Z
LAST-MODIFIED:20221209T044355Z
UID:2119-1672570800-1672603200@loneoakbrewingco.com
SUMMARY:HOLIDAY HOURS: 1/1 NORMAL HOURS
DESCRIPTION:
URL:https://loneoakbrewingco.com/event/holiday-hours-1-1-normal-hours/
LOCATION:Lone Oak Brewery\, 5000 Olney Laytonsville Rd\, Olney\, MD\, 20832\, United States
CATEGORIES:Holiday Hours
ATTACH;FMTTYPE=image/png:https://loneoakbrewingco.com/wp-content/uploads/2022/04/login.png
END:VEVENT
BEGIN:VEVENT
DTSTART;TZID=UTC:20230104T150000
DTEND;TZID=UTC:20230104T200000
DTSTAMP:20260422T174550
CREATED:20221221T191019Z
LAST-MODIFIED:20230303T071320Z
UID:2144-1672844400-1672862400@loneoakbrewingco.com
SUMMARY:WINTER HOURS: Opening 3PM Wednesdays & Thursdays
DESCRIPTION:Winter is upon us! We will be changing our winter hours to opening at 3pm on Wednesdays and Thursdays. See you at the farm!
URL:https://loneoakbrewingco.com/event/lone-oak-winter-hours-3pm-opening-wednesdays-thursdays/
LOCATION:Lone Oak Brewery\, 5000 Olney Laytonsville Rd\, Olney\, MD\, 20832\, United States
CATEGORIES:Holiday Hours
ATTACH;FMTTYPE=image/png:https://loneoakbrewingco.com/wp-content/uploads/2022/04/login.png
END:VEVENT
BEGIN:VEVENT
DTSTART;TZID=UTC:20230107T140000
DTEND;TZID=UTC:20230107T170000
DTSTAMP:20260422T174550
CREATED:20221110T041737Z
LAST-MODIFIED:20221110T041752Z
UID:2030-1673100000-1673110800@loneoakbrewingco.com
SUMMARY:LIVE MUSIC - TRE. CHARLES
DESCRIPTION:
URL:https://loneoakbrewingco.com/event/live-music-tre-charles/
LOCATION:Lone Oak Brewery\, 5000 Olney Laytonsville Rd\, Olney\, MD\, 20832\, United States
CATEGORIES:Live Music
ATTACH;FMTTYPE=image/png:https://loneoakbrewingco.com/wp-content/uploads/2022/11/Screen-Shot-2022-11-09-at-6.17.16-PM.png
END:VEVENT
BEGIN:VEVENT
DTSTART;TZID=UTC:20230114T140000
DTEND;TZID=UTC:20230114T170000
DTSTAMP:20260422T174550
CREATED:20221110T041853Z
LAST-MODIFIED:20221110T041853Z
UID:2033-1673704800-1673715600@loneoakbrewingco.com
SUMMARY:LIVE MUSIC - FRAN SCUDERI
DESCRIPTION:
URL:https://loneoakbrewingco.com/event/live-music-fran-scuderi-7/
LOCATION:Lone Oak Brewery\, 5000 Olney Laytonsville Rd\, Olney\, MD\, 20832\, United States
CATEGORIES:Live Music
ATTACH;FMTTYPE=image/png:https://loneoakbrewingco.com/wp-content/uploads/2022/05/FRAN-SCUDERI.png
END:VEVENT
BEGIN:VEVENT
DTSTART;TZID=UTC:20230121T140000
DTEND;TZID=UTC:20230121T170000
DTSTAMP:20260422T174550
CREATED:20221110T042106Z
LAST-MODIFIED:20221110T042106Z
UID:2035-1674309600-1674320400@loneoakbrewingco.com
SUMMARY:LIVE MUSIC - JESSICA PAULIN
DESCRIPTION:
URL:https://loneoakbrewingco.com/event/live-music-jessica-paulin/
LOCATION:Lone Oak Brewery\, 5000 Olney Laytonsville Rd\, Olney\, MD\, 20832\, United States
CATEGORIES:Live Music
ATTACH;FMTTYPE=image/png:https://loneoakbrewingco.com/wp-content/uploads/2022/11/Screen-Shot-2022-11-09-at-6.20.19-PM.png
END:VEVENT
BEGIN:VEVENT
DTSTART;TZID=UTC:20230128T140000
DTEND;TZID=UTC:20230128T170000
DTSTAMP:20260422T174550
CREATED:20221110T042401Z
LAST-MODIFIED:20221110T042401Z
UID:2038-1674914400-1674925200@loneoakbrewingco.com
SUMMARY:LIVE MUSIC - BAILEY & DAVE
DESCRIPTION:
URL:https://loneoakbrewingco.com/event/live-music-bailey-dave/
LOCATION:Lone Oak Brewery\, 5000 Olney Laytonsville Rd\, Olney\, MD\, 20832\, United States
CATEGORIES:Live Music
ATTACH;FMTTYPE=image/png:https://loneoakbrewingco.com/wp-content/uploads/2022/11/Screen-Shot-2022-11-09-at-6.23.00-PM.png
END:VEVENT
BEGIN:VEVENT
DTSTART;TZID=UTC:20230204T110000
DTEND;TZID=UTC:20230204T160000
DTSTAMP:20260422T174550
CREATED:20221221T184129Z
LAST-MODIFIED:20221221T184246Z
UID:2139-1675508400-1675526400@loneoakbrewingco.com
SUMMARY:OFFSITE EVENT: MARLYAND STATE POLICE POLAR BEAR PLUNGE AT SANDY POINT STATE PARK
DESCRIPTION:Come out and TAKE THE PLUNGE! \nThe Maryland State Police Polar Bear Plunge is a fundraising event to support Special Olympics athletes who train and compete year-round throughout Maryland. \nLone Oak Farm Brewing Co. will be there pouring you a beer for taking THE PLUNGE! \nSign up here: https://support.somd.org/event/2023-maryland-plunge/e408370?c_src2=Web_Plunge
URL:https://loneoakbrewingco.com/event/offsite-event-marlyand-state-police-polar-bear-plunge-at-sandy-point-state-park/
LOCATION:Lone Oak Brewery\, 5000 Olney Laytonsville Rd\, Olney\, MD\, 20832\, United States
CATEGORIES:Fundraiser,Offsite Event
ATTACH;FMTTYPE=image/png:https://loneoakbrewingco.com/wp-content/uploads/2022/12/Screen-Shot-2022-12-21-at-8.35.51-AM.png
END:VEVENT
BEGIN:VEVENT
DTSTART;TZID=UTC:20230204T140000
DTEND;TZID=UTC:20230204T170000
DTSTAMP:20260422T174550
CREATED:20221110T042707Z
LAST-MODIFIED:20221110T042812Z
UID:2041-1675519200-1675530000@loneoakbrewingco.com
SUMMARY:LIVE MUSIC - FRAN SCUDERI
DESCRIPTION:
URL:https://loneoakbrewingco.com/event/live-music-fran-scuderi-11/
LOCATION:Lone Oak Brewery\, 5000 Olney Laytonsville Rd\, Olney\, MD\, 20832\, United States
CATEGORIES:Live Music
ATTACH;FMTTYPE=image/png:https://loneoakbrewingco.com/wp-content/uploads/2022/05/FRAN-SCUDERI.png
END:VEVENT
BEGIN:VEVENT
DTSTART;TZID=UTC:20230209T190000
DTEND;TZID=UTC:20230209T210000
DTSTAMP:20260422T174550
CREATED:20221210T015153Z
LAST-MODIFIED:20230107T055725Z
UID:2121-1675969200-1675976400@loneoakbrewingco.com
SUMMARY:LAUGH - AND LOVE - AT LONE OAK COMEDY SHOW
DESCRIPTION:Looking for that perfect something to treat your Valentine to? Want a fun Galentine celebration? Look no further – bring them to our hilarious Special Valentine’s National Comedy Show at Lone Oak where you can see national Comedians as seen on NBC\, CBS\, Rachel Ray\, and more! Main headliner Mike Burton is joined by Jon Yeager and the one and only Lucas will be our host. You don’t want to miss this laugh-out-loud event! \nGet tickets here: https://www.eventbrite.com/e/special-valentines-national-comedy-show-lone-oak-farm-brewing-tickets-502100745847. Available ticket options: Individual\, Reserved Table of Six\, Reserved Table of Four. This comedy show is indoors and ticket space is limited\, so get your tickets while they last!
URL:https://loneoakbrewingco.com/event/laugh-and-love-at-lone-oak-comedy-show/
LOCATION:Lone Oak Brewery\, 5000 Olney Laytonsville Rd\, Olney\, MD\, 20832\, United States
CATEGORIES:Ticketed Event
ATTACH;FMTTYPE=image/png:https://loneoakbrewingco.com/wp-content/uploads/2022/12/Screenshot-2023-01-05-at-7.11.38-PM.png
END:VEVENT
BEGIN:VEVENT
DTSTART;TZID=UTC:20230211T140000
DTEND;TZID=UTC:20230211T170000
DTSTAMP:20260422T174550
CREATED:20221110T042916Z
LAST-MODIFIED:20230205T212901Z
UID:2043-1676124000-1676134800@loneoakbrewingco.com
SUMMARY:LIVE MUSIC - BRADY O'CONOR
DESCRIPTION:Brady is an acoustic artist from Frederick\, Maryland.  Growing up in Montgomery County\, Brady had acquired an eclectic music taste that is sure to entertain or enlighten anyone who listens.
URL:https://loneoakbrewingco.com/event/live-music-brady-oconor-6/
LOCATION:Lone Oak Brewery\, 5000 Olney Laytonsville Rd\, Olney\, MD\, 20832\, United States
CATEGORIES:Live Music
ATTACH;FMTTYPE=image/jpeg:https://loneoakbrewingco.com/wp-content/uploads/2022/03/brady-oconor.jpg
END:VEVENT
BEGIN:VEVENT
DTSTART;TZID=UTC:20230216T180000
DTEND;TZID=UTC:20230216T200000
DTSTAMP:20260422T174550
CREATED:20230213T035203Z
LAST-MODIFIED:20230324T014102Z
UID:2843-1676570400-1676577600@loneoakbrewingco.com
SUMMARY:TRIVIA NIGHT WITH POUR HOUSE TRIVIA!
DESCRIPTION:Grab your thinking cap and test your knowledge with Pour House Trivia! Get a group together for prizes and $5 beer! All ages and levels are welcome. \nWe’ll see you there!
URL:https://loneoakbrewingco.com/event/pour-house-trivia-night/
LOCATION:Lone Oak Brewery\, 5000 Olney Laytonsville Rd\, Olney\, MD\, 20832\, United States
CATEGORIES:Trivia
ATTACH;FMTTYPE=image/jpeg:https://loneoakbrewingco.com/wp-content/uploads/2022/03/pourhousetrivia.jpg
END:VEVENT
BEGIN:VEVENT
DTSTART;TZID=UTC:20230218T140000
DTEND;TZID=UTC:20230218T170000
DTSTAMP:20260422T174550
CREATED:20221110T043325Z
LAST-MODIFIED:20221110T050443Z
UID:2045-1676728800-1676739600@loneoakbrewingco.com
SUMMARY:LIVE MUSIC - TOM ANTHONY
DESCRIPTION:
URL:https://loneoakbrewingco.com/event/live-music-tom-anthony/
LOCATION:Lone Oak Brewery\, 5000 Olney Laytonsville Rd\, Olney\, MD\, 20832\, United States
CATEGORIES:Live Music
ATTACH;FMTTYPE=image/png:https://loneoakbrewingco.com/wp-content/uploads/2022/11/Screen-Shot-2022-11-09-at-6.55.05-PM.png
END:VEVENT
END:VCALENDAR