BEGIN:VCALENDAR
VERSION:2.0
PRODID:-//Lone Oak Brewing Co. - ECPv6.15.20//NONSGML v1.0//EN
CALSCALE:GREGORIAN
METHOD:PUBLISH
X-ORIGINAL-URL:https://loneoakbrewingco.com
X-WR-CALDESC:Events for Lone Oak Brewing Co.
REFRESH-INTERVAL;VALUE=DURATION:PT1H
X-Robots-Tag:noindex
X-PUBLISHED-TTL:PT1H
BEGIN:VTIMEZONE
TZID:UTC
BEGIN:STANDARD
TZOFFSETFROM:+0000
TZOFFSETTO:+0000
TZNAME:UTC
DTSTART:20220101T000000
END:STANDARD
END:VTIMEZONE
BEGIN:VEVENT
DTSTART;TZID=UTC:20230209T190000
DTEND;TZID=UTC:20230209T210000
DTSTAMP:20260422T174614
CREATED:20221210T015153Z
LAST-MODIFIED:20230107T055725Z
UID:2121-1675969200-1675976400@loneoakbrewingco.com
SUMMARY:LAUGH - AND LOVE - AT LONE OAK COMEDY SHOW
DESCRIPTION:Looking for that perfect something to treat your Valentine to? Want a fun Galentine celebration? Look no further – bring them to our hilarious Special Valentine’s National Comedy Show at Lone Oak where you can see national Comedians as seen on NBC\, CBS\, Rachel Ray\, and more! Main headliner Mike Burton is joined by Jon Yeager and the one and only Lucas will be our host. You don’t want to miss this laugh-out-loud event! \nGet tickets here: https://www.eventbrite.com/e/special-valentines-national-comedy-show-lone-oak-farm-brewing-tickets-502100745847. Available ticket options: Individual\, Reserved Table of Six\, Reserved Table of Four. This comedy show is indoors and ticket space is limited\, so get your tickets while they last!
URL:https://loneoakbrewingco.com/event/laugh-and-love-at-lone-oak-comedy-show/
LOCATION:Lone Oak Brewery\, 5000 Olney Laytonsville Rd\, Olney\, MD\, 20832\, United States
CATEGORIES:Ticketed Event
ATTACH;FMTTYPE=image/png:https://loneoakbrewingco.com/wp-content/uploads/2022/12/Screenshot-2023-01-05-at-7.11.38-PM.png
END:VEVENT
BEGIN:VEVENT
DTSTART;TZID=UTC:20230211T140000
DTEND;TZID=UTC:20230211T170000
DTSTAMP:20260422T174614
CREATED:20221110T042916Z
LAST-MODIFIED:20230205T212901Z
UID:2043-1676124000-1676134800@loneoakbrewingco.com
SUMMARY:LIVE MUSIC - BRADY O'CONOR
DESCRIPTION:Brady is an acoustic artist from Frederick\, Maryland.  Growing up in Montgomery County\, Brady had acquired an eclectic music taste that is sure to entertain or enlighten anyone who listens.
URL:https://loneoakbrewingco.com/event/live-music-brady-oconor-6/
LOCATION:Lone Oak Brewery\, 5000 Olney Laytonsville Rd\, Olney\, MD\, 20832\, United States
CATEGORIES:Live Music
ATTACH;FMTTYPE=image/jpeg:https://loneoakbrewingco.com/wp-content/uploads/2022/03/brady-oconor.jpg
END:VEVENT
BEGIN:VEVENT
DTSTART;TZID=UTC:20230216T180000
DTEND;TZID=UTC:20230216T200000
DTSTAMP:20260422T174614
CREATED:20230213T035203Z
LAST-MODIFIED:20230324T014102Z
UID:2843-1676570400-1676577600@loneoakbrewingco.com
SUMMARY:TRIVIA NIGHT WITH POUR HOUSE TRIVIA!
DESCRIPTION:Grab your thinking cap and test your knowledge with Pour House Trivia! Get a group together for prizes and $5 beer! All ages and levels are welcome. \nWe’ll see you there!
URL:https://loneoakbrewingco.com/event/pour-house-trivia-night/
LOCATION:Lone Oak Brewery\, 5000 Olney Laytonsville Rd\, Olney\, MD\, 20832\, United States
CATEGORIES:Trivia
ATTACH;FMTTYPE=image/jpeg:https://loneoakbrewingco.com/wp-content/uploads/2022/03/pourhousetrivia.jpg
END:VEVENT
BEGIN:VEVENT
DTSTART;TZID=UTC:20230218T140000
DTEND;TZID=UTC:20230218T170000
DTSTAMP:20260422T174614
CREATED:20221110T043325Z
LAST-MODIFIED:20221110T050443Z
UID:2045-1676728800-1676739600@loneoakbrewingco.com
SUMMARY:LIVE MUSIC - TOM ANTHONY
DESCRIPTION:
URL:https://loneoakbrewingco.com/event/live-music-tom-anthony/
LOCATION:Lone Oak Brewery\, 5000 Olney Laytonsville Rd\, Olney\, MD\, 20832\, United States
CATEGORIES:Live Music
ATTACH;FMTTYPE=image/png:https://loneoakbrewingco.com/wp-content/uploads/2022/11/Screen-Shot-2022-11-09-at-6.55.05-PM.png
END:VEVENT
BEGIN:VEVENT
DTSTART;TZID=UTC:20230220T120000
DTEND;TZID=UTC:20230220T200000
DTSTAMP:20260422T174614
CREATED:20230218T064141Z
LAST-MODIFIED:20230218T064141Z
UID:2461-1676894400-1676923200@loneoakbrewingco.com
SUMMARY:PRESIDENT'S DAY OPEN
DESCRIPTION:We are open on President’s Day! Grab the family and come out to the farm to toast Washington and other great presidents!
URL:https://loneoakbrewingco.com/event/presidents-day-open/
LOCATION:MD
CATEGORIES:Holiday Hours
ATTACH;FMTTYPE=image/png:https://loneoakbrewingco.com/wp-content/uploads/2022/04/login.png
END:VEVENT
BEGIN:VEVENT
DTSTART;TZID=UTC:20230222T170000
DTEND;TZID=UTC:20230222T200000
DTSTAMP:20260422T174614
CREATED:20230202T004605Z
LAST-MODIFIED:20230216T044648Z
UID:2758-1677085200-1677096000@loneoakbrewingco.com
SUMMARY:LONE OAK FARM PRESENTS OPEN MIC NIGHT 5-8PM
DESCRIPTION:Join us for a fantastic night of live music! All solos and duos are welcome (no bands or drums). Performer signups are first come\, first served. Please sign up in taproom by 4:30pm. \n\n\n\n\nHosted by “Simba” Simms. Check out his website and Instagram @sixstringlionking
URL:https://loneoakbrewingco.com/event/lone-oak-farm-presents-open-mic-night-5-8pm/
LOCATION:MD
CATEGORIES:Live Music
ATTACH;FMTTYPE=image/png:https://loneoakbrewingco.com/wp-content/uploads/2023/02/Screenshot-2023-02-01-at-2.43.24-PM.png
END:VEVENT
BEGIN:VEVENT
DTSTART;TZID=UTC:20230225T130000
DTEND;TZID=UTC:20230225T160000
DTSTAMP:20260422T174614
CREATED:20221110T043637Z
LAST-MODIFIED:20230225T033224Z
UID:2047-1677330000-1677340800@loneoakbrewingco.com
SUMMARY:LIVE MUSIC - JOHN DECESARE
DESCRIPTION:John grew up in Maryland and is a classically trained guitarist with over 20 years of performance and teaching experience. Coming from a musical family\, John was exposed to a wide variety of music from a young age. Jazz\, classical\, folk\, and other styles were always playing in the background. At the age of 13\, he picked up a guitar and never looked back. Having influences like Paul Simon\, Bob Dylan\, and The Beatles\, he quickly gravitated to complex songs and the art of fingerstyle. He has studied privately with some of the great classical\, spanish\, and flamenco guitarists such as Marija Temo\, David Russell\, Paco Peña\, and Manuel Barruecos. \nHe enjoys playing and teaching many genres of guitar including Classical\, Spanish\, Flamenco\, Brazilian\, Folk\, Pop\, Rock\, and Reggae. \nHe performs extensively throughout the Baltimore and Washington DC area at breweries\, wineries\, weddings\, corporate\, and private events. \nExpect a laid-back acoustic rock\, beach vibe when he plays here at Lone Oak.
URL:https://loneoakbrewingco.com/event/live-music-john-decesare-2/
LOCATION:Lone Oak Brewery\, 5000 Olney Laytonsville Rd\, Olney\, MD\, 20832\, United States
CATEGORIES:Live Music
ATTACH;FMTTYPE=image/png:https://loneoakbrewingco.com/wp-content/uploads/2022/11/Screenshot-2023-02-09-at-2.56.19-PM-e1675972616290.png
END:VEVENT
BEGIN:VEVENT
DTSTART;TZID=UTC:20230301T170000
DTEND;TZID=UTC:20230301T200000
DTSTAMP:20260422T174614
CREATED:20230202T032254Z
LAST-MODIFIED:20230216T044624Z
UID:2764-1677690000-1677700800@loneoakbrewingco.com
SUMMARY:LONE OAK FARM PRESENTS OPEN MIC NIGHT 5-8PM
DESCRIPTION:Join us for a fantastic night of live music! All solos and duos are welcome (no bands or drums). Performer signups are first come\, first served. Please sign up in taproom by 4:30pm. \n\n\n\n\nHosted by “Simba” Simms. Check out his website and Instagram @sixstringlionking
URL:https://loneoakbrewingco.com/event/lone-oak-farm-presents-open-mic-night-5-8pm-2/
LOCATION:MD
CATEGORIES:Live Music
ATTACH;FMTTYPE=image/png:https://loneoakbrewingco.com/wp-content/uploads/2023/02/Screenshot-2023-02-01-at-2.43.24-PM.png
END:VEVENT
BEGIN:VEVENT
DTSTART;TZID=UTC:20230304T120000
DTEND;TZID=UTC:20230304T200000
DTSTAMP:20260422T174614
CREATED:20230216T213949Z
LAST-MODIFIED:20230216T213949Z
UID:2863-1677931200-1677960000@loneoakbrewingco.com
SUMMARY:FOOD TRUCK - FLIPSIDE GASTRO TO GO
DESCRIPTION:
URL:https://loneoakbrewingco.com/event/food-truck-flipside-gastro-to-go/
LOCATION:Lone Oak Brewery\, 5000 Olney Laytonsville Rd\, Olney\, MD\, 20832\, United States
CATEGORIES:Food Truck
ATTACH;FMTTYPE=image/jpeg:https://loneoakbrewingco.com/wp-content/uploads/2022/03/flipside-gastro-truck.jpeg
END:VEVENT
BEGIN:VEVENT
DTSTART;TZID=UTC:20230304T140000
DTEND;TZID=UTC:20230304T170000
DTSTAMP:20260422T174614
CREATED:20221110T044119Z
LAST-MODIFIED:20230217T012825Z
UID:2050-1677938400-1677949200@loneoakbrewingco.com
SUMMARY:LIVE MUSIC - FRAN SCUDERI
DESCRIPTION:Fran is known to please any crowd with his range of music including solo acoustic rock\, reggae\, trop-rock\, 90s rock\, and modern country. He began playing guitar at the age of 12\, and has made music his career for over 40 years. He performs locally\, regionally\, and internationally and loves interacting with the crowd. Come check him out and let him know what songs you’d like to hear. Who knows\, he might ask you to help him sing a song!\nIt’s always a fun time when Fran plays. Come see for yourself!
URL:https://loneoakbrewingco.com/event/live-music-fran-scuderi-12/
LOCATION:Lone Oak Brewery\, 5000 Olney Laytonsville Rd\, Olney\, MD\, 20832\, United States
CATEGORIES:Live Music
ATTACH;FMTTYPE=image/png:https://loneoakbrewingco.com/wp-content/uploads/2022/11/Screenshot-2023-02-16-at-3.28.07-PM.png
END:VEVENT
BEGIN:VEVENT
DTSTART;TZID=UTC:20230308T170000
DTEND;TZID=UTC:20230308T200000
DTSTAMP:20260422T174614
CREATED:20230202T032432Z
LAST-MODIFIED:20230216T044606Z
UID:2766-1678294800-1678305600@loneoakbrewingco.com
SUMMARY:LONE OAK FARM PRESENTS OPEN MIC NIGHT 5-8PM
DESCRIPTION:Join us for a fantastic night of live music! All solos and duos are welcome (no bands or drums). Performer signups are first come\, first served. Please sign up in taproom by 4:30pm. \nHosted by “Simba” Simms. Check out his website and Instagram @sixstringlionking
URL:https://loneoakbrewingco.com/event/lone-oak-farm-presents-open-mic-night-5-8pm-3/
LOCATION:MD
CATEGORIES:Live Music
ATTACH;FMTTYPE=image/png:https://loneoakbrewingco.com/wp-content/uploads/2023/02/Screenshot-2023-02-01-at-2.43.24-PM.png
END:VEVENT
BEGIN:VEVENT
DTSTART;TZID=UTC:20230311T120000
DTEND;TZID=UTC:20230311T200000
DTSTAMP:20260422T174614
CREATED:20230216T215221Z
LAST-MODIFIED:20230216T215221Z
UID:2867-1678536000-1678564800@loneoakbrewingco.com
SUMMARY:FOOD TRUCK - PAELLA AND TAPAS
DESCRIPTION:
URL:https://loneoakbrewingco.com/event/food-truck-paella-and-tapas-5/
LOCATION:Lone Oak Brewery\, 5000 Olney Laytonsville Rd\, Olney\, MD\, 20832\, United States
CATEGORIES:Food Truck
ATTACH;FMTTYPE=image/jpeg:https://loneoakbrewingco.com/wp-content/uploads/2022/04/Paella-and-Tapas.jpg
END:VEVENT
BEGIN:VEVENT
DTSTART;TZID=UTC:20230311T140000
DTEND;TZID=UTC:20230311T170000
DTSTAMP:20260422T174614
CREATED:20221110T044245Z
LAST-MODIFIED:20230309T010549Z
UID:2052-1678543200-1678554000@loneoakbrewingco.com
SUMMARY:LIVE MUSIC - BRIAN HARRIS
DESCRIPTION:Brian grew up in Germantown and started playing in a band based out of Montgomery County. He’s been a local musician for more than half his life and he loves seeing new live music venues like Lone Oak popping up all over the area. 90’s alternative rock music was his biggest inspiration so his set includes lots of 90’s jams\, but he plays a little bit of everything; from 60’s rock to modern acoustic hip-hop covers. Brian’s favorite song to play is “Just The Two of Us” by Bill Withers!
URL:https://loneoakbrewingco.com/event/live-music-brian-harris-8/
LOCATION:Lone Oak Brewery\, 5000 Olney Laytonsville Rd\, Olney\, MD\, 20832\, United States
CATEGORIES:Live Music
ATTACH;FMTTYPE=image/jpeg:https://loneoakbrewingco.com/wp-content/uploads/2022/03/brian-harris-1-1.jpeg
END:VEVENT
BEGIN:VEVENT
DTSTART;TZID=UTC:20230315T170000
DTEND;TZID=UTC:20230315T200000
DTSTAMP:20260422T174614
CREATED:20230202T032531Z
LAST-MODIFIED:20230316T024140Z
UID:2768-1678899600-1678910400@loneoakbrewingco.com
SUMMARY:LONE OAK FARM PRESENTS OPEN MIC NIGHT 5-8PM
DESCRIPTION:Join us for a fantastic night of live music! All solos and duos are welcome (no bands or drums). Performer signups are first come\, first served. Please sign up in taproom by 4:30pm. \nHosted by “Simba” Simms. Check out his website and Instagram @sixstringlionking \n 
URL:https://loneoakbrewingco.com/event/lone-oak-farm-presents-open-mic-night-5-8pm-4/
LOCATION:MD
CATEGORIES:Live Music
ATTACH;FMTTYPE=image/png:https://loneoakbrewingco.com/wp-content/uploads/2023/02/Screenshot-2023-02-01-at-2.43.24-PM.png
END:VEVENT
BEGIN:VEVENT
DTSTART;TZID=UTC:20230317T160000
DTEND;TZID=UTC:20230317T190000
DTSTAMP:20260422T174614
CREATED:20221110T044706Z
LAST-MODIFIED:20230206T014100Z
UID:2054-1679068800-1679079600@loneoakbrewingco.com
SUMMARY:LIVE MUSIC - JIM KELLY
DESCRIPTION:
URL:https://loneoakbrewingco.com/event/live-music-jim-kelly/
LOCATION:Lone Oak Brewery\, 5000 Olney Laytonsville Rd\, Olney\, MD\, 20832\, United States
CATEGORIES:Live Music
ATTACH;FMTTYPE=image/jpeg:https://loneoakbrewingco.com/wp-content/uploads/2022/11/image-e1668037603862.jpeg
END:VEVENT
BEGIN:VEVENT
DTSTART;TZID=UTC:20230318T120000
DTEND;TZID=UTC:20230318T200000
DTSTAMP:20260422T174614
CREATED:20221110T050916Z
LAST-MODIFIED:20221110T050916Z
UID:2060-1679140800-1679169600@loneoakbrewingco.com
SUMMARY:FOOD TRUCK - PHOWHEELS
DESCRIPTION:
URL:https://loneoakbrewingco.com/event/food-truck-phowheels-2/
LOCATION:Lone Oak Brewery\, 5000 Olney Laytonsville Rd\, Olney\, MD\, 20832\, United States
CATEGORIES:Food Truck
ATTACH;FMTTYPE=image/jpeg:https://loneoakbrewingco.com/wp-content/uploads/2022/04/phowheels-e1631744329223.jpg
END:VEVENT
BEGIN:VEVENT
DTSTART;TZID=UTC:20230318T150000
DTEND;TZID=UTC:20230318T170000
DTSTAMP:20260422T174614
CREATED:20230206T015125Z
LAST-MODIFIED:20230209T050724Z
UID:2780-1679151600-1679158800@loneoakbrewingco.com
SUMMARY:LIVE MUSIC - BAGPIPER EXTRAORDINAIRE OLIVIA CORCORAN
DESCRIPTION:Olivia Corcoran is a Maryland native\, born and raised minutes down the road from Lone Oak Farm. She began playing the bagpipes at the age of 8\, when she was inspired by young pipers at a the Anne Arundel Scottish Festival. In 2009\, she joined the Rockville High School Pipe Band\, and became Pipe Major of the band in 2015. Olivia is now an instructor for the band\, which has since evolved into the Maryland Youth Pipe Band.\n\nOlivia currently plays and competes with the MacMillan Pipe Band\, one of the top competitive pipe bands in North America\, based in the DC area. With her band\, she has traveled around the US\, to Canada\, and to Scotland to perform and compete. This August\, she and her band are traveling to Glasgow to compete in the World Piping Championships. She has played a variety of events\, from car shows and retirement parties\, to boy scout celebrations and weddings. She is always looking for opportunities to perform\, and is grateful to Lone Oak for allowing her to play for St. Pat’s!
URL:https://loneoakbrewingco.com/event/live-music-bagpiper-extraordinaire-olivia-corcoran/
LOCATION:MD
CATEGORIES:Live Music
ATTACH;FMTTYPE=image/png:https://loneoakbrewingco.com/wp-content/uploads/2023/02/Screenshot-2023-02-05-at-3.45.59-PM.png
END:VEVENT
BEGIN:VEVENT
DTSTART;TZID=UTC:20230319T140000
DTEND;TZID=UTC:20230319T170000
DTSTAMP:20260422T174614
CREATED:20230206T022422Z
LAST-MODIFIED:20230316T031556Z
UID:2783-1679234400-1679245200@loneoakbrewingco.com
SUMMARY:LIVE MUSIC - BURNOUT
DESCRIPTION:Maddie is the lead singer and rhythm guitar of the band\, an Olney girl who loves to rock out with her band of boys that communicate usually with nods and grunts. Lorenzo is the keyboard player and backup vocalist\, a classically trained pianist who also swims with Zev the drummer\, an Olney kid who has been playing the drums since kick drumming in utero and has never stopped. Jaden is the silent anchor of the band\, the bass player who played in a group with the swimmers last summer and never left. Meyer is the lead guitar who lives eats and breathes guitar\, and has been playing 90s rock with Zev for years in the garage. They are Burnout\, happy to rock\, here there and everywhere\, and pumped to be at Lone Oak 3/19!
URL:https://loneoakbrewingco.com/event/live-music-burnout/
LOCATION:MD
CATEGORIES:Live Music
ATTACH;FMTTYPE=image/jpeg:https://loneoakbrewingco.com/wp-content/uploads/2023/02/unknown-scaled.jpg
END:VEVENT
BEGIN:VEVENT
DTSTART;TZID=UTC:20230322T170000
DTEND;TZID=UTC:20230322T200000
DTSTAMP:20260422T174614
CREATED:20230317T030426Z
LAST-MODIFIED:20230317T030426Z
UID:2980-1679504400-1679515200@loneoakbrewingco.com
SUMMARY:LONE OAK FARM PRESENTS OPEN MIC NIGHT 5-8PM
DESCRIPTION:Join us for a fantastic night of live music! All solos and duos are welcome (no bands or drums). Performer signups are first come\, first served. Please sign up in taproom by 4:30pm. \nHosted by Empty Ecstasy. Check out their Facebook here
URL:https://loneoakbrewingco.com/event/lone-oak-farm-presents-open-mic-night-5-8pm-6/
LOCATION:Lone Oak Brewery\, 5000 Olney Laytonsville Rd\, Olney\, MD\, 20832\, United States
ATTACH;FMTTYPE=image/png:https://loneoakbrewingco.com/wp-content/uploads/2023/02/Screenshot-2023-02-01-at-2.43.24-PM.png
END:VEVENT
BEGIN:VEVENT
DTSTART;TZID=UTC:20230325T120000
DTEND;TZID=UTC:20230325T200000
DTSTAMP:20260422T174614
CREATED:20221110T051207Z
LAST-MODIFIED:20221110T051207Z
UID:2062-1679745600-1679774400@loneoakbrewingco.com
SUMMARY:FOOD TRUCK - DINER ON THE GO
DESCRIPTION:
URL:https://loneoakbrewingco.com/event/food-truck-diner-on-the-go/
LOCATION:Lone Oak Brewery\, 5000 Olney Laytonsville Rd\, Olney\, MD\, 20832\, United States
CATEGORIES:Food Truck
ATTACH;FMTTYPE=image/png:https://loneoakbrewingco.com/wp-content/uploads/2022/11/Screen-Shot-2022-11-09-at-7.11.23-PM.png
END:VEVENT
BEGIN:VEVENT
DTSTART;TZID=UTC:20230325T140000
DTEND;TZID=UTC:20230325T170000
DTSTAMP:20260422T174614
CREATED:20221110T044754Z
LAST-MODIFIED:20230210T025906Z
UID:2057-1679752800-1679763600@loneoakbrewingco.com
SUMMARY:LIVE MUSIC - MICHAEL HEISTER
DESCRIPTION:Michael Heister is a 21-year-old acoustic guitarist and vocalist from Frederick\, Maryland. He’s always had a love for music\, whether it was singing along to Tom Petty songs\, dancing to Michael Jackson songs\, or falling asleep to Sade songs. He enjoys playing a variety of musical styles\, including but not limited to pop\, rock\, R&B\, and country. His favorite part about being a local musician is that it gives his family and friends a chance to connect and socialize\, and it gives him the opportunity to meet new people.
URL:https://loneoakbrewingco.com/event/live-music-michael-heister-4/
LOCATION:Lone Oak Brewery\, 5000 Olney Laytonsville Rd\, Olney\, MD\, 20832\, United States
CATEGORIES:Live Music
ATTACH;FMTTYPE=image/png:https://loneoakbrewingco.com/wp-content/uploads/2022/05/Screen-Shot-2022-05-26-at-7.40.43-PM-e1653768867364.png
END:VEVENT
BEGIN:VEVENT
DTSTART;TZID=UTC:20230329T170000
DTEND;TZID=UTC:20230329T200000
DTSTAMP:20260422T174614
CREATED:20230316T024439Z
LAST-MODIFIED:20230316T024439Z
UID:2971-1680109200-1680120000@loneoakbrewingco.com
SUMMARY:LONE OAK FARM PRESENTS OPEN MIC NIGHT 5-8PM
DESCRIPTION:Join us for a fantastic night of live music! All solos and duos are welcome (no bands or drums). Performer signups are first come\, first served. Please sign up in taproom by 4:30pm. \nHosted by “Simba” Simms. Check out his website and Instagram @sixstringlionking
URL:https://loneoakbrewingco.com/event/lone-oak-farm-presents-open-mic-night-5-8pm-5/
LOCATION:Lone Oak Brewery\, 5000 Olney Laytonsville Rd\, Olney\, MD\, 20832\, United States
CATEGORIES:Live Music
ATTACH;FMTTYPE=image/png:https://loneoakbrewingco.com/wp-content/uploads/2023/02/Screenshot-2023-02-01-at-2.43.24-PM.png
END:VEVENT
BEGIN:VEVENT
DTSTART;TZID=UTC:20230330T190000
DTEND;TZID=UTC:20230330T210000
DTSTAMP:20260422T174614
CREATED:20230324T013936Z
LAST-MODIFIED:20230324T013936Z
UID:3002-1680202800-1680210000@loneoakbrewingco.com
SUMMARY:LAUGH AT LONE OAK COMEDY SHOW
DESCRIPTION:Join us for a special double headliner comedy show on Thursday\, March 30th. \nNationally touring comedians Kelly Terranova & Andy Fiori have been seen on Fox\, Comedy Central\, CMT\, SiriusXM\, Spotify\, and more! You will not want to miss this show! \nThis is an INDOOR show\, so tickets will be limited. Make sure to get your tickets quickly! \nGet your tickets here
URL:https://loneoakbrewingco.com/event/laugh-at-lone-oak-comedy-show-6/
LOCATION:Lone Oak Brewery\, 5000 Olney Laytonsville Rd\, Olney\, MD\, 20832\, United States
CATEGORIES:Ticketed Event
ATTACH;FMTTYPE=image/png:https://loneoakbrewingco.com/wp-content/uploads/2023/03/Screenshot-2023-03-23-at-5.37.04-PM.png
END:VEVENT
BEGIN:VEVENT
DTSTART;TZID=UTC:20230401T140000
DTEND;TZID=UTC:20230401T170000
DTSTAMP:20260422T174614
CREATED:20230206T030240Z
LAST-MODIFIED:20230206T030400Z
UID:2786-1680357600-1680368400@loneoakbrewingco.com
SUMMARY:LIVE MUSIC - ANTHONY FRIJIA
DESCRIPTION:Anthony grew up in Harford County and didn’t start playing guitar until he was a student at Salisbury University. His songwriting has taken several twists and turns over the past several years\, most recently with his folk-americana record “Nomad Sound” (2021). His music is heavily influenced by modern folk\, blues\, and pop artists from Tom Petty to John Mayer to Chris Stapleton. He’s looking forward to bringing his one-man-band show to Lone Oak!
URL:https://loneoakbrewingco.com/event/live-music-anthony-frijia/
LOCATION:MD
CATEGORIES:Live Music
ATTACH;FMTTYPE=image/png:https://loneoakbrewingco.com/wp-content/uploads/2023/02/Screenshot-2023-02-03-at-8.22.43-PM-e1675634613979.png
END:VEVENT
BEGIN:VEVENT
DTSTART;TZID=UTC:20230402T110000
DTEND;TZID=UTC:20230402T130000
DTSTAMP:20260422T174614
CREATED:20230302T001444Z
LAST-MODIFIED:20230302T002444Z
UID:2895-1680433200-1680440400@loneoakbrewingco.com
SUMMARY:BRUNCH AND BREWS with the Easter Bunny!
DESCRIPTION:You won’t want to miss all the goings on at the farm! Beginning with Flipside Gastro To Go serving a delicious brunch starting at 11 AM. Stick around for the Easter Egg Hunt with prizes at 12 PM. Keep an eye out for the Easter Bunny hopping around. You can even get your picture with him! And don’t forget to grab a Mimosa Seltzer. See you there!
URL:https://loneoakbrewingco.com/event/brunch-and-brews-with-the-easter-bunny-2/
LOCATION:Lone Oak Brewery\, 5000 Olney Laytonsville Rd\, Olney\, MD\, 20832\, United States
CATEGORIES:Holiday Events
ATTACH;FMTTYPE=image/png:https://loneoakbrewingco.com/wp-content/uploads/2023/03/Screenshot-2023-03-01-at-2.24.07-PM-e1677698672171.png
END:VEVENT
BEGIN:VEVENT
DTSTART;TZID=UTC:20230402T110000
DTEND;TZID=UTC:20230402T180000
DTSTAMP:20260422T174614
CREATED:20230302T000213Z
LAST-MODIFIED:20230302T000213Z
UID:2893-1680433200-1680458400@loneoakbrewingco.com
SUMMARY:FOOD TRUCK - FLIPSIDE GASTRO TO GO EASTER BRUNCH!
DESCRIPTION:Come out to Lone Oak to celebrate Easter brunch from Flipside Gastro to Go! The menu will have special brunch items you won’t want to miss!
URL:https://loneoakbrewingco.com/event/food-truck-flipside-gastro-to-go-easter-brunch/
LOCATION:Lone Oak Brewery\, 5000 Olney Laytonsville Rd\, Olney\, MD\, 20832\, United States
CATEGORIES:Food Truck
ATTACH;FMTTYPE=image/jpeg:https://loneoakbrewingco.com/wp-content/uploads/2022/03/flipside-gastro-truck.jpeg
END:VEVENT
BEGIN:VEVENT
DTSTART;TZID=UTC:20230406T180000
DTEND;TZID=UTC:20230406T200000
DTSTAMP:20260422T174614
CREATED:20230324T014429Z
LAST-MODIFIED:20230324T014429Z
UID:3005-1680804000-1680811200@loneoakbrewingco.com
SUMMARY:TRIVIA NIGHT WITH POUR HOUSE TRIVIA!
DESCRIPTION:Grab your thinking cap and test your knowledge with Pour House Trivia! Get a group together for prizes and $5 beer! All ages and levels are welcome. \nWe’ll see you there!
URL:https://loneoakbrewingco.com/event/trivia-night-with-pour-house-trivia-6/
LOCATION:Lone Oak Brewery\, 5000 Olney Laytonsville Rd\, Olney\, MD\, 20832\, United States
CATEGORIES:Trivia
ATTACH;FMTTYPE=image/jpeg:https://loneoakbrewingco.com/wp-content/uploads/2022/03/pourhousetrivia.jpg
END:VEVENT
BEGIN:VEVENT
DTSTART;TZID=UTC:20230408T120000
DTEND;TZID=UTC:20230408T200000
DTSTAMP:20260422T174614
CREATED:20221110T051326Z
LAST-MODIFIED:20230222T233747Z
UID:2065-1680955200-1680984000@loneoakbrewingco.com
SUMMARY:FOOD TRUCK - GRUBBING HARD BBQ
DESCRIPTION:ABOUT GRUBBING HARD BBQ: \n“Pitmaster and GHB owner Matt Chanin is a local Olney native and Sherwood High School graduate. When COVID struck Matt lost his day job at a law firm and quickly went from pushing paper to pursuing his true passion for food and hospitality. On almost every Saturday in 2020\, lines of cars would wait outside Matt’s parent’s house for their scheduled curbside pickup and dose of Texas-inspired barbecue. Matt’s “Grubbing Hard” instagram account quickly blew up within the local community and GHB would transform from a hobby to a legitimate food truck and catering business.” \nMATT’S THOUGHTS: \n“In early 2021 when I learned that they (Lone Oak) were building a brewery right next to my neighborhood\, I saw a perfect opportunity. I reached out to the owners and asked if I could come introduce myself and bring them a tray of bbq. The rest is history!” \n“Being from Olney I especially enjoy working with Lone Oak because of all the familiar faces we see every visit. We try to focus on the hospitality aspect as much as the food itself\, so it’s particularly fulfilling for me to see friends and neighbors supporting local businesses – and more importantly – enjoying our Que! I don’t think any food pairs better with a cold beer on a sunny day than our barbecue.” \n“My favorite food to serve 100% is our brisket. It’s one of those foods you can’t get at many places so I knew if ours was good we’d be able stand out. The brisket cooking process can take up to 18 hours and requires a lot of attention to detail\, so it’s rewarding when people recognize and appreciate the craft behind our work. It’s the best feeling when people tell us that our brisket is the best they’ve ever had. We want every bite to be the best”.
URL:https://loneoakbrewingco.com/event/food-truck-grubbing-hard-bbq-12/
LOCATION:Lone Oak Brewery\, 5000 Olney Laytonsville Rd\, Olney\, MD\, 20832\, United States
CATEGORIES:Food Truck
ATTACH;FMTTYPE=image/jpeg:https://loneoakbrewingco.com/wp-content/uploads/2022/03/grubbin-hard.jpeg
END:VEVENT
BEGIN:VEVENT
DTSTART;TZID=UTC:20230408T140000
DTEND;TZID=UTC:20230408T170000
DTSTAMP:20260422T174614
CREATED:20230330T024821Z
LAST-MODIFIED:20230330T024821Z
UID:3017-1680962400-1680973200@loneoakbrewingco.com
SUMMARY:LIVE MUSIC - TONY WILKINS
DESCRIPTION:A local musician/songwriter who comes from a family of musicians. Influences lean from blues to grunge to rock and funk. Tony is an artist who started Undertone Artistry in 2019\, and specializes in charcoal and watercolor portraiture. Born in Alexandria VA\, he is a DMV native.
URL:https://loneoakbrewingco.com/event/live-music-tony-wilkins/
LOCATION:Lone Oak Brewery\, 5000 Olney Laytonsville Rd\, Olney\, MD\, 20832\, United States
CATEGORIES:Live Music
ATTACH;FMTTYPE=image/png:https://loneoakbrewingco.com/wp-content/uploads/2023/03/Screenshot-2023-03-29-at-6.28.13-PM.png
END:VEVENT
BEGIN:VEVENT
DTSTART;TZID=UTC:20230412T173000
DTEND;TZID=UTC:20230412T193000
DTSTAMP:20260422T174614
CREATED:20230405T223536Z
LAST-MODIFIED:20230405T223536Z
UID:3020-1681320600-1681327800@loneoakbrewingco.com
SUMMARY:Olney Chamber of Commerce Young Professionals Group Meet-Up
DESCRIPTION:“Come connect with other young professionals that are members of the Olney Chamber of Commerce. \nThis is a voluntary group of young professionals gathering to get to know each other in a casual\, informal atmosphere.  This is a member-led group\, organized by Nick Comeau of Caliber Home Loans. \n\nThe group will meet to network and help grow our businesses by offering support for your fellow young professionals\, exchange ideas\, problem-solve and have fun!\n\nIf you have question about the Young Professionals Group\, please contact Nick at nick.comeau@caliberhomeloans.com.\nPlease register so that we may know who’s planning to attend” here
URL:https://loneoakbrewingco.com/event/olney-chamber-of-commerce-young-professionals-group-meet-up/
LOCATION:Lone Oak Brewery\, 5000 Olney Laytonsville Rd\, Olney\, MD\, 20832\, United States
CATEGORIES:Private Event
ATTACH;FMTTYPE=image/png:https://loneoakbrewingco.com/wp-content/uploads/2023/04/Screenshot-2023-04-05-at-2.34.14-PM.png
END:VEVENT
END:VCALENDAR