BEGIN:VCALENDAR
VERSION:2.0
PRODID:-//Lone Oak Brewing Co. - ECPv6.15.20//NONSGML v1.0//EN
CALSCALE:GREGORIAN
METHOD:PUBLISH
X-WR-CALNAME:Lone Oak Brewing Co.
X-ORIGINAL-URL:https://loneoakbrewingco.com
X-WR-CALDESC:Events for Lone Oak Brewing Co.
REFRESH-INTERVAL;VALUE=DURATION:PT1H
X-Robots-Tag:noindex
X-PUBLISHED-TTL:PT1H
BEGIN:VTIMEZONE
TZID:America/New_York
BEGIN:DAYLIGHT
TZOFFSETFROM:-0500
TZOFFSETTO:-0400
TZNAME:EDT
DTSTART:20240310T070000
END:DAYLIGHT
BEGIN:STANDARD
TZOFFSETFROM:-0400
TZOFFSETTO:-0500
TZNAME:EST
DTSTART:20241103T060000
END:STANDARD
BEGIN:DAYLIGHT
TZOFFSETFROM:-0500
TZOFFSETTO:-0400
TZNAME:EDT
DTSTART:20250309T070000
END:DAYLIGHT
BEGIN:STANDARD
TZOFFSETFROM:-0400
TZOFFSETTO:-0500
TZNAME:EST
DTSTART:20251102T060000
END:STANDARD
BEGIN:DAYLIGHT
TZOFFSETFROM:-0500
TZOFFSETTO:-0400
TZNAME:EDT
DTSTART:20260308T070000
END:DAYLIGHT
BEGIN:STANDARD
TZOFFSETFROM:-0400
TZOFFSETTO:-0500
TZNAME:EST
DTSTART:20261101T060000
END:STANDARD
END:VTIMEZONE
BEGIN:VTIMEZONE
TZID:UTC
BEGIN:STANDARD
TZOFFSETFROM:+0000
TZOFFSETTO:+0000
TZNAME:UTC
DTSTART:20240101T000000
END:STANDARD
END:VTIMEZONE
BEGIN:VEVENT
DTSTART;TZID=America/New_York:20250622T120000
DTEND;TZID=America/New_York:20250622T190000
DTSTAMP:20260421T220140
CREATED:20250601T202412Z
LAST-MODIFIED:20250601T202412Z
UID:5542-1750593600-1750618800@loneoakbrewingco.com
SUMMARY:Food Truck - Trippy Tacos
DESCRIPTION:
URL:https://loneoakbrewingco.com/event/food-truck-trippy-tacos-12/
LOCATION:Lone Oak Brewery\, 5000 Olney Laytonsville Rd\, Olney\, MD\, 20832\, United States
CATEGORIES:Food Truck
ATTACH;FMTTYPE=image/png:https://loneoakbrewingco.com/wp-content/uploads/2022/05/Screen-Shot-2022-05-28-at-5.02.34-PM.png
END:VEVENT
BEGIN:VEVENT
DTSTART;TZID=UTC:20250621T140000
DTEND;TZID=UTC:20250621T170000
DTSTAMP:20260421T220140
CREATED:20250125T201814Z
LAST-MODIFIED:20250125T201814Z
UID:5102-1750514400-1750525200@loneoakbrewingco.com
SUMMARY:Live Music - The Liquor Store Boys
DESCRIPTION:The Liquor Store Boys are an acoustic duo performing toe-tapping covers and originals at local breweries\, wineries and events around Maryland. Greg and Michael have played throughout the DMV since the 1990s. Playing hits from the last 60 years\, from Elvis to Nirvana\, Taylor Swift to the Rolling Stones. They bring many styles together for a fun listening experience!
URL:https://loneoakbrewingco.com/event/live-music-the-liquor-store-boys-2/
LOCATION:Lone Oak Brewery\, 5000 Olney Laytonsville Rd\, Olney\, MD\, 20832\, United States
CATEGORIES:Live Music
ATTACH;FMTTYPE=image/jpeg:https://loneoakbrewingco.com/wp-content/uploads/2025/01/TheLiquorStoreBoysBand.jpeg
END:VEVENT
BEGIN:VEVENT
DTSTART;TZID=America/New_York:20250621T120000
DTEND;TZID=America/New_York:20250621T200000
DTSTAMP:20260421T220140
CREATED:20250601T202309Z
LAST-MODIFIED:20250601T202309Z
UID:5540-1750507200-1750536000@loneoakbrewingco.com
SUMMARY:Food Truck - Grubbing Hard BBQ
DESCRIPTION:
URL:https://loneoakbrewingco.com/event/food-truck-grubbing-hard-bbq-19/
LOCATION:Lone Oak Brewery\, 5000 Olney Laytonsville Rd\, Olney\, MD\, 20832\, United States
CATEGORIES:Food Truck
ATTACH;FMTTYPE=image/jpeg:https://loneoakbrewingco.com/wp-content/uploads/2023/08/grubbin-hard.jpeg
END:VEVENT
BEGIN:VEVENT
DTSTART;TZID=UTC:20250619T180000
DTEND;TZID=UTC:20250619T200000
DTSTAMP:20260421T220140
CREATED:20240103T202213Z
LAST-MODIFIED:20250122T091321Z
UID:4042-1750356000-1750363200@loneoakbrewingco.com
SUMMARY:TRIVIA
DESCRIPTION:Grab your thinking cap and test your knowledge with Pour House Trivia! Get a group together for prizes and $6 beer! All ages and levels are welcome.
URL:https://loneoakbrewingco.com/event/trivia-3-2025-06-19/
LOCATION:Lone Oak Brewery\, 5000 Olney Laytonsville Rd\, Olney\, MD\, 20832\, United States
CATEGORIES:Trivia
ATTACH;FMTTYPE=image/jpeg:https://loneoakbrewingco.com/wp-content/uploads/2023/08/pourhousetrivia-1.jpg
END:VEVENT
BEGIN:VEVENT
DTSTART;TZID=UTC:20250615T140000
DTEND;TZID=UTC:20250615T170000
DTSTAMP:20260421T220140
CREATED:20250126T003748Z
LAST-MODIFIED:20250126T003748Z
UID:5147-1749996000-1750006800@loneoakbrewingco.com
SUMMARY:Live Music - The Blaine Show
DESCRIPTION:My name is Blaine Phebus I’m a singer songwriter from Pennsylvania. I grew up there in a small town called Waynesboro. I’ve been playing music since I was probably 15. My influences are Neil young\, Bob Dylan\, Elvis Presley\, The Band\, Waylon Jennings and Ray Charles\, just to name a few. 
URL:https://loneoakbrewingco.com/event/live-music-the-blaine-show/
LOCATION:Lone Oak Brewery\, 5000 Olney Laytonsville Rd\, Olney\, MD\, 20832\, United States
CATEGORIES:Live Music
ATTACH;FMTTYPE=image/jpeg:https://loneoakbrewingco.com/wp-content/uploads/2025/01/TheBlaineShow.jpeg
END:VEVENT
BEGIN:VEVENT
DTSTART;TZID=America/New_York:20250615T120000
DTEND;TZID=America/New_York:20250615T190000
DTSTAMP:20260421T220140
CREATED:20250601T201958Z
LAST-MODIFIED:20250601T201958Z
UID:5538-1749988800-1750014000@loneoakbrewingco.com
SUMMARY:Food Truck - Square Taco
DESCRIPTION:
URL:https://loneoakbrewingco.com/event/food-truck-square-taco-3/
LOCATION:Lone Oak Brewery\, 5000 Olney Laytonsville Rd\, Olney\, MD\, 20832\, United States
CATEGORIES:Food Truck
ATTACH;FMTTYPE=image/webp:https://loneoakbrewingco.com/wp-content/uploads/2024/10/SQUARE-TACO.webp
END:VEVENT
BEGIN:VEVENT
DTSTART;TZID=America/New_York:20250615T120000
DTEND;TZID=America/New_York:20250615T190000
DTSTAMP:20260421T220140
CREATED:20250601T201628Z
LAST-MODIFIED:20250601T201628Z
UID:5536-1749988800-1750014000@loneoakbrewingco.com
SUMMARY:Food Truck - Catalyst Hot Dogs
DESCRIPTION:
URL:https://loneoakbrewingco.com/event/food-truck-catalyst-hot-dogs-8/
LOCATION:Lone Oak Brewery\, 5000 Olney Laytonsville Rd\, Olney\, MD\, 20832\, United States
CATEGORIES:Food Truck
ATTACH;FMTTYPE=image/jpeg:https://loneoakbrewingco.com/wp-content/uploads/2022/03/catalysthotdogs.jpg
END:VEVENT
BEGIN:VEVENT
DTSTART;TZID=UTC:20250614T140000
DTEND;TZID=UTC:20250614T170000
DTSTAMP:20260421T220140
CREATED:20250126T010113Z
LAST-MODIFIED:20250126T010113Z
UID:5159-1749909600-1749920400@loneoakbrewingco.com
SUMMARY:Live Music - Drew Cline
DESCRIPTION:Drew Cline is a Maryland-based singer-songwriter with a modern acoustic vibe. He enjoys playing a mix of pop\, country\, and rock covers at local bars\, restaurants\, and breweries. Drew also writes and records original music.
URL:https://loneoakbrewingco.com/event/live-music-drew-cline-10/
LOCATION:Lone Oak Brewery\, 5000 Olney Laytonsville Rd\, Olney\, MD\, 20832\, United States
CATEGORIES:Live Music
ATTACH;FMTTYPE=image/jpeg:https://loneoakbrewingco.com/wp-content/uploads/2025/01/Drew-Cline-scaled.jpg
END:VEVENT
BEGIN:VEVENT
DTSTART;TZID=America/New_York:20250614T120000
DTEND;TZID=America/New_York:20250614T200000
DTSTAMP:20260421T220140
CREATED:20250601T201228Z
LAST-MODIFIED:20250601T201228Z
UID:5534-1749902400-1749931200@loneoakbrewingco.com
SUMMARY:Food Truck - Grubbing Hard BBQ
DESCRIPTION:
URL:https://loneoakbrewingco.com/event/food-truck-grubbing-hard-bbq-18/
LOCATION:Lone Oak Brewery\, 5000 Olney Laytonsville Rd\, Olney\, MD\, 20832\, United States
CATEGORIES:Food Truck
ATTACH;FMTTYPE=image/jpeg:https://loneoakbrewingco.com/wp-content/uploads/2023/08/grubbin-hard.jpeg
END:VEVENT
BEGIN:VEVENT
DTSTART;TZID=America/New_York:20250614T120000
DTEND;TZID=America/New_York:20250614T200000
DTSTAMP:20260421T220140
CREATED:20250601T201052Z
LAST-MODIFIED:20250601T201052Z
UID:5532-1749902400-1749931200@loneoakbrewingco.com
SUMMARY:Food Truck - Jus Food
DESCRIPTION:
URL:https://loneoakbrewingco.com/event/food-truck-jus-food-5/
LOCATION:Lone Oak Brewery\, 5000 Olney Laytonsville Rd\, Olney\, MD\, 20832\, United States
CATEGORIES:Food Truck
ATTACH;FMTTYPE=image/png:https://loneoakbrewingco.com/wp-content/uploads/2023/08/darkLogo_4002cac9-c135-4d2f-a21e-7c5618effe27.png
END:VEVENT
BEGIN:VEVENT
DTSTART;VALUE=DATE:20250614
DTEND;VALUE=DATE:20250615
DTSTAMP:20260421T220140
CREATED:20250601T203124Z
LAST-MODIFIED:20250601T203124Z
UID:5548-1749859200-1749945599@loneoakbrewingco.com
SUMMARY:5th Anniversary Party!
DESCRIPTION:
URL:https://loneoakbrewingco.com/event/5th-anniversary-party/
LOCATION:Lone Oak Brewery\, 5000 Olney Laytonsville Rd\, Olney\, MD\, 20832\, United States
ATTACH;FMTTYPE=image/jpeg:https://loneoakbrewingco.com/wp-content/uploads/2025/06/FINAL-TH-ANNIV-FLYER-scaled.jpeg
END:VEVENT
BEGIN:VEVENT
DTSTART;TZID=UTC:20250612T180000
DTEND;TZID=UTC:20250612T200000
DTSTAMP:20260421T220140
CREATED:20240103T202213Z
LAST-MODIFIED:20250122T091321Z
UID:4041-1749751200-1749758400@loneoakbrewingco.com
SUMMARY:TRIVIA
DESCRIPTION:Grab your thinking cap and test your knowledge with Pour House Trivia! Get a group together for prizes and $6 beer! All ages and levels are welcome.
URL:https://loneoakbrewingco.com/event/trivia-3-2025-06-12/
LOCATION:Lone Oak Brewery\, 5000 Olney Laytonsville Rd\, Olney\, MD\, 20832\, United States
CATEGORIES:Trivia
ATTACH;FMTTYPE=image/jpeg:https://loneoakbrewingco.com/wp-content/uploads/2023/08/pourhousetrivia-1.jpg
END:VEVENT
BEGIN:VEVENT
DTSTART;TZID=UTC:20250608T140000
DTEND;TZID=UTC:20250608T170000
DTSTAMP:20260421T220140
CREATED:20250125T200545Z
LAST-MODIFIED:20250125T200553Z
UID:5098-1749391200-1749402000@loneoakbrewingco.com
SUMMARY:Live Music - Take Two
DESCRIPTION:Vince and Chris grew up in Silver Spring and played in a Classic Rock band in our college years\, including Top 40 plus the Allman Brothers\, Yes and Emerson Lake and Palmer among others. We later played in a Soul Band which covered songs by Chicago\, Tower of Power and Blood Sweat and Tears.\nWe’ve played together as Take Two for twelve years and really enjoy the musical challenges of performing as a duo. We enjoy playing in familiar and new venues as part of this diverse local music community and getting to know the people we play for.
URL:https://loneoakbrewingco.com/event/live-music-take-two-3/
LOCATION:Lone Oak Brewery\, 5000 Olney Laytonsville Rd\, Olney\, MD\, 20832\, United States
CATEGORIES:Live Music
ATTACH;FMTTYPE=image/jpeg:https://loneoakbrewingco.com/wp-content/uploads/2024/12/TakeTwo-scaled.jpg
END:VEVENT
BEGIN:VEVENT
DTSTART;TZID=America/New_York:20250608T120000
DTEND;TZID=America/New_York:20250608T190000
DTSTAMP:20260421T220140
CREATED:20250601T200835Z
LAST-MODIFIED:20250601T200835Z
UID:5529-1749384000-1749409200@loneoakbrewingco.com
SUMMARY:Food Truck - Gauchito Steaks
DESCRIPTION:
URL:https://loneoakbrewingco.com/event/food-truck-gauchito-steaks/
LOCATION:Lone Oak Brewery\, 5000 Olney Laytonsville Rd\, Olney\, MD\, 20832\, United States
CATEGORIES:Food Truck
ATTACH;FMTTYPE=image/jpeg:https://loneoakbrewingco.com/wp-content/uploads/2025/06/gauchito.jpeg
END:VEVENT
BEGIN:VEVENT
DTSTART;TZID=UTC:20250607T140000
DTEND;TZID=UTC:20250607T170000
DTSTAMP:20260421T220140
CREATED:20250125T200434Z
LAST-MODIFIED:20250125T200434Z
UID:5096-1749304800-1749315600@loneoakbrewingco.com
SUMMARY:Live Music - The Dirty Blondes
DESCRIPTION:The Dirty Blondes Duo is comprised of two high school friends\, Gracie and Shaye. What started out as a hobby after work to connect and destress\, quickly turned into The Dirty Blondes Duo. Connecting with others through music is what continued to grow their love for performing and engaging with others. To Gracie and Shaye\, being local means connecting with people in the community through shared experiences and passions. They have both cherished the memories they’ve made growing up here in Montgomery County and have enjoyed making more memories through live music.
URL:https://loneoakbrewingco.com/event/live-music-the-dirty-blondes-2/
LOCATION:Lone Oak Brewery\, 5000 Olney Laytonsville Rd\, Olney\, MD\, 20832\, United States
CATEGORIES:Live Music
ATTACH;FMTTYPE=image/jpeg:https://loneoakbrewingco.com/wp-content/uploads/2025/01/TheDirtyBlondes.jpg
END:VEVENT
BEGIN:VEVENT
DTSTART;TZID=America/New_York:20250607T120000
DTEND;TZID=America/New_York:20250607T200000
DTSTAMP:20260421T220140
CREATED:20250601T200450Z
LAST-MODIFIED:20250601T200450Z
UID:5527-1749297600-1749326400@loneoakbrewingco.com
SUMMARY:Food Truck - Pho Wheels
DESCRIPTION:
URL:https://loneoakbrewingco.com/event/food-truck-pho-wheels-16/
LOCATION:Lone Oak Brewery\, 5000 Olney Laytonsville Rd\, Olney\, MD\, 20832\, United States
CATEGORIES:Food Truck
ATTACH;FMTTYPE=image/jpeg:https://loneoakbrewingco.com/wp-content/uploads/2023/10/phowheels-e1631744329223.jpg
END:VEVENT
BEGIN:VEVENT
DTSTART;TZID=UTC:20250605T180000
DTEND;TZID=UTC:20250605T200000
DTSTAMP:20260421T220140
CREATED:20240103T202213Z
LAST-MODIFIED:20250122T091320Z
UID:4040-1749146400-1749153600@loneoakbrewingco.com
SUMMARY:TRIVIA
DESCRIPTION:Grab your thinking cap and test your knowledge with Pour House Trivia! Get a group together for prizes and $6 beer! All ages and levels are welcome.
URL:https://loneoakbrewingco.com/event/trivia-3-2025-06-05/
LOCATION:Lone Oak Brewery\, 5000 Olney Laytonsville Rd\, Olney\, MD\, 20832\, United States
CATEGORIES:Trivia
ATTACH;FMTTYPE=image/jpeg:https://loneoakbrewingco.com/wp-content/uploads/2023/08/pourhousetrivia-1.jpg
END:VEVENT
BEGIN:VEVENT
DTSTART;TZID=America/New_York:20250604T160000
DTEND;TZID=America/New_York:20250604T200000
DTSTAMP:20260421T220140
CREATED:20250601T202744Z
LAST-MODIFIED:20250601T202744Z
UID:5544-1749052800-1749067200@loneoakbrewingco.com
SUMMARY:Sip n' Smoke Cigar Night
DESCRIPTION:
URL:https://loneoakbrewingco.com/event/sip-n-smoke-cigar-night/
LOCATION:Lone Oak Brewery\, 5000 Olney Laytonsville Rd\, Olney\, MD\, 20832\, United States
ATTACH;FMTTYPE=image/jpeg:https://loneoakbrewingco.com/wp-content/uploads/2025/06/NEW-CIGARS-FLYER-1-page-001.jpg
END:VEVENT
BEGIN:VEVENT
DTSTART;TZID=UTC:20250601T140000
DTEND;TZID=UTC:20250601T170000
DTSTAMP:20260421T220140
CREATED:20250125T200338Z
LAST-MODIFIED:20250529T231636Z
UID:5094-1748786400-1748797200@loneoakbrewingco.com
SUMMARY:Live Music - Fred and Wilma
DESCRIPTION:
URL:https://loneoakbrewingco.com/event/live-music-joey-fitz-2/
LOCATION:Lone Oak Brewery\, 5000 Olney Laytonsville Rd\, Olney\, MD\, 20832\, United States
CATEGORIES:Live Music
ATTACH;FMTTYPE=image/png:https://loneoakbrewingco.com/wp-content/uploads/2025/01/thumbnail_image0.png
END:VEVENT
BEGIN:VEVENT
DTSTART;TZID=UTC:20250531T140000
DTEND;TZID=UTC:20250531T170000
DTSTAMP:20260421T220140
CREATED:20250125T200222Z
LAST-MODIFIED:20250127T012732Z
UID:5092-1748700000-1748710800@loneoakbrewingco.com
SUMMARY:Live Music - Emily and Jorge
DESCRIPTION:We’re an acoustic guitar duo from Rockville\, MD. Emily sings\, and Jorge plays guitar.  We are very fond of music from the 50’s through the 90’s\, so you will hear many great songs from those decades at our shows. We’re old souls at heart\, as we grew up listening to most of the feel-good songs that we play. 
URL:https://loneoakbrewingco.com/event/live-music-emily-and-jorge/
LOCATION:Lone Oak Brewery\, 5000 Olney Laytonsville Rd\, Olney\, MD\, 20832\, United States
CATEGORIES:Live Music
ATTACH;FMTTYPE=image/png:https://loneoakbrewingco.com/wp-content/uploads/2025/01/EmilyandJorge.png
END:VEVENT
BEGIN:VEVENT
DTSTART;TZID=America/New_York:20250531T120000
DTEND;TZID=America/New_York:20250531T190000
DTSTAMP:20260421T220140
CREATED:20250508T232934Z
LAST-MODIFIED:20250508T232934Z
UID:5465-1748692800-1748718000@loneoakbrewingco.com
SUMMARY:Food Truck - Catalyst Hot Dogs
DESCRIPTION:
URL:https://loneoakbrewingco.com/event/food-truck-catalyst-hot-dogs-7/
LOCATION:Lone Oak Brewery\, 5000 Olney Laytonsville Rd\, Olney\, MD\, 20832\, United States
CATEGORIES:Food Truck
ATTACH;FMTTYPE=image/jpeg:https://loneoakbrewingco.com/wp-content/uploads/2022/03/catalysthotdogs.jpg
END:VEVENT
BEGIN:VEVENT
DTSTART;TZID=UTC:20250529T180000
DTEND;TZID=UTC:20250529T200000
DTSTAMP:20260421T220140
CREATED:20240103T202213Z
LAST-MODIFIED:20250122T091320Z
UID:4039-1748541600-1748548800@loneoakbrewingco.com
SUMMARY:TRIVIA
DESCRIPTION:Grab your thinking cap and test your knowledge with Pour House Trivia! Get a group together for prizes and $6 beer! All ages and levels are welcome.
URL:https://loneoakbrewingco.com/event/trivia-3-2025-05-29/
LOCATION:Lone Oak Brewery\, 5000 Olney Laytonsville Rd\, Olney\, MD\, 20832\, United States
CATEGORIES:Trivia
ATTACH;FMTTYPE=image/jpeg:https://loneoakbrewingco.com/wp-content/uploads/2023/08/pourhousetrivia-1.jpg
END:VEVENT
BEGIN:VEVENT
DTSTART;TZID=UTC:20250525T140000
DTEND;TZID=UTC:20250525T170000
DTSTAMP:20260421T220140
CREATED:20250125T211451Z
LAST-MODIFIED:20250125T211451Z
UID:5142-1748181600-1748192400@loneoakbrewingco.com
SUMMARY:Live Music - One Step Down
DESCRIPTION:We always say that One Step Down is the one silver lining from COVID….\nJoe grew up in NJ\, and became fascinated with the electric guitar after hearing the Venture’s Walk\nDon’t Run and Pipeline. His first band\, The 007s\, played songs by artists such as The Monkees and\nThe Searchers. The music from 1968-1972 (Led Zeppelin\, Grand Funk\, Black Sabbath) helped shape\nJoe’s style. After moving to Bel Air\, he played in several local bands – I95\, Circle of Fire\, and Tainted\nSouls.\nKaren grew up in Elkridge\, MD. Although she had no vocal training\, she enjoyed singing along to\nStevie Nicks\, Wynonna Judd and Tanya Tucker. She started her musical career when her dad bought a\nset of drums and decided to start a band. Over the years\, Karen played in several local bands–\nCrossfire\, Flashpoint\, and finally Wasted Gravity\, always with her dad on the drums.\nIn 2013\, Joe answered an ad for a lead guitarist and auditioned for Wasted Gravity\, and that’s when\nKaren and Joe started playing music together. When COVID hit\, the music scene shut down. The\nvision changed and Joe swapped out his electric guitar for an acoustic guitar. One Step Down played\nits first gig in October 2020. We love playing all genres of music\, but songs by Fleetwood Mac/Stevie\nNicks are some of the favorites!
URL:https://loneoakbrewingco.com/event/live-music-one-step-down-6/
LOCATION:Lone Oak Brewery\, 5000 Olney Laytonsville Rd\, Olney\, MD\, 20832\, United States
CATEGORIES:Live Music
ATTACH;FMTTYPE=image/jpeg:https://loneoakbrewingco.com/wp-content/uploads/2025/01/OneStepDown.jpeg
END:VEVENT
BEGIN:VEVENT
DTSTART;TZID=America/New_York:20250525T120000
DTEND;TZID=America/New_York:20250525T190000
DTSTAMP:20260421T220140
CREATED:20250508T231338Z
LAST-MODIFIED:20250508T231338Z
UID:5462-1748174400-1748199600@loneoakbrewingco.com
SUMMARY:Food Truck - BBQ and Tech
DESCRIPTION:
URL:https://loneoakbrewingco.com/event/food-truck-bbq-and-tech/
LOCATION:Lone Oak Brewery\, 5000 Olney Laytonsville Rd\, Olney\, MD\, 20832\, United States
CATEGORIES:Food Truck
ATTACH;FMTTYPE=image/jpeg:https://loneoakbrewingco.com/wp-content/uploads/2025/05/download-2.jpeg
END:VEVENT
BEGIN:VEVENT
DTSTART;TZID=UTC:20250524T140000
DTEND;TZID=UTC:20250524T170000
DTSTAMP:20260421T220140
CREATED:20250126T003923Z
LAST-MODIFIED:20250126T003923Z
UID:5150-1748095200-1748106000@loneoakbrewingco.com
SUMMARY:Live Music - Susanna Laird
DESCRIPTION:Susanna Laird is a singer-songwriter\, guitarist and pianist from Frederick Maryland.  She has been performing most of her life as a singer\, pianist and choir member in a variety of settings while also raising her kids\, homeschooling and teaching music lessons. Recently she has been focusing on songwriting and performing as a solo singer/guitarist. Her music is deeply influenced by gospel musicians like Andre Crouch and Mavis Staples as well as folk music like the Indigo Girls and Tracy Chapman and blues music like Bonnie Raitt. Her favorite songs to sing are “Midnight Train to Georgia”\, “Country Roads” and “Closer to Fine.”  Performing throughout the Mid-Atlantic region has given Susanna a deep appreciation for the cultural connection people here have to their communities as well as to the forests\, creeks\, mountains\, bay and ocean.  She loves to honor the local culture by playing music that resonates with people who call this beautiful area home.
URL:https://loneoakbrewingco.com/event/live-music-susanna-laird-2/
LOCATION:Lone Oak Brewery\, 5000 Olney Laytonsville Rd\, Olney\, MD\, 20832\, United States
CATEGORIES:Live Music
ATTACH;FMTTYPE=image/jpeg:https://loneoakbrewingco.com/wp-content/uploads/2024/12/susanna-laird-square-2-scaled.jpg
END:VEVENT
BEGIN:VEVENT
DTSTART;TZID=America/New_York:20250524T120000
DTEND;TZID=America/New_York:20250524T200000
DTSTAMP:20260421T220140
CREATED:20250508T225949Z
LAST-MODIFIED:20250508T225949Z
UID:5460-1748088000-1748116800@loneoakbrewingco.com
SUMMARY:Food Truck - Square Taco
DESCRIPTION:
URL:https://loneoakbrewingco.com/event/food-truck-square-taco-2/
LOCATION:Lone Oak Brewery\, 5000 Olney Laytonsville Rd\, Olney\, MD\, 20832\, United States
CATEGORIES:Food Truck
ATTACH;FMTTYPE=image/webp:https://loneoakbrewingco.com/wp-content/uploads/2024/10/SQUARE-TACO.webp
END:VEVENT
BEGIN:VEVENT
DTSTART;TZID=UTC:20250522T180000
DTEND;TZID=UTC:20250522T200000
DTSTAMP:20260421T220140
CREATED:20240103T202213Z
LAST-MODIFIED:20250122T091319Z
UID:4038-1747936800-1747944000@loneoakbrewingco.com
SUMMARY:TRIVIA
DESCRIPTION:Grab your thinking cap and test your knowledge with Pour House Trivia! Get a group together for prizes and $6 beer! All ages and levels are welcome.
URL:https://loneoakbrewingco.com/event/trivia-3-2025-05-22/
LOCATION:Lone Oak Brewery\, 5000 Olney Laytonsville Rd\, Olney\, MD\, 20832\, United States
CATEGORIES:Trivia
ATTACH;FMTTYPE=image/jpeg:https://loneoakbrewingco.com/wp-content/uploads/2023/08/pourhousetrivia-1.jpg
END:VEVENT
BEGIN:VEVENT
DTSTART;TZID=UTC:20250518T140000
DTEND;TZID=UTC:20250518T170000
DTSTAMP:20260421T220140
CREATED:20250125T194625Z
LAST-MODIFIED:20250125T194625Z
UID:5089-1747576800-1747587600@loneoakbrewingco.com
SUMMARY:Live Music - Round About
DESCRIPTION:Round About is an original Washington\, DC-area pop/rock acoustic duo made up of Patrick Garrity and Aaron Lowenberger featuring sparkling guitar work and tasteful vocal harmony. Started in 2010 and spending over a decade as a four-piece rock band\, they became a duo permanently following the recording and release of their fourth studio album\, 2022’s Inner Voices & Curious Choices.\n \nPatrick Garrity (vocals\, rhythm guitar) has been writing songs and performing around the DC-area for over 20 years\, first in the funky rock band Otis Finch\, then the acoustic duo Broken Taillight before starting Round About. His music can sound typically “singer-songwriter” on the surface but is often tongue-in-cheek as well in its looks at life and relationships. His tunes and style have been likened to Fountains of Wayne (a high compliment)\, but he’s also a huge fan of The Beatles\, Billy Joel and The Jayhawks\, to name a few. \nAaron Lowenberger (lead guitar\, vocals) has been performing locally since the late-2000s\, initially with the Celeste Starchild Band\, and is also currently the lead guitarist for americana band The Walkaways. Since joining Round About in 2013\, Aaron has expanded his own songwriting as well\, contributing songs to each of their subsequent albums. His influences run the gamut from Jimi Hendrix and Tommy Emmanual to Miles Davis\, Kings X and Megadeth. \nRound About has performed at numerous area clubs\, wineries\, breweries\, festivals\, annual concert series and more. Their music has won multiple songwriting awards and been featured on various popular local music podcasts. Their earlier full band albums include Coming Into Focus (2018)\, The Best Laid Plans (2015)\, and Hanging By A Thread (2012).
URL:https://loneoakbrewingco.com/event/live-music-round-about/
LOCATION:Lone Oak Brewery\, 5000 Olney Laytonsville Rd\, Olney\, MD\, 20832\, United States
CATEGORIES:Live Music
ATTACH;FMTTYPE=image/jpeg:https://loneoakbrewingco.com/wp-content/uploads/2025/01/Round-About.jpg
END:VEVENT
BEGIN:VEVENT
DTSTART;TZID=America/New_York:20250518T120000
DTEND;TZID=America/New_York:20250518T190000
DTSTAMP:20260421T220140
CREATED:20250508T225549Z
LAST-MODIFIED:20250508T225549Z
UID:5458-1747569600-1747594800@loneoakbrewingco.com
SUMMARY:Food Truck - Catalyst Hot Dogs
DESCRIPTION:
URL:https://loneoakbrewingco.com/event/food-truck-catalyst-hot-dogs-5/
LOCATION:Lone Oak Brewery\, 5000 Olney Laytonsville Rd\, Olney\, MD\, 20832\, United States
CATEGORIES:Food Truck
ATTACH;FMTTYPE=image/jpeg:https://loneoakbrewingco.com/wp-content/uploads/2022/03/catalysthotdogs.jpg
END:VEVENT
BEGIN:VEVENT
DTSTART;TZID=UTC:20250517T140000
DTEND;TZID=UTC:20250517T170000
DTSTAMP:20260421T220140
CREATED:20250125T194408Z
LAST-MODIFIED:20250125T204802Z
UID:5087-1747490400-1747501200@loneoakbrewingco.com
SUMMARY:Live Music - Joseph Monasterial
DESCRIPTION:Joseph R Monasterial is a Singer-Songwriter and Acoustic Guitarist based in the Washington DC area.  He grew up in Montgomery County\, MD and started performing as a local musician since he was 16 years old. Being close to family\, friends and meeting so many loving\, supportive people encouraged him even more to go after his dream.  He is musically talented\, humble and quite shy but can easily write a song when inspired.  His first song “I’ve Always Wondered” is a song he sang just a few times and among several other songs remained tucked away.  The songs\, “Hold Me Down\,” “Got To Let Go” and “June” have gained so much appreciation from his audiences.  After graduating college in May 2021\, he gave himself a year to pursue music and in May 2022\, he chose music as his full-time career.  May 2022 marks the crossroad of the uncertainties of following his dream and the determination to push forward and be happy in life.  2023 and 2024 proved to be challenging years yet\, bringing joy to himself and everyone who supports and loves him.  He is hoping that 2025 will be the year of his dream come true! \nJoseph R Monasterial picked up his guitar at 16 years old and was quickly known for his soulful\, captivating\, unique voice.  He was told by many that he sounds like John Mayer and Bruce Springsteen.  You’ll love this young pop singer so check him out and follow him at \nwww.facebook.com/jjoeymusic \nor at www.instagram.com/joeymonasterial
URL:https://loneoakbrewingco.com/event/live-music-joseph-monasterial-10/
LOCATION:Lone Oak Brewery\, 5000 Olney Laytonsville Rd\, Olney\, MD\, 20832\, United States
CATEGORIES:Live Music
ATTACH;FMTTYPE=image/jpeg:https://loneoakbrewingco.com/wp-content/uploads/2025/01/JosephMonasterial.jpeg
END:VEVENT
END:VCALENDAR