BEGIN:VCALENDAR
VERSION:2.0
PRODID:-//Lone Oak Brewing Co. - ECPv6.15.20//NONSGML v1.0//EN
CALSCALE:GREGORIAN
METHOD:PUBLISH
X-ORIGINAL-URL:https://loneoakbrewingco.com
X-WR-CALDESC:Events for Lone Oak Brewing Co.
REFRESH-INTERVAL;VALUE=DURATION:PT1H
X-Robots-Tag:noindex
X-PUBLISHED-TTL:PT1H
BEGIN:VTIMEZONE
TZID:America/New_York
BEGIN:DAYLIGHT
TZOFFSETFROM:-0500
TZOFFSETTO:-0400
TZNAME:EDT
DTSTART:20250309T070000
END:DAYLIGHT
BEGIN:STANDARD
TZOFFSETFROM:-0400
TZOFFSETTO:-0500
TZNAME:EST
DTSTART:20251102T060000
END:STANDARD
BEGIN:DAYLIGHT
TZOFFSETFROM:-0500
TZOFFSETTO:-0400
TZNAME:EDT
DTSTART:20260308T070000
END:DAYLIGHT
BEGIN:STANDARD
TZOFFSETFROM:-0400
TZOFFSETTO:-0500
TZNAME:EST
DTSTART:20261101T060000
END:STANDARD
BEGIN:DAYLIGHT
TZOFFSETFROM:-0500
TZOFFSETTO:-0400
TZNAME:EDT
DTSTART:20270314T070000
END:DAYLIGHT
BEGIN:STANDARD
TZOFFSETFROM:-0400
TZOFFSETTO:-0500
TZNAME:EST
DTSTART:20271107T060000
END:STANDARD
END:VTIMEZONE
BEGIN:VEVENT
DTSTART;TZID=America/New_York:20260620T140000
DTEND;TZID=America/New_York:20260620T170000
DTSTAMP:20260422T184112
CREATED:20260415T145833Z
LAST-MODIFIED:20260415T145833Z
UID:6343-1781964000-1781974800@loneoakbrewingco.com
SUMMARY:Music: Tears for Devere
DESCRIPTION:
URL:https://loneoakbrewingco.com/event/music-tears-for-devere-2/
LOCATION:Fallen Oak Distilling\, 5000 Olney Laytonsville Rd\, Olney\, MD\, 20832\, United States
ATTACH;FMTTYPE=image/jpeg:https://loneoakbrewingco.com/wp-content/uploads/2023/06/Fallen-Oak-Logo.jpg
END:VEVENT
BEGIN:VEVENT
DTSTART;VALUE=DATE:20260621
DTEND;VALUE=DATE:20260622
DTSTAMP:20260422T184112
CREATED:20260415T145917Z
LAST-MODIFIED:20260415T145917Z
UID:6345-1782000000-1782086399@loneoakbrewingco.com
SUMMARY:Food Truck: Palmetto Bay Cuisine
DESCRIPTION:
URL:https://loneoakbrewingco.com/event/food-truck-palmetto-bay-cuisine-4/
LOCATION:Lone Oak Brewery\, 5000 Olney Laytonsville Rd\, Olney\, MD\, 20832\, United States
ATTACH;FMTTYPE=image/jpeg:https://loneoakbrewingco.com/wp-content/uploads/2026/02/Palmetto-Bay-Cuisine.jpg
END:VEVENT
BEGIN:VEVENT
DTSTART;VALUE=DATE:20260621
DTEND;VALUE=DATE:20260622
DTSTAMP:20260422T184112
CREATED:20260415T145945Z
LAST-MODIFIED:20260415T145945Z
UID:6347-1782000000-1782086399@loneoakbrewingco.com
SUMMARY:Food Truck: Grubbing Hard
DESCRIPTION:
URL:https://loneoakbrewingco.com/event/food-truck-grubbing-hard-26/
LOCATION:Lone Oak Brewery\, 5000 Olney Laytonsville Rd\, Olney\, MD\, 20832\, United States
ATTACH;FMTTYPE=image/jpeg:https://loneoakbrewingco.com/wp-content/uploads/2023/08/grubbin-hard.jpeg
END:VEVENT
BEGIN:VEVENT
DTSTART;TZID=America/New_York:20260621T140000
DTEND;TZID=America/New_York:20260621T170000
DTSTAMP:20260422T184112
CREATED:20260415T150040Z
LAST-MODIFIED:20260415T150040Z
UID:6349-1782050400-1782061200@loneoakbrewingco.com
SUMMARY:Music: Acoustic Sounds
DESCRIPTION:
URL:https://loneoakbrewingco.com/event/music-acoustic-sounds-2/
LOCATION:Fallen Oak Distilling\, 5000 Olney Laytonsville Rd\, Olney\, MD\, 20832\, United States
ATTACH;FMTTYPE=image/jpeg:https://loneoakbrewingco.com/wp-content/uploads/2023/06/Fallen-Oak-Logo.jpg
END:VEVENT
BEGIN:VEVENT
DTSTART;VALUE=DATE:20260625
DTEND;VALUE=DATE:20260626
DTSTAMP:20260422T184112
CREATED:20260422T193222Z
LAST-MODIFIED:20260422T193222Z
UID:6363-1782345600-1782431999@loneoakbrewingco.com
SUMMARY:Proof 86 Thursdays
DESCRIPTION:Proof 86 Thursdays!  \nStop by Fallen Oak Distilling any Thursday and enjoy 20% off ALL drinks\, merchandise\, and bottles. \nDon’t miss out – make your Thursday the best day of the week! 
URL:https://loneoakbrewingco.com/event/proof-86-thursdays-5/
LOCATION:Fallen Oak Distilling\, 5000 Olney Laytonsville Rd\, Olney\, MD\, 20832\, United States
ATTACH;FMTTYPE=image/png:https://loneoakbrewingco.com/wp-content/uploads/2025/03/Proof-86-Shelf-Left.png
END:VEVENT
BEGIN:VEVENT
DTSTART;TZID=America/New_York:20260625T140000
DTEND;TZID=America/New_York:20260625T170000
DTSTAMP:20260422T184112
CREATED:20260422T193557Z
LAST-MODIFIED:20260422T193557Z
UID:6371-1782396000-1782406800@loneoakbrewingco.com
SUMMARY:Music - Michelle Lockey
DESCRIPTION:
URL:https://loneoakbrewingco.com/event/music-michelle-lockey/
LOCATION:Fallen Oak Distilling\, 5000 Olney Laytonsville Rd\, Olney\, MD\, 20832\, United States
ATTACH;FMTTYPE=image/jpeg:https://loneoakbrewingco.com/wp-content/uploads/2024/12/MichelleLockey-scaled.jpg
END:VEVENT
BEGIN:VEVENT
DTSTART;TZID=America/New_York:20260625T180000
DTEND;TZID=America/New_York:20260625T200000
DTSTAMP:20260422T184112
CREATED:20260422T193054Z
LAST-MODIFIED:20260422T193054Z
UID:6359-1782410400-1782417600@loneoakbrewingco.com
SUMMARY:Trivia Thursdays
DESCRIPTION:
URL:https://loneoakbrewingco.com/event/trivia-thursdays/
LOCATION:Lone Oak Brewery\, 5000 Olney Laytonsville Rd\, Olney\, MD\, 20832\, United States
ATTACH;FMTTYPE=image/jpeg:https://loneoakbrewingco.com/wp-content/uploads/2023/08/pourhousetrivia-1.jpg
END:VEVENT
BEGIN:VEVENT
DTSTART;TZID=America/New_York:20260625T180000
DTEND;TZID=America/New_York:20260625T200000
DTSTAMP:20260422T184112
CREATED:20260422T193138Z
LAST-MODIFIED:20260422T193138Z
UID:6361-1782410400-1782417600@loneoakbrewingco.com
SUMMARY:Happy Hour
DESCRIPTION:
URL:https://loneoakbrewingco.com/event/happy-hour-25/
LOCATION:Lone Oak Brewery\, 5000 Olney Laytonsville Rd\, Olney\, MD\, 20832\, United States
ATTACH;FMTTYPE=image/png:https://loneoakbrewingco.com/wp-content/uploads/2025/11/Thursday.png
END:VEVENT
BEGIN:VEVENT
DTSTART;TZID=America/New_York:20260626T180000
DTEND;TZID=America/New_York:20260626T210000
DTSTAMP:20260422T184112
CREATED:20260422T195609Z
LAST-MODIFIED:20260422T195609Z
UID:6386-1782496800-1782507600@loneoakbrewingco.com
SUMMARY:Family Friday
DESCRIPTION:
URL:https://loneoakbrewingco.com/event/family-friday-2/
LOCATION:Lone Oak Brewery\, 5000 Olney Laytonsville Rd\, Olney\, MD\, 20832\, United States
ATTACH;FMTTYPE=image/png:https://loneoakbrewingco.com/wp-content/uploads/2022/04/cropped-login.png
END:VEVENT
BEGIN:VEVENT
DTSTART;VALUE=DATE:20260627
DTEND;VALUE=DATE:20260628
DTSTAMP:20260422T184112
CREATED:20260422T193309Z
LAST-MODIFIED:20260422T193309Z
UID:6365-1782518400-1782604799@loneoakbrewingco.com
SUMMARY:Food Truck - Cousin's Maine Lobster
DESCRIPTION:
URL:https://loneoakbrewingco.com/event/food-truck-cousins-maine-lobster-4/
LOCATION:Lone Oak Brewery\, 5000 Olney Laytonsville Rd\, Olney\, MD\, 20832\, United States
ATTACH;FMTTYPE=image/webp:https://loneoakbrewingco.com/wp-content/uploads/2026/02/Cousins-Maine-Lobster.webp
END:VEVENT
BEGIN:VEVENT
DTSTART;TZID=America/New_York:20260627T140000
DTEND;TZID=America/New_York:20260627T170000
DTSTAMP:20260422T184112
CREATED:20260422T193354Z
LAST-MODIFIED:20260422T193354Z
UID:6367-1782568800-1782579600@loneoakbrewingco.com
SUMMARY:Music - Adam Forbes
DESCRIPTION:
URL:https://loneoakbrewingco.com/event/music-adam-forbes/
LOCATION:Fallen Oak Distilling\, 5000 Olney Laytonsville Rd\, Olney\, MD\, 20832\, United States
ATTACH;FMTTYPE=image/jpeg:https://loneoakbrewingco.com/wp-content/uploads/2024/07/Promo-Photo-Adam-Forbes.jpg
END:VEVENT
BEGIN:VEVENT
DTSTART;VALUE=DATE:20260628
DTEND;VALUE=DATE:20260629
DTSTAMP:20260422T184112
CREATED:20260422T193442Z
LAST-MODIFIED:20260422T193442Z
UID:6369-1782604800-1782691199@loneoakbrewingco.com
SUMMARY:Food Truck - BBQ and Tech
DESCRIPTION:
URL:https://loneoakbrewingco.com/event/food-truck-bbq-and-tech-10/
LOCATION:Lone Oak Brewery\, 5000 Olney Laytonsville Rd\, Olney\, MD\, 20832\, United States
ATTACH;FMTTYPE=image/jpeg:https://loneoakbrewingco.com/wp-content/uploads/2026/02/BBQ-and-Tech.jpg
END:VEVENT
END:VCALENDAR