BEGIN:VCALENDAR
VERSION:2.0
PRODID:-//Lone Oak Brewing Co. - ECPv6.15.20//NONSGML v1.0//EN
CALSCALE:GREGORIAN
METHOD:PUBLISH
X-ORIGINAL-URL:https://loneoakbrewingco.com
X-WR-CALDESC:Events for Lone Oak Brewing Co.
REFRESH-INTERVAL;VALUE=DURATION:PT1H
X-Robots-Tag:noindex
X-PUBLISHED-TTL:PT1H
BEGIN:VTIMEZONE
TZID:UTC
BEGIN:STANDARD
TZOFFSETFROM:+0000
TZOFFSETTO:+0000
TZNAME:UTC
DTSTART:20210101T000000
END:STANDARD
END:VTIMEZONE
BEGIN:VEVENT
DTSTART;TZID=UTC:20220708T180000
DTEND;TZID=UTC:20220708T210000
DTSTAMP:20260423T050441
CREATED:20220520T211038Z
LAST-MODIFIED:20220623T230418Z
UID:1444-1657303200-1657314000@loneoakbrewingco.com
SUMMARY:Billy\, Buffett & Beers!
DESCRIPTION:It’s the Lone Oak Farm concert you’ve been waiting for! We’ll be wastin’ away again in Lone Oak-ville – and we’ll all be singing along! Jam to the music of Billy Joel with band “Hudson River Line” and then dance to Jimmy Buffett’s greatest hits when band “One Particular Harbour” takes the stage! \nFriday\, July 8. Doors open at 4pm. Concert runs from 6-9p. All tickets are $25. The Farm will close at 4pm for the event. Everyone on the property must be ticketed.
URL:https://loneoakbrewingco.com/event/billy-buffett-beers/
LOCATION:Lone Oak Brewery\, 5000 Olney Laytonsville Rd\, Olney\, MD\, 20832\, United States
CATEGORIES:Live Music,Ticketed Event
ATTACH;FMTTYPE=image/jpeg:https://loneoakbrewingco.com/wp-content/uploads/2022/05/BILLY-BUFFETT-BEERS-e1660239384975.jpg
END:VEVENT
BEGIN:VEVENT
DTSTART;TZID=UTC:20220709T120000
DTEND;TZID=UTC:20220709T200000
DTSTAMP:20260423T050441
CREATED:20220508T014204Z
LAST-MODIFIED:20220508T014204Z
UID:1175-1657368000-1657396800@loneoakbrewingco.com
SUMMARY:FOOD TRUCK - FLIPSIDE GASTRO
DESCRIPTION:
URL:https://loneoakbrewingco.com/event/food-truck-flipside-gastro-8/
LOCATION:Lone Oak Brewery\, 5000 Olney Laytonsville Rd\, Olney\, MD\, 20832\, United States
CATEGORIES:Food Truck
ATTACH;FMTTYPE=image/jpeg:https://loneoakbrewingco.com/wp-content/uploads/2022/03/flipside-gastro-truck.jpeg
END:VEVENT
BEGIN:VEVENT
DTSTART;TZID=UTC:20220709T160000
DTEND;TZID=UTC:20220709T190000
DTSTAMP:20260423T050441
CREATED:20220513T005141Z
LAST-MODIFIED:20220708T221009Z
UID:1305-1657382400-1657393200@loneoakbrewingco.com
SUMMARY:LIVE MUSIC - THE UNCOUNTED
DESCRIPTION:
URL:https://loneoakbrewingco.com/event/live-music-the-uncounted-3/
LOCATION:Lone Oak Brewery\, 5000 Olney Laytonsville Rd\, Olney\, MD\, 20832\, United States
CATEGORIES:Live Music
ATTACH;FMTTYPE=image/jpeg:https://loneoakbrewingco.com/wp-content/uploads/2022/05/🎶The-Uncounted--scaled.jpeg
END:VEVENT
BEGIN:VEVENT
DTSTART;TZID=UTC:20220710T120000
DTEND;TZID=UTC:20220710T190000
DTSTAMP:20260423T050441
CREATED:20220508T014629Z
LAST-MODIFIED:20220508T014629Z
UID:1177-1657454400-1657479600@loneoakbrewingco.com
SUMMARY:FOOD TRUCK - KOFEMI GRUB N GO
DESCRIPTION:
URL:https://loneoakbrewingco.com/event/food-truck-kofemi-grub-n-go/
LOCATION:Lone Oak Brewery\, 5000 Olney Laytonsville Rd\, Olney\, MD\, 20832\, United States
CATEGORIES:Food Truck
ATTACH;FMTTYPE=image/png:https://loneoakbrewingco.com/wp-content/uploads/2022/05/Screen-Shot-2022-05-07-at-5.45.29-PM-e1651959982884.png
END:VEVENT
BEGIN:VEVENT
DTSTART;TZID=UTC:20220710T140000
DTEND;TZID=UTC:20220710T170000
DTSTAMP:20260423T050441
CREATED:20220513T005739Z
LAST-MODIFIED:20220513T005807Z
UID:1307-1657461600-1657472400@loneoakbrewingco.com
SUMMARY:LIVE MUSIC - FRAN SCUDERI
DESCRIPTION:
URL:https://loneoakbrewingco.com/event/live-music-fran-scuderi-3/
LOCATION:Lone Oak Brewery\, 5000 Olney Laytonsville Rd\, Olney\, MD\, 20832\, United States
CATEGORIES:Live Music
ATTACH;FMTTYPE=image/png:https://loneoakbrewingco.com/wp-content/uploads/2022/05/FRAN-SCUDERI.png
END:VEVENT
BEGIN:VEVENT
DTSTART;TZID=UTC:20220713T180000
DTEND;TZID=UTC:20220713T200000
DTSTAMP:20260423T050441
CREATED:20220610T025515Z
LAST-MODIFIED:20220610T025515Z
UID:1715-1657735200-1657742400@loneoakbrewingco.com
SUMMARY:MAGIC-al Wednesday!
DESCRIPTION:David Em is a magician and mentalist of local renown in the DC/MD/VA area and has been a student of the conjuring arts for 20 years. David has shared his mysterious art all over the United States and has performed internationally as well.  His specialty lies in the world of close-up magic and mindreading. The style in which David performs can be associated with that of a street magician\, doing things with ordinary objects that defy reality. Each performance leaves audience members with impossible objects and souvenirs\, allowing them to better remember the magic they participated in.  \nDavid is bilingual\, offering performances in English and Spanish to accommodate diverse audiences. As a classical pianist\, he has the dexterity to manipulate cards and the like to achieve astounding things. David’s personality is almost as magical as his magic and is sure to make your next event a fun and unique experience!
URL:https://loneoakbrewingco.com/event/magic-al-wednesday-3/
LOCATION:Lone Oak Brewery\, 5000 Olney Laytonsville Rd\, Olney\, MD\, 20832\, United States
CATEGORIES:Magician
ATTACH;FMTTYPE=image/jpeg:https://loneoakbrewingco.com/wp-content/uploads/2022/06/12316555_10154347668483272_7620632140885560264_n.jpg
END:VEVENT
BEGIN:VEVENT
DTSTART;TZID=UTC:20220714T170000
DTEND;TZID=UTC:20220714T200000
DTSTAMP:20260423T050441
CREATED:20220712T040918Z
LAST-MODIFIED:20220712T041130Z
UID:1771-1657818000-1657828800@loneoakbrewingco.com
SUMMARY:LIVE MUSIC - ADAM SICA
DESCRIPTION:
URL:https://loneoakbrewingco.com/event/live-music-adam-sica/
LOCATION:Lone Oak Brewery\, 5000 Olney Laytonsville Rd\, Olney\, MD\, 20832\, United States
CATEGORIES:Live Music
ATTACH;FMTTYPE=image/png:https://loneoakbrewingco.com/wp-content/uploads/2022/07/Screen-Shot-2022-07-11-at-7.53.11-PM-e1657584678714.png
END:VEVENT
BEGIN:VEVENT
DTSTART;TZID=UTC:20220715T130000
DTEND;TZID=UTC:20220715T200000
DTSTAMP:20260423T050441
CREATED:20220508T025027Z
LAST-MODIFIED:20220508T025027Z
UID:1180-1657890000-1657915200@loneoakbrewingco.com
SUMMARY:FOOD TRUCK - BLUES BBQ
DESCRIPTION:
URL:https://loneoakbrewingco.com/event/food-truck-blues-bbq-2/
LOCATION:Lone Oak Brewery\, 5000 Olney Laytonsville Rd\, Olney\, MD\, 20832\, United States
CATEGORIES:Food Truck
ATTACH;FMTTYPE=image/png:https://loneoakbrewingco.com/wp-content/uploads/2022/05/Screen-Shot-2022-05-07-at-5.29.34-PM.png
END:VEVENT
BEGIN:VEVENT
DTSTART;TZID=UTC:20220715T160000
DTEND;TZID=UTC:20220715T190000
DTSTAMP:20260423T050441
CREATED:20220513T010314Z
LAST-MODIFIED:20220513T010314Z
UID:1310-1657900800-1657911600@loneoakbrewingco.com
SUMMARY:LIVE MUSIC - DONUTS FOR DINNER
DESCRIPTION:
URL:https://loneoakbrewingco.com/event/live-music-donuts-for-dinner-2/
LOCATION:Lone Oak Brewery\, 5000 Olney Laytonsville Rd\, Olney\, MD\, 20832\, United States
CATEGORIES:Live Music
ATTACH;FMTTYPE=image/jpeg:https://loneoakbrewingco.com/wp-content/uploads/2022/03/donutsfordinner.jpg
END:VEVENT
BEGIN:VEVENT
DTSTART;TZID=UTC:20220716T120000
DTEND;TZID=UTC:20220716T200000
DTSTAMP:20260423T050441
CREATED:20220508T025337Z
LAST-MODIFIED:20220508T025337Z
UID:1183-1657972800-1658001600@loneoakbrewingco.com
SUMMARY:FOOD TRUCK - BUN'D UP
DESCRIPTION:
URL:https://loneoakbrewingco.com/event/food-truck-bund-up-3/
LOCATION:Lone Oak Brewery\, 5000 Olney Laytonsville Rd\, Olney\, MD\, 20832\, United States
CATEGORIES:Food Truck
ATTACH;FMTTYPE=image/jpeg:https://loneoakbrewingco.com/wp-content/uploads/2022/04/bundup-Edit-rotated-e1627678270867.jpg
END:VEVENT
BEGIN:VEVENT
DTSTART;TZID=UTC:20220716T140000
DTEND;TZID=UTC:20220716T170000
DTSTAMP:20260423T050441
CREATED:20220513T010507Z
LAST-MODIFIED:20220702T212506Z
UID:1312-1657980000-1657990800@loneoakbrewingco.com
SUMMARY:LIVE MUSIC - THE OUTTAKES
DESCRIPTION:
URL:https://loneoakbrewingco.com/event/live-music-the-outtakes-2/
LOCATION:Lone Oak Brewery\, 5000 Olney Laytonsville Rd\, Olney\, MD\, 20832\, United States
CATEGORIES:Live Music
ATTACH;FMTTYPE=image/png:https://loneoakbrewingco.com/wp-content/uploads/2022/05/Screen-Shot-2022-07-02-at-1.24.17-PM.png
END:VEVENT
BEGIN:VEVENT
DTSTART;TZID=UTC:20220717T120000
DTEND;TZID=UTC:20220717T190000
DTSTAMP:20260423T050441
CREATED:20220508T032510Z
LAST-MODIFIED:20220508T032510Z
UID:1187-1658059200-1658084400@loneoakbrewingco.com
SUMMARY:FOOD TRUCK - PETIT AFRIK
DESCRIPTION:
URL:https://loneoakbrewingco.com/event/food-truck-petit-afrik-3/
LOCATION:Lone Oak Brewery\, 5000 Olney Laytonsville Rd\, Olney\, MD\, 20832\, United States
CATEGORIES:Food Truck
ATTACH;FMTTYPE=image/jpeg:https://loneoakbrewingco.com/wp-content/uploads/2022/03/background-oak.jpg
END:VEVENT
BEGIN:VEVENT
DTSTART;TZID=UTC:20220717T140000
DTEND;TZID=UTC:20220717T170000
DTSTAMP:20260423T050441
CREATED:20220513T010903Z
LAST-MODIFIED:20220623T050927Z
UID:1314-1658066400-1658077200@loneoakbrewingco.com
SUMMARY:LIVE MUSIC - THE NITE RUNNERS
DESCRIPTION:
URL:https://loneoakbrewingco.com/event/live-music-the-nite-runners/
LOCATION:Lone Oak Brewery\, 5000 Olney Laytonsville Rd\, Olney\, MD\, 20832\, United States
CATEGORIES:Live Music
ATTACH;FMTTYPE=image/jpeg:https://loneoakbrewingco.com/wp-content/uploads/2022/05/The-Nite-Runners.jpg
END:VEVENT
BEGIN:VEVENT
DTSTART;TZID=UTC:20220721T170000
DTEND;TZID=UTC:20220721T210000
DTSTAMP:20260423T050441
CREATED:20220721T202950Z
LAST-MODIFIED:20220721T202950Z
UID:1815-1658422800-1658437200@loneoakbrewingco.com
SUMMARY:FOOD TRUCK - THE HALAL KINGZ
DESCRIPTION:
URL:https://loneoakbrewingco.com/event/food-truck-the-halal-kingz-3/
LOCATION:Lone Oak Brewery\, 5000 Olney Laytonsville Rd\, Olney\, MD\, 20832\, United States
CATEGORIES:Food Truck
ATTACH;FMTTYPE=image/png:https://loneoakbrewingco.com/wp-content/uploads/2022/05/Screen-Shot-2022-05-24-at-1.11.19-PM-e1653412415781.png
END:VEVENT
BEGIN:VEVENT
DTSTART;TZID=UTC:20220721T190000
DTEND;TZID=UTC:20220721T210000
DTSTAMP:20260423T050441
CREATED:20220707T035429Z
LAST-MODIFIED:20220707T035521Z
UID:1764-1658430000-1658437200@loneoakbrewingco.com
SUMMARY:LAUGH AT LONE OAK COMEDY SHOW
DESCRIPTION:Featuring Nationally Touring Comedians Quincy Carr and Jared Stern. LOL WITH AN L.O.L. IN YOUR HAND! A LAUGH + A LAGER = A GOOD OL’ TIME! JOIN US FOR OUR JULY COMEDY SHOW IN THE BRANCH PAVILION AS WE ONCE AGAIN PARTNER WITH THE COMEDY KINGS OVER AT BOJO ENTERTAINMENT! GET YOUR TICKETS NOW! YOU CAN BUY ONE – OR BOOK A TABLE AND BRING SOME FRIENDS ALONG: https://www.bojoentertainment.com/event-details/july-21st-lone-oak-comedy-show-featuring-nationally-touring-comedians-quincy-carr-and-jared-stern
URL:https://loneoakbrewingco.com/event/laugh-at-lone-oak-comedy-show-4/
LOCATION:Lone Oak Brewery\, 5000 Olney Laytonsville Rd\, Olney\, MD\, 20832\, United States
CATEGORIES:Ticketed Event
ATTACH;FMTTYPE=image/png:https://loneoakbrewingco.com/wp-content/uploads/2022/07/Screen-Shot-2022-07-06-at-7.52.38-PM.png
END:VEVENT
BEGIN:VEVENT
DTSTART;TZID=UTC:20220722T130000
DTEND;TZID=UTC:20220722T200000
DTSTAMP:20260423T050441
CREATED:20220508T032648Z
LAST-MODIFIED:20220717T225943Z
UID:1189-1658494800-1658520000@loneoakbrewingco.com
SUMMARY:FOOD TRUCK - REGULAR FOODZ
DESCRIPTION:
URL:https://loneoakbrewingco.com/event/food-truck-regular-foods-5/
LOCATION:Lone Oak Brewery\, 5000 Olney Laytonsville Rd\, Olney\, MD\, 20832\, United States
CATEGORIES:Food Truck
ATTACH;FMTTYPE=image/jpeg:https://loneoakbrewingco.com/wp-content/uploads/2022/03/background-oak.jpg
END:VEVENT
BEGIN:VEVENT
DTSTART;TZID=UTC:20220722T160000
DTEND;TZID=UTC:20220722T190000
DTSTAMP:20260423T050441
CREATED:20220513T011336Z
LAST-MODIFIED:20220513T011336Z
UID:1316-1658505600-1658516400@loneoakbrewingco.com
SUMMARY:LIVE MUSIC - BRIAN HARRIS
DESCRIPTION:
URL:https://loneoakbrewingco.com/event/live-music-brian-harris-3/
LOCATION:Lone Oak Brewery\, 5000 Olney Laytonsville Rd\, Olney\, MD\, 20832\, United States
CATEGORIES:Live Music
ATTACH;FMTTYPE=image/jpeg:https://loneoakbrewingco.com/wp-content/uploads/2022/03/brian-harris-1-1.jpeg
END:VEVENT
BEGIN:VEVENT
DTSTART;VALUE=DATE:20220723
DTEND;VALUE=DATE:20220724
DTSTAMP:20260423T050441
CREATED:20220713T200238Z
LAST-MODIFIED:20220713T200753Z
UID:1775-1658534400-1658620799@loneoakbrewingco.com
SUMMARY:2022 Montgomery County Annual Farm Tour & Harvest Sale
DESCRIPTION:will occur July 23rd and 24th – Check out the BROCHURE for details. Stop by Lone Oak Farm Brewing Co. to support a local agricultural business and enjoy great brews and historic views. Remember to check-in using the new Adventure Planner App Farm Tour Passport to be entered into a drawing for a prize pack.
URL:https://loneoakbrewingco.com/event/2022-montgomery-county-annual-farm-tour-harvest-sale/
LOCATION:Lone Oak Brewery\, 5000 Olney Laytonsville Rd\, Olney\, MD\, 20832\, United States
CATEGORIES:Farm Tour
ATTACH;FMTTYPE=image/png:https://loneoakbrewingco.com/wp-content/uploads/2022/07/Screen-Shot-2022-07-13-at-11.54.01-AM.png
END:VEVENT
BEGIN:VEVENT
DTSTART;TZID=UTC:20220723T120000
DTEND;TZID=UTC:20220723T200000
DTSTAMP:20260423T050441
CREATED:20220508T032907Z
LAST-MODIFIED:20220508T032907Z
UID:1191-1658577600-1658606400@loneoakbrewingco.com
SUMMARY:FOOD TRUCK - FLIPSIDE GASTRO
DESCRIPTION:
URL:https://loneoakbrewingco.com/event/food-truck-flipside-gastro-9/
LOCATION:Lone Oak Brewery\, 5000 Olney Laytonsville Rd\, Olney\, MD\, 20832\, United States
CATEGORIES:Food Truck
ATTACH;FMTTYPE=image/jpeg:https://loneoakbrewingco.com/wp-content/uploads/2022/03/flipside-gastro-truck.jpeg
END:VEVENT
BEGIN:VEVENT
DTSTART;TZID=UTC:20220723T130000
DTEND;TZID=UTC:20220723T190000
DTSTAMP:20260423T050441
CREATED:20220720T180504Z
LAST-MODIFIED:20220720T180504Z
UID:1803-1658581200-1658602800@loneoakbrewingco.com
SUMMARY:Olney Theatre Center's SUMMERFEST 2022
DESCRIPTION:Saturday\, July 23rd 2022 at 1:00pm \n\n\nLone Oak Farm Brewing Co. will be in the Omi Pavilion from 1:00-7:00pm! \n\n\nTickets are free! \n\n\nFor a complete list of events and to get your ticket(s)\, please visit Olney Theatre Center’s website: https://www.olneytheatre.org/whats-playing/summerfest-2022 \n\n\nAddress \n\n\nOlney Theatre Center \n\n\n2001 Olney Sandy Spring Rd. \n\n\nHow to Get Here
URL:https://loneoakbrewingco.com/event/olney-theatre-centers-summerfest-2022/
LOCATION:Lone Oak Brewery\, 5000 Olney Laytonsville Rd\, Olney\, MD\, 20832\, United States
CATEGORIES:Offsite Event
ATTACH;FMTTYPE=image/png:https://loneoakbrewingco.com/wp-content/uploads/2022/07/Screen-Shot-2022-07-20-at-10.04.33-AM.png
END:VEVENT
BEGIN:VEVENT
DTSTART;TZID=UTC:20220723T140000
DTEND;TZID=UTC:20220723T170000
DTSTAMP:20260423T050441
CREATED:20220513T011547Z
LAST-MODIFIED:20220513T011547Z
UID:1318-1658584800-1658595600@loneoakbrewingco.com
SUMMARY:LIVE MUSIC - MICHAEL FALCONE
DESCRIPTION:
URL:https://loneoakbrewingco.com/event/live-music-michael-falcone-4/
LOCATION:Lone Oak Brewery\, 5000 Olney Laytonsville Rd\, Olney\, MD\, 20832\, United States
CATEGORIES:Live Music
ATTACH;FMTTYPE=image/jpeg:https://loneoakbrewingco.com/wp-content/uploads/2022/03/background-oak.jpg
END:VEVENT
BEGIN:VEVENT
DTSTART;VALUE=DATE:20220724
DTEND;VALUE=DATE:20220725
DTSTAMP:20260423T050441
CREATED:20220713T200858Z
LAST-MODIFIED:20220713T200858Z
UID:1780-1658620800-1658707199@loneoakbrewingco.com
SUMMARY:2022 Montgomery County Annual Farm Tour & Harvest Sale
DESCRIPTION:will occur July 23rd and 24th – Check out the BROCHURE for details. Stop by Lone Oak Farm Brewing Co. to support a local agricultural business and enjoy great brews and historic views. Remember to check-in using the new Adventure Planner App Farm Tour Passport to be entered into a drawing for a prize pack.
URL:https://loneoakbrewingco.com/event/2022-montgomery-county-annual-farm-tour-harvest-sale-2/
LOCATION:Lone Oak Brewery\, 5000 Olney Laytonsville Rd\, Olney\, MD\, 20832\, United States
CATEGORIES:Farm Tour
ATTACH;FMTTYPE=image/png:https://loneoakbrewingco.com/wp-content/uploads/2022/07/Screen-Shot-2022-07-13-at-11.54.01-AM.png
END:VEVENT
BEGIN:VEVENT
DTSTART;TZID=UTC:20220724T120000
DTEND;TZID=UTC:20220724T190000
DTSTAMP:20260423T050441
CREATED:20220508T033103Z
LAST-MODIFIED:20220508T033103Z
UID:1195-1658664000-1658689200@loneoakbrewingco.com
SUMMARY:FOOD TRUCK - BUN'D UP
DESCRIPTION:
URL:https://loneoakbrewingco.com/event/food-truck-bund-up-4/
LOCATION:Lone Oak Brewery\, 5000 Olney Laytonsville Rd\, Olney\, MD\, 20832\, United States
CATEGORIES:Food Truck
ATTACH;FMTTYPE=image/jpeg:https://loneoakbrewingco.com/wp-content/uploads/2022/04/bundup-Edit-rotated-e1627678270867.jpg
END:VEVENT
BEGIN:VEVENT
DTSTART;TZID=UTC:20220724T140000
DTEND;TZID=UTC:20220724T170000
DTSTAMP:20260423T050441
CREATED:20220513T011839Z
LAST-MODIFIED:20220513T011839Z
UID:1320-1658671200-1658682000@loneoakbrewingco.com
SUMMARY:LIVE MUSIC - BURT THE DIRT
DESCRIPTION:
URL:https://loneoakbrewingco.com/event/live-music-burt-the-dirt-2/
LOCATION:Lone Oak Brewery\, 5000 Olney Laytonsville Rd\, Olney\, MD\, 20832\, United States
CATEGORIES:Live Music
ATTACH;FMTTYPE=image/png:https://loneoakbrewingco.com/wp-content/uploads/2022/05/BURT-THE-DIRT.png
END:VEVENT
BEGIN:VEVENT
DTSTART;TZID=UTC:20220727T180000
DTEND;TZID=UTC:20220727T200000
DTSTAMP:20260423T050441
CREATED:20220610T025559Z
LAST-MODIFIED:20220610T025559Z
UID:1717-1658944800-1658952000@loneoakbrewingco.com
SUMMARY:MAGIC-al Wednesday!
DESCRIPTION:David Em is a magician and mentalist of local renown in the DC/MD/VA area and has been a student of the conjuring arts for 20 years. David has shared his mysterious art all over the United States and has performed internationally as well.  His specialty lies in the world of close-up magic and mindreading. The style in which David performs can be associated with that of a street magician\, doing things with ordinary objects that defy reality. Each performance leaves audience members with impossible objects and souvenirs\, allowing them to better remember the magic they participated in.  \nDavid is bilingual\, offering performances in English and Spanish to accommodate diverse audiences. As a classical pianist\, he has the dexterity to manipulate cards and the like to achieve astounding things. David’s personality is almost as magical as his magic and is sure to make your next event a fun and unique experience!
URL:https://loneoakbrewingco.com/event/magic-al-wednesday-4/
LOCATION:Lone Oak Brewery\, 5000 Olney Laytonsville Rd\, Olney\, MD\, 20832\, United States
CATEGORIES:Magician
ATTACH;FMTTYPE=image/jpeg:https://loneoakbrewingco.com/wp-content/uploads/2022/06/12316555_10154347668483272_7620632140885560264_n.jpg
END:VEVENT
BEGIN:VEVENT
DTSTART;TZID=UTC:20220729T160000
DTEND;TZID=UTC:20220729T190000
DTSTAMP:20260423T050441
CREATED:20220513T012054Z
LAST-MODIFIED:20220709T180103Z
UID:1323-1659110400-1659121200@loneoakbrewingco.com
SUMMARY:LIVE MUSIC - THE OUTTAKES
DESCRIPTION:
URL:https://loneoakbrewingco.com/event/live-music-the-outtakes-3/
LOCATION:Lone Oak Brewery\, 5000 Olney Laytonsville Rd\, Olney\, MD\, 20832\, United States
CATEGORIES:Live Music
ATTACH;FMTTYPE=image/png:https://loneoakbrewingco.com/wp-content/uploads/2022/05/Screen-Shot-2022-07-09-at-10.00.38-AM.png
END:VEVENT
BEGIN:VEVENT
DTSTART;TZID=UTC:20220729T160000
DTEND;TZID=UTC:20220729T200000
DTSTAMP:20260423T050441
CREATED:20220508T033215Z
LAST-MODIFIED:20220518T175229Z
UID:1197-1659110400-1659124800@loneoakbrewingco.com
SUMMARY:FOOD TRUCK - GRUBBING HARD BBQ
DESCRIPTION:
URL:https://loneoakbrewingco.com/event/food-truck-grubbing-hard-bbq-3/
LOCATION:Lone Oak Brewery\, 5000 Olney Laytonsville Rd\, Olney\, MD\, 20832\, United States
CATEGORIES:Food Truck
ATTACH;FMTTYPE=image/jpeg:https://loneoakbrewingco.com/wp-content/uploads/2022/03/grubbin-hard.jpeg
END:VEVENT
BEGIN:VEVENT
DTSTART;TZID=UTC:20220729T183000
DTEND;TZID=UTC:20220729T183000
DTSTAMP:20260423T050441
CREATED:20220722T013511Z
LAST-MODIFIED:20220722T013511Z
UID:1818-1659119400-1659119400@loneoakbrewingco.com
SUMMARY:Olney Theatre Center - DINING ON STORIES
DESCRIPTION:A community potluck & storytelling event Friday July 29th 2022 at 6:30pm. Come see Chris Miller\, co-founder of Lone Oak Brewery\, talk about community-focused work. RSVP with free tickets at https://www.olneytheatre.org/index.php/whats-playing/dining-stories \n 
URL:https://loneoakbrewingco.com/event/olney-theatre-center-dining-on-stories/
LOCATION:Lone Oak Brewery\, 5000 Olney Laytonsville Rd\, Olney\, MD\, 20832\, United States
CATEGORIES:Offsite Event
ATTACH;FMTTYPE=image/png:https://loneoakbrewingco.com/wp-content/uploads/2022/07/Screen-Shot-2022-07-20-at-10.04.33-AM.png
END:VEVENT
BEGIN:VEVENT
DTSTART;TZID=UTC:20220730T120000
DTEND;TZID=UTC:20220730T200000
DTSTAMP:20260423T050441
CREATED:20220610T200045Z
LAST-MODIFIED:20220610T200045Z
UID:1725-1659182400-1659211200@loneoakbrewingco.com
SUMMARY:FOOD TRUCK - WI JAMMIN
DESCRIPTION:
URL:https://loneoakbrewingco.com/event/food-truck-wi-jammin-2/
LOCATION:Lone Oak Brewery\, 5000 Olney Laytonsville Rd\, Olney\, MD\, 20832\, United States
CATEGORIES:Food Truck
ATTACH;FMTTYPE=image/png:https://loneoakbrewingco.com/wp-content/uploads/2022/06/Screen-Shot-2022-05-03-at-12.35.13-PM.png
END:VEVENT
BEGIN:VEVENT
DTSTART;TZID=UTC:20220730T140000
DTEND;TZID=UTC:20220730T170000
DTSTAMP:20260423T050441
CREATED:20220513T013055Z
LAST-MODIFIED:20220513T013055Z
UID:1325-1659189600-1659200400@loneoakbrewingco.com
SUMMARY:LIVE MUSIC - FRAN SCUDERI
DESCRIPTION:
URL:https://loneoakbrewingco.com/event/live-music-fran-scuderi-4/
LOCATION:Lone Oak Brewery\, 5000 Olney Laytonsville Rd\, Olney\, MD\, 20832\, United States
CATEGORIES:Live Music
ATTACH;FMTTYPE=image/png:https://loneoakbrewingco.com/wp-content/uploads/2022/05/FRAN-SCUDERI.png
END:VEVENT
END:VCALENDAR