BEGIN:VCALENDAR
VERSION:2.0
PRODID:-//Lone Oak Brewing Co. - ECPv6.15.20//NONSGML v1.0//EN
CALSCALE:GREGORIAN
METHOD:PUBLISH
X-WR-CALNAME:Lone Oak Brewing Co.
X-ORIGINAL-URL:https://loneoakbrewingco.com
X-WR-CALDESC:Events for Lone Oak Brewing Co.
REFRESH-INTERVAL;VALUE=DURATION:PT1H
X-Robots-Tag:noindex
X-PUBLISHED-TTL:PT1H
BEGIN:VTIMEZONE
TZID:UTC
BEGIN:STANDARD
TZOFFSETFROM:+0000
TZOFFSETTO:+0000
TZNAME:UTC
DTSTART:20230101T000000
END:STANDARD
END:VTIMEZONE
BEGIN:VEVENT
DTSTART;TZID=UTC:20240824T140000
DTEND;TZID=UTC:20240824T170000
DTSTAMP:20260422T233137
CREATED:20240705T005008Z
LAST-MODIFIED:20240705T005008Z
UID:4216-1724508000-1724518800@loneoakbrewingco.com
SUMMARY:LIVE MUSIC - ADAM FORBES
DESCRIPTION:My name is Adam Forbes. I’m a musician who performs both solo acoustic and with a band called Sidewalk Soul – a trio of guitar\, bass and drums in Washington\, DC. I perform regularly in DC\, MD and VA – about 160 shows per year.
URL:https://loneoakbrewingco.com/event/live-music-adam-forbes-2/
LOCATION:Lone Oak Brewery\, 5000 Olney Laytonsville Rd\, Olney\, MD\, 20832\, United States
CATEGORIES:Live Music
ATTACH;FMTTYPE=image/jpeg:https://loneoakbrewingco.com/wp-content/uploads/2024/07/Promo-Photo-Adam-Forbes.jpg
END:VEVENT
BEGIN:VEVENT
DTSTART;TZID=UTC:20240824T130000
DTEND;TZID=UTC:20240824T200000
DTSTAMP:20260422T233137
CREATED:20240705T005102Z
LAST-MODIFIED:20240705T005102Z
UID:4219-1724504400-1724529600@loneoakbrewingco.com
SUMMARY:FOOD TRUCK - CATALYST HOTDOGS
DESCRIPTION:
URL:https://loneoakbrewingco.com/event/food-truck-catalyst-hotdogs-3/
LOCATION:Lone Oak Brewery\, 5000 Olney Laytonsville Rd\, Olney\, MD\, 20832\, United States
CATEGORIES:Food Truck
ATTACH;FMTTYPE=image/jpeg:https://loneoakbrewingco.com/wp-content/uploads/2022/03/catalysthotdogs.jpg
END:VEVENT
BEGIN:VEVENT
DTSTART;TZID=UTC:20240824T080000
DTEND;TZID=UTC:20240824T130000
DTSTAMP:20260422T233137
CREATED:20240801T013402Z
LAST-MODIFIED:20240801T013402Z
UID:4316-1724486400-1724504400@loneoakbrewingco.com
SUMMARY:Bikes & Beers
DESCRIPTION:3rd Annual Bikes & Beers Olney features a 15\, 30\, and 45-Mile ride departing from Lone Oak and traveling through Olney. All rides feature morning fuel stations\, fully marked routes\, GPS turn-by-turn instruction\, rest stops\, refreshments\, ride marshals\, and SAG support. Finish back at Lone Oak for a festival of rewarding craft beers\, live music\, charity raffle & much more! All riding levels are welcome!
URL:https://loneoakbrewingco.com/event/bikes-beers-3/
LOCATION:Lone Oak Brewery\, 5000 Olney Laytonsville Rd\, Olney\, MD\, 20832\, United States
ATTACH;FMTTYPE=image/png:https://loneoakbrewingco.com/wp-content/uploads/2024/07/BikesBeers_Logo-1.png
END:VEVENT
BEGIN:VEVENT
DTSTART;TZID=UTC:20240822T180000
DTEND;TZID=UTC:20240822T200000
DTSTAMP:20260422T233137
CREATED:20240801T013011Z
LAST-MODIFIED:20240801T013011Z
UID:4313-1724349600-1724356800@loneoakbrewingco.com
SUMMARY:Line Dancing
DESCRIPTION:Get ready to kick up your heels and join us for another fantastic evening of line dancing! Whether you’re a seasoned pro or a complete beginner\, our skilled instructor\, Arielle DeReggi\, will guide you through fun and easy-to-follow steps. It’s the perfect opportunity to learn some new moves\, meet new friends\, and enjoy some Lone Oak brews. We can’t wait to see you on the dance floor!
URL:https://loneoakbrewingco.com/event/line-dancing-3/
LOCATION:Lone Oak Brewery\, 5000 Olney Laytonsville Rd\, Olney\, MD\, 20832\, United States
ATTACH;FMTTYPE=image/jpeg:https://loneoakbrewingco.com/wp-content/uploads/2024/07/Untitled-design-3.jpg
END:VEVENT
BEGIN:VEVENT
DTSTART;TZID=UTC:20240822T180000
DTEND;TZID=UTC:20240822T200000
DTSTAMP:20260422T233137
CREATED:20240103T202213Z
LAST-MODIFIED:20250122T091308Z
UID:3999-1724349600-1724356800@loneoakbrewingco.com
SUMMARY:TRIVIA
DESCRIPTION:Grab your thinking cap and test your knowledge with Pour House Trivia! Get a group together for prizes and $6 beer! All ages and levels are welcome.
URL:https://loneoakbrewingco.com/event/trivia-3-2024-08-22/
LOCATION:Lone Oak Brewery\, 5000 Olney Laytonsville Rd\, Olney\, MD\, 20832\, United States
CATEGORIES:Trivia
ATTACH;FMTTYPE=image/jpeg:https://loneoakbrewingco.com/wp-content/uploads/2023/08/pourhousetrivia-1.jpg
END:VEVENT
BEGIN:VEVENT
DTSTART;TZID=UTC:20240818T140000
DTEND;TZID=UTC:20240818T170000
DTSTAMP:20260422T233137
CREATED:20240705T004714Z
LAST-MODIFIED:20240705T004714Z
UID:4212-1723989600-1724000400@loneoakbrewingco.com
SUMMARY:LIVE MUSIC - MICHAEL NAKAMURA
DESCRIPTION:
URL:https://loneoakbrewingco.com/event/live-music-michael-nakamura-2/
LOCATION:Lone Oak Brewery\, 5000 Olney Laytonsville Rd\, Olney\, MD\, 20832\, United States
CATEGORIES:Live Music
ATTACH;FMTTYPE=image/png:https://loneoakbrewingco.com/wp-content/uploads/2023/08/darkLogo_4002cac9-c135-4d2f-a21e-7c5618effe27.png
END:VEVENT
BEGIN:VEVENT
DTSTART;TZID=UTC:20240818T130000
DTEND;TZID=UTC:20240818T200000
DTSTAMP:20260422T233137
CREATED:20240705T004746Z
LAST-MODIFIED:20240705T004746Z
UID:4214-1723986000-1724011200@loneoakbrewingco.com
SUMMARY:FOOD TRUCK - DMSLIDERS
DESCRIPTION:
URL:https://loneoakbrewingco.com/event/food-truck-dmsliders-2/
LOCATION:Lone Oak Brewery\, 5000 Olney Laytonsville Rd\, Olney\, MD\, 20832\, United States
CATEGORIES:Food Truck
ATTACH;FMTTYPE=image/png:https://loneoakbrewingco.com/wp-content/uploads/2023/05/Screenshot-2023-05-25-at-3.02.27-PM.png
END:VEVENT
BEGIN:VEVENT
DTSTART;TZID=UTC:20240817T140000
DTEND;TZID=UTC:20240817T170000
DTSTAMP:20260422T233137
CREATED:20240705T004547Z
LAST-MODIFIED:20240802T003020Z
UID:4208-1723903200-1723914000@loneoakbrewingco.com
SUMMARY:LIVE MUSIC - "JOHNNY NO SHOES" WILSON
DESCRIPTION:Hailing from the vibrant community of Bethesda\, MD\, Johnny No Shoes has been a staple of the D.C. Metro music scene for over a decade. With his trusty acoustic guitar in hand and a voice that effortlessly weaves through decades of music\, Johnny has become a beloved performer in the area. \nJohnny’s repertoire is as diverse as his audience. From the nostalgic tunes of the 70s and 80s to the timeless folk and country classics\, and even the latest Top 40 hits\, he brings a unique and engaging twist to every song he performs. His versatility allows him to connect with fans of all ages\, making each performance a memorable experience. \nKnown for his engaging stage presence and heartfelt renditions\, Johnny No Shoes creates an atmosphere where every listener feels like part of the show. Whether he’s strumming out a classic rock anthem or delivering a soulful country ballad\, his genuine passion for music shines through in every note. \nFor more than 10 years\, Johnny No Shoes has graced local venues\, private events\, and public gatherings\, becoming a cherished figure in the D.C. Metro area’s musical landscape. If you’re looking for an artist who can deliver a rich\, eclectic mix of tunes with authenticity and charisma\, Johnny No Shoes is your go-to performer.
URL:https://loneoakbrewingco.com/event/live-music-johnny-no-shoes-wilson/
LOCATION:Lone Oak Brewery\, 5000 Olney Laytonsville Rd\, Olney\, MD\, 20832\, United States
CATEGORIES:Live Music
ATTACH;FMTTYPE=image/jpeg:https://loneoakbrewingco.com/wp-content/uploads/2024/07/Johnny-No-Shoes.jpg
END:VEVENT
BEGIN:VEVENT
DTSTART;TZID=UTC:20240817T130000
DTEND;TZID=UTC:20240817T200000
DTSTAMP:20260422T233137
CREATED:20240705T004633Z
LAST-MODIFIED:20240705T004633Z
UID:4210-1723899600-1723924800@loneoakbrewingco.com
SUMMARY:FOOD TRUCK - GRUBBING HARD
DESCRIPTION:
URL:https://loneoakbrewingco.com/event/food-truck-grubbing-hard-14/
LOCATION:Lone Oak Brewery\, 5000 Olney Laytonsville Rd\, Olney\, MD\, 20832\, United States
CATEGORIES:Food Truck
ATTACH;FMTTYPE=image/jpeg:https://loneoakbrewingco.com/wp-content/uploads/2023/08/grubbin-hard.jpeg
END:VEVENT
BEGIN:VEVENT
DTSTART;TZID=UTC:20240815T180000
DTEND;TZID=UTC:20240815T200000
DTSTAMP:20260422T233137
CREATED:20240103T202213Z
LAST-MODIFIED:20250122T091303Z
UID:3998-1723744800-1723752000@loneoakbrewingco.com
SUMMARY:TRIVIA
DESCRIPTION:Grab your thinking cap and test your knowledge with Pour House Trivia! Get a group together for prizes and $6 beer! All ages and levels are welcome.
URL:https://loneoakbrewingco.com/event/trivia-3-2024-08-15/
LOCATION:Lone Oak Brewery\, 5000 Olney Laytonsville Rd\, Olney\, MD\, 20832\, United States
CATEGORIES:Trivia
ATTACH;FMTTYPE=image/jpeg:https://loneoakbrewingco.com/wp-content/uploads/2023/08/pourhousetrivia-1.jpg
END:VEVENT
BEGIN:VEVENT
DTSTART;TZID=UTC:20240811T140000
DTEND;TZID=UTC:20240811T170000
DTSTAMP:20260422T233137
CREATED:20240705T003848Z
LAST-MODIFIED:20240705T003848Z
UID:4203-1723384800-1723395600@loneoakbrewingco.com
SUMMARY:LIVE MUSIC - MICHELLE LOCKEY
DESCRIPTION:I am a singer-songwriter in  Montgomery County\, Dickerson. I started songwriting many years ago\, but started performing only about 10 years ago. I have many songs in Film & TV and love to write hoping that I can hear my song in a show or film. I was influenced by Amy Grant\, Olivia Newton John\, Ingrid Michealson\, Eddie Vedder\, Evanescence\, and so many more. My favorite song to play is Sweet Child O’ Mine. As far as being local\,  I love that if I go 20 minutes in any direction\, there are so many options and a variety of things to do. I also love that you can be in the middle of nowhere in about that same amount of time. I like that there are so many local businesses and we love to support local businesses.   I was also recently featured in the Agricultural Zone’s Plenty Magazine. It is definitely a great place to live!
URL:https://loneoakbrewingco.com/event/live-music-michelle-lockey-2/
LOCATION:Lone Oak Brewery\, 5000 Olney Laytonsville Rd\, Olney\, MD\, 20832\, United States
CATEGORIES:Live Music
ATTACH;FMTTYPE=image/jpeg:https://loneoakbrewingco.com/wp-content/uploads/2024/07/MICHELLE-LOCKEY-scaled.jpg
END:VEVENT
BEGIN:VEVENT
DTSTART;TZID=UTC:20240811T130000
DTEND;TZID=UTC:20240811T200000
DTSTAMP:20260422T233137
CREATED:20240705T003917Z
LAST-MODIFIED:20240705T003922Z
UID:4206-1723381200-1723406400@loneoakbrewingco.com
SUMMARY:FOOD TRUCK - TRIPPY TACOS
DESCRIPTION:
URL:https://loneoakbrewingco.com/event/food-truck-trippy-tacos-6/
LOCATION:Lone Oak Brewery\, 5000 Olney Laytonsville Rd\, Olney\, MD\, 20832\, United States
CATEGORIES:Food Truck
ATTACH;FMTTYPE=image/png:https://loneoakbrewingco.com/wp-content/uploads/2022/05/Screen-Shot-2022-05-28-at-4.59.33-PM.png
END:VEVENT
BEGIN:VEVENT
DTSTART;TZID=UTC:20240810T140000
DTEND;TZID=UTC:20240810T170000
DTSTAMP:20260422T233137
CREATED:20240705T003613Z
LAST-MODIFIED:20240705T003618Z
UID:4201-1723298400-1723309200@loneoakbrewingco.com
SUMMARY:LIVE MUSIC - NOAH BOOZ
DESCRIPTION:Noah Booz is a multi-talented musician with a passion for creating and performing music. His journey with music began in his childhood\, playing with friends and family in his hometown of Brookeville\, Maryland. In the early 2010s his band won The Next Big Thing Battle of the Band at the 9:30 Club\, released two albums and performed an East Coast tour.
URL:https://loneoakbrewingco.com/event/live-music-noah-booz-7/
LOCATION:Lone Oak Brewery\, 5000 Olney Laytonsville Rd\, Olney\, MD\, 20832\, United States
CATEGORIES:Live Music
ATTACH;FMTTYPE=image/png:https://loneoakbrewingco.com/wp-content/uploads/2022/10/Screen-Shot-2022-10-14-at-7.11.50-PM-e1665789147651.png
END:VEVENT
BEGIN:VEVENT
DTSTART;TZID=UTC:20240810T130000
DTEND;TZID=UTC:20240810T200000
DTSTAMP:20260422T233137
CREATED:20240803T031217Z
LAST-MODIFIED:20240803T031217Z
UID:4385-1723294800-1723320000@loneoakbrewingco.com
SUMMARY:FOOD TRUCK - WI JAMMIN
DESCRIPTION:
URL:https://loneoakbrewingco.com/event/food-truck-wi-jammin-6/
LOCATION:Lone Oak Brewery\, 5000 Olney Laytonsville Rd\, Olney\, MD\, 20832\, United States
CATEGORIES:Food Truck
ATTACH;FMTTYPE=image/png:https://loneoakbrewingco.com/wp-content/uploads/2022/06/Screen-Shot-2022-05-03-at-12.35.13-PM.png
END:VEVENT
BEGIN:VEVENT
DTSTART;TZID=UTC:20240808T180000
DTEND;TZID=UTC:20240808T200000
DTSTAMP:20260422T233137
CREATED:20240103T202213Z
LAST-MODIFIED:20250122T091303Z
UID:3997-1723140000-1723147200@loneoakbrewingco.com
SUMMARY:TRIVIA
DESCRIPTION:Grab your thinking cap and test your knowledge with Pour House Trivia! Get a group together for prizes and $6 beer! All ages and levels are welcome.
URL:https://loneoakbrewingco.com/event/trivia-3-2024-08-08/
LOCATION:Lone Oak Brewery\, 5000 Olney Laytonsville Rd\, Olney\, MD\, 20832\, United States
CATEGORIES:Trivia
ATTACH;FMTTYPE=image/jpeg:https://loneoakbrewingco.com/wp-content/uploads/2023/08/pourhousetrivia-1.jpg
END:VEVENT
BEGIN:VEVENT
DTSTART;TZID=UTC:20240804T140000
DTEND;TZID=UTC:20240804T170000
DTSTAMP:20260422T233137
CREATED:20240803T031034Z
LAST-MODIFIED:20240803T031034Z
UID:4383-1722780000-1722790800@loneoakbrewingco.com
SUMMARY:LIVE MUSIC - BILL JONES
DESCRIPTION:A retired teacher\, Bill Jones\, plays acoustic guitar featuring songs of Jackson Browne\, James Taylor\, & Jimmy Buffet as well as other contemporary country artists. His songs incorporate drum beats and vocal harmonization that create a complete band performance. Bill has played guitar in the Maryland area for 40 years for social gatherings\, weddings\, private parties\, and local establishments.
URL:https://loneoakbrewingco.com/event/live-music-bill-jones-5/
LOCATION:Lone Oak Brewery\, 5000 Olney Laytonsville Rd\, Olney\, MD\, 20832\, United States
CATEGORIES:Live Music
ATTACH;FMTTYPE=image/jpeg:https://loneoakbrewingco.com/wp-content/uploads/2024/03/thumbnail_DSC_8645-scaled.jpg
END:VEVENT
BEGIN:VEVENT
DTSTART;TZID=UTC:20240804T130000
DTEND;TZID=UTC:20240804T200000
DTSTAMP:20260422T233137
CREATED:20240705T001830Z
LAST-MODIFIED:20240705T001830Z
UID:4199-1722776400-1722801600@loneoakbrewingco.com
SUMMARY:FOOD TRUCK - CATALYST HOTDOGS
DESCRIPTION:
URL:https://loneoakbrewingco.com/event/food-truck-catalyst-hotdogs-2/
LOCATION:Lone Oak Brewery\, 5000 Olney Laytonsville Rd\, Olney\, MD\, 20832\, United States
CATEGORIES:Food Truck
ATTACH;FMTTYPE=image/jpeg:https://loneoakbrewingco.com/wp-content/uploads/2022/03/catalysthotdogs.jpg
END:VEVENT
BEGIN:VEVENT
DTSTART;TZID=UTC:20240803T140000
DTEND;TZID=UTC:20240803T170000
DTSTAMP:20260422T233137
CREATED:20240705T001310Z
LAST-MODIFIED:20240705T001310Z
UID:4195-1722693600-1722704400@loneoakbrewingco.com
SUMMARY:LIVE MUSIC - BRIAN HARRIS
DESCRIPTION:His musical journey is marked by impressive milestones\, including touring the United States with the Alt-Rock band Warden and captivating audiences aboard Carnival Cruise Lines as a featured soloist. With this extensive experience under his belt\, Brian possesses the ability to transform any event into an unforgettable experience.
URL:https://loneoakbrewingco.com/event/live-music-brian-harris-16/
LOCATION:Lone Oak Brewery\, 5000 Olney Laytonsville Rd\, Olney\, MD\, 20832\, United States
CATEGORIES:Live Music
ATTACH;FMTTYPE=image/jpeg:https://loneoakbrewingco.com/wp-content/uploads/2024/02/Brian-Harris-scaled-1.jpg
END:VEVENT
BEGIN:VEVENT
DTSTART;TZID=UTC:20240803T130000
DTEND;TZID=UTC:20240803T200000
DTSTAMP:20260422T233137
CREATED:20240705T001034Z
LAST-MODIFIED:20240705T001034Z
UID:4193-1722690000-1722715200@loneoakbrewingco.com
SUMMARY:FOOD TRUCK - GRUBBING HARD
DESCRIPTION:
URL:https://loneoakbrewingco.com/event/food-truck-grubbing-hard-13/
LOCATION:Lone Oak Brewery\, 5000 Olney Laytonsville Rd\, Olney\, MD\, 20832\, United States
CATEGORIES:Food Truck
ATTACH;FMTTYPE=image/jpeg:https://loneoakbrewingco.com/wp-content/uploads/2023/08/grubbin-hard.jpeg
END:VEVENT
BEGIN:VEVENT
DTSTART;TZID=UTC:20240801T180000
DTEND;TZID=UTC:20240801T200000
DTSTAMP:20260422T233137
CREATED:20240103T202213Z
LAST-MODIFIED:20250122T091303Z
UID:3996-1722535200-1722542400@loneoakbrewingco.com
SUMMARY:TRIVIA
DESCRIPTION:Grab your thinking cap and test your knowledge with Pour House Trivia! Get a group together for prizes and $6 beer! All ages and levels are welcome.
URL:https://loneoakbrewingco.com/event/trivia-3-2024-08-01/
LOCATION:Lone Oak Brewery\, 5000 Olney Laytonsville Rd\, Olney\, MD\, 20832\, United States
CATEGORIES:Trivia
ATTACH;FMTTYPE=image/jpeg:https://loneoakbrewingco.com/wp-content/uploads/2023/08/pourhousetrivia-1.jpg
END:VEVENT
BEGIN:VEVENT
DTSTART;TZID=UTC:20240728T140000
DTEND;TZID=UTC:20240728T170000
DTSTAMP:20260422T233137
CREATED:20240705T000457Z
LAST-MODIFIED:20240705T000457Z
UID:4188-1722175200-1722186000@loneoakbrewingco.com
SUMMARY:LIVE MUSIC - CODY GENTRY
DESCRIPTION:Born and raised in Upstate SC\, the first song Cody Gentry ever learned the lyrics to was “Please Don’t Bury Me” by John Prine. From there\, Cody began writing and performing his own songs influenced by the towering country and folk performers of times past such as Guy Clark\, Ted Hawkins\, and Townes Van Zandt. His affection for history through storytelling along with the writings of Flannery O’Connor\, David Joy\, and Larry Brown have blended with his unique sound to create a wholly original illustration of true Americana. He has shared the stage with many bands and individuals including the songwriting legend and musical mentor David Childers. When asked what kind of music he plays\, Cody cheekily breaks into Roger Miller’s classic tune: “Funny I don’t fit. Where have all the average people gone?” \nThe stories will remain.
URL:https://loneoakbrewingco.com/event/live-music-cody-gentry/
LOCATION:Lone Oak Brewery\, 5000 Olney Laytonsville Rd\, Olney\, MD\, 20832\, United States
CATEGORIES:Live Music
ATTACH;FMTTYPE=image/jpeg:https://loneoakbrewingco.com/wp-content/uploads/2024/07/CODY-GENTRY.jpg
END:VEVENT
BEGIN:VEVENT
DTSTART;TZID=UTC:20240728T130000
DTEND;TZID=UTC:20240728T200000
DTSTAMP:20260422T233137
CREATED:20240705T000752Z
LAST-MODIFIED:20240705T000752Z
UID:4191-1722171600-1722196800@loneoakbrewingco.com
SUMMARY:FOOD TRUCK - GRUBBING HARD
DESCRIPTION:
URL:https://loneoakbrewingco.com/event/food-truck-grubbing-hard-12/
LOCATION:Lone Oak Brewery\, 5000 Olney Laytonsville Rd\, Olney\, MD\, 20832\, United States
CATEGORIES:Food Truck
ATTACH;FMTTYPE=image/jpeg:https://loneoakbrewingco.com/wp-content/uploads/2023/08/grubbin-hard.jpeg
END:VEVENT
BEGIN:VEVENT
DTSTART;TZID=UTC:20240727T140000
DTEND;TZID=UTC:20240727T170000
DTSTAMP:20260422T233137
CREATED:20240705T000154Z
LAST-MODIFIED:20240705T000154Z
UID:4183-1722088800-1722099600@loneoakbrewingco.com
SUMMARY:LIVE MUSIC - HOWARD JUNG
DESCRIPTION:A little about me.\nI grew up on Long island NY.\nSon of a WWll POW Veteran.\nMy mom and Dad met in a swing big band.\nMusic was always in my household.\n\nI studied pre vet med the first time in college.\nThen moved on to study music at Berklee School of Music in Boston. I played all over New England and Florida in various groups.\n\nI studied computer science and got hired by Ross Perot’s company and moved to Pennsylvania. I continued playing music in jazz and Latin bands there.\n\nThen I moved to Maryland where I worked in a music studio briefly and returned to playing music and programming.\n\n10 years ago\, I stopped programming and became a full-time musician again. I currently play alot of solo gigs and work with some very accomplished jazz musicians around the DMV and play lots of solo gigs.\n\nI have a huge repertoire from decades of performing.\n\nwww.howiejung.com
URL:https://loneoakbrewingco.com/event/live-music-howard-jung/
LOCATION:Lone Oak Brewery\, 5000 Olney Laytonsville Rd\, Olney\, MD\, 20832\, United States
ATTACH;FMTTYPE=image/jpeg:https://loneoakbrewingco.com/wp-content/uploads/2024/07/HOWARD-JUNG.jpg
END:VEVENT
BEGIN:VEVENT
DTSTART;TZID=UTC:20240727T130000
DTEND;TZID=UTC:20240727T200000
DTSTAMP:20260422T233137
CREATED:20240705T000237Z
LAST-MODIFIED:20240705T000237Z
UID:4186-1722085200-1722110400@loneoakbrewingco.com
SUMMARY:FOOD TRUCK - SATÉ
DESCRIPTION:
URL:https://loneoakbrewingco.com/event/food-truck-sate-6/
LOCATION:Lone Oak Brewery\, 5000 Olney Laytonsville Rd\, Olney\, MD\, 20832\, United States
CATEGORIES:Food Truck
ATTACH;FMTTYPE=image/png:https://loneoakbrewingco.com/wp-content/uploads/2023/05/Screenshot-2023-05-03-at-6.31.44-PM.png
END:VEVENT
BEGIN:VEVENT
DTSTART;TZID=UTC:20240725T180000
DTEND;TZID=UTC:20240725T200000
DTSTAMP:20260422T233137
CREATED:20240725T215511Z
LAST-MODIFIED:20240725T215511Z
UID:4309-1721930400-1721937600@loneoakbrewingco.com
SUMMARY:Line Dancing
DESCRIPTION:Step right up and join the fun at our line dancing event! No experience needed – our expert instructor\, Arielle DeReggi\, will guide you through each step with ease. Whether you’re a beginner or seasoned dancer\, everyone is welcome to kick up their heels and enjoy the rhythm.
URL:https://loneoakbrewingco.com/event/line-dancing-2/
LOCATION:Lone Oak Brewery\, 5000 Olney Laytonsville Rd\, Olney\, MD\, 20832\, United States
ATTACH;FMTTYPE=image/png:https://loneoakbrewingco.com/wp-content/uploads/2024/07/JULY-LINE-DANCE-FLYER.png
END:VEVENT
BEGIN:VEVENT
DTSTART;TZID=UTC:20240725T180000
DTEND;TZID=UTC:20240725T200000
DTSTAMP:20260422T233137
CREATED:20240103T202213Z
LAST-MODIFIED:20250122T091302Z
UID:3995-1721930400-1721937600@loneoakbrewingco.com
SUMMARY:TRIVIA
DESCRIPTION:Grab your thinking cap and test your knowledge with Pour House Trivia! Get a group together for prizes and $6 beer! All ages and levels are welcome.
URL:https://loneoakbrewingco.com/event/trivia-3-2024-07-25/
LOCATION:Lone Oak Brewery\, 5000 Olney Laytonsville Rd\, Olney\, MD\, 20832\, United States
CATEGORIES:Trivia
ATTACH;FMTTYPE=image/jpeg:https://loneoakbrewingco.com/wp-content/uploads/2023/08/pourhousetrivia-1.jpg
END:VEVENT
BEGIN:VEVENT
DTSTART;TZID=UTC:20240721T140000
DTEND;TZID=UTC:20240721T170000
DTSTAMP:20260422T233137
CREATED:20240704T235754Z
LAST-MODIFIED:20240704T235754Z
UID:4179-1721570400-1721581200@loneoakbrewingco.com
SUMMARY:LIVE MUSIC - BILLY HERRINGTON
DESCRIPTION:My name is Billy James Herrington\, and we are a duo where I play guitar and my wife plays percussion. We play a wide range of tunes from most every genre\, all of which is family friendly.  \nPlease check out my website at www.billyjamesherrington.com 
URL:https://loneoakbrewingco.com/event/live-music-billy-herrington-2/
LOCATION:Lone Oak Brewery\, 5000 Olney Laytonsville Rd\, Olney\, MD\, 20832\, United States
CATEGORIES:Live Music
ATTACH;FMTTYPE=image/webp:https://loneoakbrewingco.com/wp-content/uploads/2024/06/BILLY-HERRINGTON.webp
END:VEVENT
BEGIN:VEVENT
DTSTART;TZID=UTC:20240721T130000
DTEND;TZID=UTC:20240721T200000
DTSTAMP:20260422T233137
CREATED:20240704T235829Z
LAST-MODIFIED:20240704T235829Z
UID:4181-1721566800-1721592000@loneoakbrewingco.com
SUMMARY:FOOD TRUCK - WI JAMMIN
DESCRIPTION:
URL:https://loneoakbrewingco.com/event/food-truck-wi-jammin-4/
LOCATION:Lone Oak Brewery\, 5000 Olney Laytonsville Rd\, Olney\, MD\, 20832\, United States
CATEGORIES:Food Truck
ATTACH;FMTTYPE=image/png:https://loneoakbrewingco.com/wp-content/uploads/2022/06/Screen-Shot-2022-05-03-at-12.35.13-PM.png
END:VEVENT
BEGIN:VEVENT
DTSTART;TZID=UTC:20240720T130000
DTEND;TZID=UTC:20240720T200000
DTSTAMP:20260422T233137
CREATED:20240704T234948Z
LAST-MODIFIED:20240704T234948Z
UID:4177-1721480400-1721505600@loneoakbrewingco.com
SUMMARY:FOOD TRUCK - GRUBBING HARD
DESCRIPTION:
URL:https://loneoakbrewingco.com/event/food-truck-grubbing-hard-11/
LOCATION:Lone Oak Brewery\, 5000 Olney Laytonsville Rd\, Olney\, MD\, 20832\, United States
CATEGORIES:Food Truck
ATTACH;FMTTYPE=image/jpeg:https://loneoakbrewingco.com/wp-content/uploads/2023/08/grubbin-hard.jpeg
END:VEVENT
BEGIN:VEVENT
DTSTART;TZID=UTC:20240720T120000
DTEND;TZID=UTC:20240720T170000
DTSTAMP:20260422T233137
CREATED:20240717T163624Z
LAST-MODIFIED:20240717T163624Z
UID:4301-1721476800-1721494800@loneoakbrewingco.com
SUMMARY:Pint Size Polar Bear Plunge with Special Olympics Maryland!
DESCRIPTION:Lone Oak is teaming up with Special Olympics Maryland to host the Pint Size Plunge as a 6 month kickoff to the 2024 MSP Polar Bear Plunge. From 12-5pm\, we’ll have food\, drinks\, music from SOMD athletes\, and two unique plunge experiences. Buy polar bears online to enter our pond plunge and see if yours gets picked for one of our awesome prizes!
URL:https://loneoakbrewingco.com/event/pint-size-polar-bear-plunge-with-special-olympics-maryland/
LOCATION:Lone Oak Brewery\, 5000 Olney Laytonsville Rd\, Olney\, MD\, 20832\, United States
CATEGORIES:Fundraiser
ATTACH;FMTTYPE=image/jpeg:https://loneoakbrewingco.com/wp-content/uploads/2024/07/IMG_0585.jpeg
END:VEVENT
END:VCALENDAR