BEGIN:VCALENDAR
VERSION:2.0
PRODID:-//Lone Oak Brewing Co. - ECPv6.15.20//NONSGML v1.0//EN
CALSCALE:GREGORIAN
METHOD:PUBLISH
X-WR-CALNAME:Lone Oak Brewing Co.
X-ORIGINAL-URL:https://loneoakbrewingco.com
X-WR-CALDESC:Events for Lone Oak Brewing Co.
REFRESH-INTERVAL;VALUE=DURATION:PT1H
X-Robots-Tag:noindex
X-PUBLISHED-TTL:PT1H
BEGIN:VTIMEZONE
TZID:America/New_York
BEGIN:DAYLIGHT
TZOFFSETFROM:-0500
TZOFFSETTO:-0400
TZNAME:EDT
DTSTART:20240310T070000
END:DAYLIGHT
BEGIN:STANDARD
TZOFFSETFROM:-0400
TZOFFSETTO:-0500
TZNAME:EST
DTSTART:20241103T060000
END:STANDARD
BEGIN:DAYLIGHT
TZOFFSETFROM:-0500
TZOFFSETTO:-0400
TZNAME:EDT
DTSTART:20250309T070000
END:DAYLIGHT
BEGIN:STANDARD
TZOFFSETFROM:-0400
TZOFFSETTO:-0500
TZNAME:EST
DTSTART:20251102T060000
END:STANDARD
BEGIN:DAYLIGHT
TZOFFSETFROM:-0500
TZOFFSETTO:-0400
TZNAME:EDT
DTSTART:20260308T070000
END:DAYLIGHT
BEGIN:STANDARD
TZOFFSETFROM:-0400
TZOFFSETTO:-0500
TZNAME:EST
DTSTART:20261101T060000
END:STANDARD
BEGIN:DAYLIGHT
TZOFFSETFROM:-0500
TZOFFSETTO:-0400
TZNAME:EDT
DTSTART:20270314T070000
END:DAYLIGHT
BEGIN:STANDARD
TZOFFSETFROM:-0400
TZOFFSETTO:-0500
TZNAME:EST
DTSTART:20271107T060000
END:STANDARD
END:VTIMEZONE
BEGIN:VEVENT
DTSTART;TZID=America/New_York:20260107T170000
DTEND;TZID=America/New_York:20260107T200000
DTSTAMP:20260421T202710
CREATED:20260103T210752Z
LAST-MODIFIED:20260103T210752Z
UID:5954-1767805200-1767816000@loneoakbrewingco.com
SUMMARY:Cheers to Charity
DESCRIPTION:Raise a glass for a great cause 🥃Join us for Cheers to Charity at Fallen Oak Distilling as we sip\, snack\, and support three amazing local charities: Leadership Montgomery\, Moco Widows Group\, and Compass\, Inc.📅 Wednesday\, January 7 | ⏰ 5–8 PMGood drinks. Good food. Even better company.
URL:https://loneoakbrewingco.com/event/cheers-to-charity-2/
LOCATION:Fallen Oak Distilling\, 5000 Olney Laytonsville Rd\, Olney\, MD\, 20832\, United States
CATEGORIES:Fundraiser
ATTACH;FMTTYPE=image/jpeg:https://loneoakbrewingco.com/wp-content/uploads/2026/01/JAN-CHEERS-TO-CHARITY-scaled.jpeg
END:VEVENT
BEGIN:VEVENT
DTSTART;VALUE=DATE:20251225
DTEND;VALUE=DATE:20251226
DTSTAMP:20260421T202710
CREATED:20251203T131634Z
LAST-MODIFIED:20251203T131735Z
UID:5908-1766620800-1766707199@loneoakbrewingco.com
SUMMARY:Closed For Christmas
DESCRIPTION:We’ll be closed for Christmas at both Lone Oak Farm and Fallen Oak Distilling. Merry Christmas from all of us at Lone Oak Farm!
URL:https://loneoakbrewingco.com/event/closed-for-christmas/
LOCATION:Lone Oak Brewery\, 5000 Olney Laytonsville Rd\, Olney\, MD\, 20832\, United States
ATTACH;FMTTYPE=image/png:https://loneoakbrewingco.com/wp-content/uploads/2025/05/Lone-Oak-Combo-Logo-final.png
END:VEVENT
BEGIN:VEVENT
DTSTART;TZID=America/New_York:20251224T120000
DTEND;TZID=America/New_York:20251224T170000
DTSTAMP:20260421T202710
CREATED:20251224T142321Z
LAST-MODIFIED:20251224T142321Z
UID:5915-1766577600-1766595600@loneoakbrewingco.com
SUMMARY:We are OPEN
DESCRIPTION:Lone Oak Farm and Fallen Oak Distilling will be open from 12–5pm.
URL:https://loneoakbrewingco.com/event/we-are-open/
LOCATION:Fallen Oak Distilling\, 5000 Olney Laytonsville Rd\, Olney\, MD\, 20832\, United States
ATTACH;FMTTYPE=image/png:https://loneoakbrewingco.com/wp-content/uploads/2025/05/Lone-Oak-Combo-Logo-final.png
END:VEVENT
BEGIN:VEVENT
DTSTART;TZID=America/New_York:20251219T180000
DTEND;TZID=America/New_York:20251219T210000
DTSTAMP:20260421T202710
CREATED:20251113T150254Z
LAST-MODIFIED:20251113T150254Z
UID:5889-1766167200-1766178000@loneoakbrewingco.com
SUMMARY:Sounds of the Season at Fallen Oak Distilling
DESCRIPTION:Join us for a jazzy holiday evening with The Gilly and Book Quintet\, featuring John Gillenwater and Alex Silverbook. Enjoy festive tunes\, handcrafted cocktails\, and cozy holiday vibes inside the Whispering Spirit Speakeasy. Free Entry! \nReservations: Book your table now to secure your spot.
URL:https://loneoakbrewingco.com/event/sounds-of-the-season-at-fallen-oak-distilling/
LOCATION:Fallen Oak Distilling\, 5000 Olney Laytonsville Rd\, Olney\, MD\, 20832\, United States
ATTACH;FMTTYPE=image/jpeg:https://loneoakbrewingco.com/wp-content/uploads/2025/11/FINAL-SOUNDS-OF-THE-SEASON-scaled.jpeg
END:VEVENT
BEGIN:VEVENT
DTSTART;TZID=America/New_York:20251218T180000
DTEND;TZID=America/New_York:20251218T200000
DTSTAMP:20260421T202710
CREATED:20251110T200504Z
LAST-MODIFIED:20251110T200504Z
UID:5831-1766080800-1766088000@loneoakbrewingco.com
SUMMARY:Trivia Thursday
DESCRIPTION:Join us for Trivia Night at Lone Oak Farm Brewing Co. from 6–8 PM! Bring your friends\, test your knowledge\, and enjoy great beer and good company. It’s the perfect midweek fun — see you there!
URL:https://loneoakbrewingco.com/event/trivia-thursday-6/
LOCATION:Lone Oak Brewery\, 5000 Olney Laytonsville Rd\, Olney\, MD\, 20832\, United States
CATEGORIES:Trivia
ATTACH;FMTTYPE=image/jpeg:https://loneoakbrewingco.com/wp-content/uploads/2023/08/pourhousetrivia-1.jpg
END:VEVENT
BEGIN:VEVENT
DTSTART;TZID=America/New_York:20251218T150000
DTEND;TZID=America/New_York:20251218T200000
DTSTAMP:20260421T202710
CREATED:20251110T204627Z
LAST-MODIFIED:20251110T204627Z
UID:5879-1766070000-1766088000@loneoakbrewingco.com
SUMMARY:Thursday Happy Hour
DESCRIPTION:Join us every Thursday from 3–8 PM for Happy Hour at Lone Oak Farm Brewing Co.! Enjoy extended hours\, great drink specials\, and a laid-back evening on the farm. It’s the perfect way to wind down and get ready for the weekend!
URL:https://loneoakbrewingco.com/event/thursday-happy-hour-5/
LOCATION:Lone Oak Brewery\, 5000 Olney Laytonsville Rd\, Olney\, MD\, 20832\, United States
CATEGORIES:Happy Hour
ATTACH;FMTTYPE=image/png:https://loneoakbrewingco.com/wp-content/uploads/2025/11/Thursday.png
END:VEVENT
BEGIN:VEVENT
DTSTART;TZID=America/New_York:20251214T130000
DTEND;TZID=America/New_York:20251214T150000
DTSTAMP:20260421T202710
CREATED:20251110T195524Z
LAST-MODIFIED:20251110T195524Z
UID:5818-1765717200-1765724400@loneoakbrewingco.com
SUMMARY:Visit with Santa!
DESCRIPTION:Bring the family and share in the holiday cheer at Lone Oak Farm Brewing Co.! Join us on Sunday\, December 14th from 1 pm – 3 pm for a free visit with Santa. Kids can meet Santa\, share their Christmas wishes\, and take photos to remember the day. \nCome enjoy the festive atmosphere and make some merry memories with us this season!
URL:https://loneoakbrewingco.com/event/visit-with-santa/
LOCATION:Lone Oak Brewery\, 5000 Olney Laytonsville Rd\, Olney\, MD\, 20832\, United States
CATEGORIES:Holiday Events
ATTACH;FMTTYPE=image/png:https://loneoakbrewingco.com/wp-content/uploads/2025/11/2025-SANTA-FLYER-2-scaled.png
END:VEVENT
BEGIN:VEVENT
DTSTART;TZID=America/New_York:20251214T110000
DTEND;TZID=America/New_York:20251214T130000
DTSTAMP:20260421T202710
CREATED:20251110T194952Z
LAST-MODIFIED:20251126T164315Z
UID:5815-1765710000-1765717200@loneoakbrewingco.com
SUMMARY:Tea with Santa
DESCRIPTION:Celebrate the magic of the season at Tea with Santa! Join us on Sunday\, December 14th from 11 AM to 1 PM for a festive afternoon of tea\, savories\, scones\, and sweets. Enjoy a special visit with Santa and capture memorable photos in a cozy holiday setting. \nReservations are required\, and space is limited. Open to children ages 3 and up — book your spot today!
URL:https://loneoakbrewingco.com/event/tea-with-santa-2/
LOCATION:Fallen Oak Distilling\, 5000 Olney Laytonsville Rd\, Olney\, MD\, 20832\, United States
CATEGORIES:Holiday Events
ATTACH;FMTTYPE=image/png:https://loneoakbrewingco.com/wp-content/uploads/2025/11/SANTA-TEA-1-2-scaled.png
END:VEVENT
BEGIN:VEVENT
DTSTART;TZID=America/New_York:20251211T180000
DTEND;TZID=America/New_York:20251211T200000
DTSTAMP:20260421T202710
CREATED:20251110T200410Z
LAST-MODIFIED:20251110T200410Z
UID:5829-1765476000-1765483200@loneoakbrewingco.com
SUMMARY:Trivia Thursday
DESCRIPTION:Join us for Trivia Night at Lone Oak Farm Brewing Co. from 6–8 PM! Bring your friends\, test your knowledge\, and enjoy great beer and good company. It’s the perfect midweek fun — see you there!
URL:https://loneoakbrewingco.com/event/trivia-thursday-5/
LOCATION:Lone Oak Brewery\, 5000 Olney Laytonsville Rd\, Olney\, MD\, 20832\, United States
CATEGORIES:Trivia
ATTACH;FMTTYPE=image/jpeg:https://loneoakbrewingco.com/wp-content/uploads/2023/08/pourhousetrivia-1.jpg
END:VEVENT
BEGIN:VEVENT
DTSTART;TZID=America/New_York:20251211T150000
DTEND;TZID=America/New_York:20251211T200000
DTSTAMP:20260421T202710
CREATED:20251110T204526Z
LAST-MODIFIED:20251110T204526Z
UID:5877-1765465200-1765483200@loneoakbrewingco.com
SUMMARY:Thursday Happy Hour
DESCRIPTION:Join us every Thursday from 3–8 PM for Happy Hour at Lone Oak Farm Brewing Co.! Enjoy extended hours\, great drink specials\, and a laid-back evening on the farm. It’s the perfect way to wind down and get ready for the weekend!
URL:https://loneoakbrewingco.com/event/thursday-happy-hour-4/
LOCATION:Lone Oak Brewery\, 5000 Olney Laytonsville Rd\, Olney\, MD\, 20832\, United States
CATEGORIES:Happy Hour
ATTACH;FMTTYPE=image/png:https://loneoakbrewingco.com/wp-content/uploads/2025/11/Thursday.png
END:VEVENT
BEGIN:VEVENT
DTSTART;TZID=America/New_York:20251210T170000
DTEND;TZID=America/New_York:20251210T200000
DTSTAMP:20260421T202710
CREATED:20251110T205417Z
LAST-MODIFIED:20251113T161522Z
UID:5883-1765386000-1765396800@loneoakbrewingco.com
SUMMARY:NonProfit night
DESCRIPTION:
URL:https://loneoakbrewingco.com/event/nonprofit-night-2/
LOCATION:Lone Oak Brewery\, 5000 Olney Laytonsville Rd\, Olney\, MD\, 20832\, United States
CATEGORIES:Fundraiser
ATTACH;FMTTYPE=image/png:https://loneoakbrewingco.com/wp-content/uploads/2025/11/DEC-NONPROFIT-NIGHT-FLYER-copy-2.png
END:VEVENT
BEGIN:VEVENT
DTSTART;TZID=America/New_York:20251204T180000
DTEND;TZID=America/New_York:20251204T200000
DTSTAMP:20260421T202710
CREATED:20251110T200314Z
LAST-MODIFIED:20251110T202233Z
UID:5827-1764871200-1764878400@loneoakbrewingco.com
SUMMARY:Trivia Thursday
DESCRIPTION:Join us for Trivia Night at Lone Oak Farm Brewing Co. from 6–8 PM! Bring your friends\, test your knowledge\, and enjoy great beer and good company. It’s the perfect midweek fun — see you there!
URL:https://loneoakbrewingco.com/event/trivia-thursday-4/
LOCATION:Lone Oak Brewery\, 5000 Olney Laytonsville Rd\, Olney\, MD\, 20832\, United States
CATEGORIES:Trivia
ATTACH;FMTTYPE=image/jpeg:https://loneoakbrewingco.com/wp-content/uploads/2023/08/pourhousetrivia.jpg
END:VEVENT
BEGIN:VEVENT
DTSTART;TZID=America/New_York:20251204T150000
DTEND;TZID=America/New_York:20251204T200000
DTSTAMP:20260421T202710
CREATED:20251110T204419Z
LAST-MODIFIED:20251110T204419Z
UID:5875-1764860400-1764878400@loneoakbrewingco.com
SUMMARY:Thursday Happy Hour
DESCRIPTION:Join us every Thursday from 3–8 PM for Happy Hour at Lone Oak Farm Brewing Co.! Enjoy extended hours\, great drink specials\, and a laid-back evening on the farm. It’s the perfect way to wind down and get ready for the weekend!
URL:https://loneoakbrewingco.com/event/thursday-happy-hour-3/
LOCATION:Lone Oak Brewery\, 5000 Olney Laytonsville Rd\, Olney\, MD\, 20832\, United States
CATEGORIES:Happy Hour
ATTACH;FMTTYPE=image/png:https://loneoakbrewingco.com/wp-content/uploads/2025/11/Thursday.png
END:VEVENT
BEGIN:VEVENT
DTSTART;TZID=America/New_York:20251203T170000
DTEND;TZID=America/New_York:20251203T200000
DTSTAMP:20260421T202710
CREATED:20251110T205248Z
LAST-MODIFIED:20251113T161557Z
UID:5881-1764781200-1764792000@loneoakbrewingco.com
SUMMARY:Cheers to Charity
DESCRIPTION:
URL:https://loneoakbrewingco.com/event/cheers-to-charity/
LOCATION:Fallen Oak Distilling\, 5000 Olney Laytonsville Rd\, Olney\, MD\, 20832\, United States
CATEGORIES:Fundraiser
ATTACH;FMTTYPE=image/png:https://loneoakbrewingco.com/wp-content/uploads/2025/11/DEC-CHEERS-TO-CHARITY-1.png
END:VEVENT
BEGIN:VEVENT
DTSTART;TZID=America/New_York:20251201T120000
DTEND;TZID=America/New_York:20251221T200000
DTSTAMP:20260421T202710
CREATED:20251126T154403Z
LAST-MODIFIED:20251126T154403Z
UID:5902-1764590400-1766347200@loneoakbrewingco.com
SUMMARY:Holiday Toy Drive at Lone Oak Farm
DESCRIPTION:Join us in spreading holiday cheer! \nFrom December 1st–21st\, Lone Oak Farm is hosting a Holiday Toy Drive to support children fighting cancer. Bring a new\, unwrapped toy to the taproom and\, as a thank-you\, you’ll receive a free drink token for your next visit. \nLet’s make this season a little brighter for kids who need it most!
URL:https://loneoakbrewingco.com/event/holiday-toy-drive-at-lone-oak-farm/
LOCATION:Lone Oak Brewery\, 5000 Olney Laytonsville Rd\, Olney\, MD\, 20832\, United States
CATEGORIES:Holiday Events
ATTACH;FMTTYPE=image/jpeg:https://loneoakbrewingco.com/wp-content/uploads/2025/11/2025-TOY-DRIVE-scaled.jpeg
END:VEVENT
BEGIN:VEVENT
DTSTART;TZID=America/New_York:20251129T120000
DTEND;TZID=America/New_York:20251129T190000
DTSTAMP:20260421T202710
CREATED:20251110T150204Z
LAST-MODIFIED:20251110T150204Z
UID:5795-1764417600-1764442800@loneoakbrewingco.com
SUMMARY:Food Truck - Square Taco
DESCRIPTION:
URL:https://loneoakbrewingco.com/event/food-truck-square-taco-7/
LOCATION:Lone Oak Brewery\, 5000 Olney Laytonsville Rd\, Olney\, MD\, 20832\, United States
CATEGORIES:Food Truck
ATTACH;FMTTYPE=image/webp:https://loneoakbrewingco.com/wp-content/uploads/2024/10/SQUARE-TACO.webp
END:VEVENT
BEGIN:VEVENT
DTSTART;TZID=America/New_York:20251128T150000
DTEND;TZID=America/New_York:20251128T180000
DTSTAMP:20260421T202710
CREATED:20251110T203512Z
LAST-MODIFIED:20251110T203512Z
UID:5861-1764342000-1764352800@loneoakbrewingco.com
SUMMARY:Friday Happy Hour
DESCRIPTION:Kick off the weekend at Lone Oak Farm Brewing Co.! Join us every Friday from 3–6 PM for Happy Hour and enjoy great drinks\, good company\, and a relaxing start to your weekend on the farm.
URL:https://loneoakbrewingco.com/event/friday-happy-hour-3/
LOCATION:Lone Oak Brewery\, 5000 Olney Laytonsville Rd\, Olney\, MD\, 20832\, United States
CATEGORIES:Happy Hour
END:VEVENT
BEGIN:VEVENT
DTSTART;TZID=America/New_York:20251126T150000
DTEND;TZID=America/New_York:20251126T220000
DTSTAMP:20260421T202710
CREATED:20251113T145922Z
LAST-MODIFIED:20251113T145922Z
UID:5886-1764169200-1764194400@loneoakbrewingco.com
SUMMARY:Open at Fallen Oak Distilling!
DESCRIPTION:Fallen Oak Distilling will be open Wednesday\, November 26th from 3–10 PM to start your holiday celebrations!
URL:https://loneoakbrewingco.com/event/open-at-fallen-oak-distilling/
LOCATION:Fallen Oak Distilling\, 5000 Olney Laytonsville Rd\, Olney\, MD\, 20832\, United States
ATTACH;FMTTYPE=image/png:https://loneoakbrewingco.com/wp-content/uploads/2025/11/Fallen-Oak-Open.png
END:VEVENT
BEGIN:VEVENT
DTSTART;TZID=America/New_York:20251126T150000
DTEND;TZID=America/New_York:20251126T180000
DTSTAMP:20260421T202710
CREATED:20251110T202437Z
LAST-MODIFIED:20251110T202437Z
UID:5845-1764169200-1764180000@loneoakbrewingco.com
SUMMARY:Wednesday Happy Hour
DESCRIPTION:Join us every Wednesday from 3–6 PM for Happy Hour at Lone Oak Farm Brewing Co.! Enjoy great deals on your favorite drinks and unwind in the perfect midweek atmosphere. Bring friends\, relax\, and make the most of your afternoon at the farm!
URL:https://loneoakbrewingco.com/event/wednesday-happy-hour-3/
LOCATION:Lone Oak Brewery\, 5000 Olney Laytonsville Rd\, Olney\, MD\, 20832\, United States
CATEGORIES:Happy Hour
END:VEVENT
BEGIN:VEVENT
DTSTART;TZID=America/New_York:20251123T140000
DTEND;TZID=America/New_York:20251123T170000
DTSTAMP:20260421T202710
CREATED:20251110T150527Z
LAST-MODIFIED:20251110T150527Z
UID:5800-1763906400-1763917200@loneoakbrewingco.com
SUMMARY:Live Music - Eli Lev
DESCRIPTION:
URL:https://loneoakbrewingco.com/event/live-music-eli-lev-2/
LOCATION:Lone Oak Brewery\, 5000 Olney Laytonsville Rd\, Olney\, MD\, 20832\, United States
CATEGORIES:Live Music
ATTACH;FMTTYPE=image/png:https://loneoakbrewingco.com/wp-content/uploads/2022/04/cropped-login.png
END:VEVENT
BEGIN:VEVENT
DTSTART;TZID=America/New_York:20251123T120000
DTEND;TZID=America/New_York:20251123T190000
DTSTAMP:20260421T202710
CREATED:20251110T150025Z
LAST-MODIFIED:20251110T150025Z
UID:5792-1763899200-1763924400@loneoakbrewingco.com
SUMMARY:Food Truck - BBQ and Tech
DESCRIPTION:
URL:https://loneoakbrewingco.com/event/food-truck-bbq-and-tech-6/
LOCATION:Lone Oak Brewery\, 5000 Olney Laytonsville Rd\, Olney\, MD\, 20832\, United States
CATEGORIES:Food Truck
ATTACH;FMTTYPE=image/jpeg:https://loneoakbrewingco.com/wp-content/uploads/2025/11/download-2.jpg
END:VEVENT
BEGIN:VEVENT
DTSTART;TZID=America/New_York:20251122T140000
DTEND;TZID=America/New_York:20251122T170000
DTSTAMP:20260421T202710
CREATED:20251110T150352Z
LAST-MODIFIED:20251110T150352Z
UID:5797-1763820000-1763830800@loneoakbrewingco.com
SUMMARY:Live Music - Bill Jones
DESCRIPTION:A retired teacher\, Bill Jones\, plays acoustic guitar featuring songs of Jackson Browne\, James Taylor\, & Jimmy Buffet as well as other contemporary country artists. His songs incorporate drum beats and vocal harmonization that create a complete band performance. Bill has played guitar in the Maryland area for 40 years for social gatherings\, weddings\, private parties\, and local establishments
URL:https://loneoakbrewingco.com/event/live-music-bill-jones-9/
LOCATION:Lone Oak Brewery\, 5000 Olney Laytonsville Rd\, Olney\, MD\, 20832\, United States
CATEGORIES:Live Music
ATTACH;FMTTYPE=image/jpeg:https://loneoakbrewingco.com/wp-content/uploads/2024/12/BillJones-scaled.jpg
END:VEVENT
BEGIN:VEVENT
DTSTART;TZID=America/New_York:20251122T120000
DTEND;TZID=America/New_York:20251122T190000
DTSTAMP:20260421T202710
CREATED:20251110T145551Z
LAST-MODIFIED:20251110T145551Z
UID:5790-1763812800-1763838000@loneoakbrewingco.com
SUMMARY:Food Truck - Pho Wheels
DESCRIPTION:
URL:https://loneoakbrewingco.com/event/food-truck-pho-wheels-21/
LOCATION:Lone Oak Brewery\, 5000 Olney Laytonsville Rd\, Olney\, MD\, 20832\, United States
CATEGORIES:Food Truck
ATTACH;FMTTYPE=image/jpeg:https://loneoakbrewingco.com/wp-content/uploads/2023/10/phowheels-e1631744329223.jpg
END:VEVENT
BEGIN:VEVENT
DTSTART;TZID=America/New_York:20251121T150000
DTEND;TZID=America/New_York:20251121T180000
DTSTAMP:20260421T202710
CREATED:20251110T203350Z
LAST-MODIFIED:20251110T203350Z
UID:5859-1763737200-1763748000@loneoakbrewingco.com
SUMMARY:Friday Happy Hour
DESCRIPTION:Kick off the weekend at Lone Oak Farm Brewing Co.! Join us every Friday from 3–6 PM for Happy Hour and enjoy great drinks\, good company\, and a relaxing start to your weekend on the farm.
URL:https://loneoakbrewingco.com/event/friday-happy-hour-2/
LOCATION:Lone Oak Brewery\, 5000 Olney Laytonsville Rd\, Olney\, MD\, 20832\, United States
CATEGORIES:Happy Hour
END:VEVENT
BEGIN:VEVENT
DTSTART;TZID=America/New_York:20251120T180000
DTEND;TZID=America/New_York:20251120T200000
DTSTAMP:20260421T202710
CREATED:20251110T200116Z
LAST-MODIFIED:20251110T200116Z
UID:5823-1763661600-1763668800@loneoakbrewingco.com
SUMMARY:Trivia Thursday
DESCRIPTION:Join us for Trivia Night at Lone Oak Farm Brewing Co. from 6–8 PM! Bring your friends\, test your knowledge\, and enjoy great beer and good company. It’s the perfect midweek fun — see you there!
URL:https://loneoakbrewingco.com/event/trivia-thursday-2/
LOCATION:Lone Oak Brewery\, 5000 Olney Laytonsville Rd\, Olney\, MD\, 20832\, United States
CATEGORIES:Trivia
ATTACH;FMTTYPE=image/jpeg:https://loneoakbrewingco.com/wp-content/uploads/2023/08/pourhousetrivia-1.jpg
END:VEVENT
BEGIN:VEVENT
DTSTART;TZID=America/New_York:20251120T150000
DTEND;TZID=America/New_York:20251120T200000
DTSTAMP:20260421T202710
CREATED:20251110T204304Z
LAST-MODIFIED:20251110T204304Z
UID:5873-1763650800-1763668800@loneoakbrewingco.com
SUMMARY:Thursday Happy Hour
DESCRIPTION:Join us every Thursday from 3–8 PM for Happy Hour at Lone Oak Farm Brewing Co.! Enjoy extended hours\, great drink specials\, and a laid-back evening on the farm. It’s the perfect way to wind down and get ready for the weekend!
URL:https://loneoakbrewingco.com/event/thursday-happy-hour-2/
LOCATION:Lone Oak Brewery\, 5000 Olney Laytonsville Rd\, Olney\, MD\, 20832\, United States
CATEGORIES:Happy Hour
ATTACH;FMTTYPE=image/png:https://loneoakbrewingco.com/wp-content/uploads/2025/11/Thursday.png
END:VEVENT
BEGIN:VEVENT
DTSTART;TZID=America/New_York:20251119T150000
DTEND;TZID=America/New_York:20251119T180000
DTSTAMP:20260421T202710
CREATED:20251110T202210Z
LAST-MODIFIED:20251110T202210Z
UID:5842-1763564400-1763575200@loneoakbrewingco.com
SUMMARY:Wednesday Happy Hour
DESCRIPTION:Join us every Wednesday from 3–6 PM for Happy Hour at Lone Oak Farm Brewing Co.! Enjoy great deals on your favorite drinks and unwind in the perfect midweek atmosphere. Bring friends\, relax\, and make the most of your afternoon at the farm!
URL:https://loneoakbrewingco.com/event/wednesday-happy-hour-2/
LOCATION:Lone Oak Brewery\, 5000 Olney Laytonsville Rd\, Olney\, MD\, 20832\, United States
CATEGORIES:Happy Hour
END:VEVENT
BEGIN:VEVENT
DTSTART;TZID=America/New_York:20251116T140000
DTEND;TZID=America/New_York:20251116T170000
DTSTAMP:20260421T202710
CREATED:20251110T144619Z
LAST-MODIFIED:20251113T144736Z
UID:5780-1763301600-1763312400@loneoakbrewingco.com
SUMMARY:Live Music - Paul Lumsden
DESCRIPTION:Paul’s day job is an airline pilot and about 15 or years ago\, he flew to London with another pilot who brought a guitar. The other pilot said he was sitting in with a pub band later that night on their layover. As soon as he got back from that trip\, he bought a guitar\, started taking lessons\, and the rest is history. For the last three years he has been a part of a local band called TrainWreck. Since then\, he’s gained the confidence to perform as a soloist and as a part of duos and trios. His musical roots are Classic Rock\, Country and Blues but playing with other musicians has expanded his interest into other genres.
URL:https://loneoakbrewingco.com/event/live-music-paul-lumsden-train-wreck-five/
LOCATION:Lone Oak Brewery\, 5000 Olney Laytonsville Rd\, Olney\, MD\, 20832\, United States
CATEGORIES:Food Truck
ATTACH;FMTTYPE=image/jpeg:https://loneoakbrewingco.com/wp-content/uploads/2024/12/PaulandLauren.jpeg
END:VEVENT
BEGIN:VEVENT
DTSTART;TZID=America/New_York:20251116T120000
DTEND;TZID=America/New_York:20251116T190000
DTSTAMP:20260421T202710
CREATED:20251110T145347Z
LAST-MODIFIED:20251110T145627Z
UID:5788-1763294400-1763319600@loneoakbrewingco.com
SUMMARY:Food Truck - Catalyst
DESCRIPTION:
URL:https://loneoakbrewingco.com/event/food-truck-catalyst/
LOCATION:Lone Oak Brewery\, 5000 Olney Laytonsville Rd\, Olney\, MD\, 20832\, United States
CATEGORIES:Food Truck
ATTACH;FMTTYPE=image/jpeg:https://loneoakbrewingco.com/wp-content/uploads/2022/03/catalysthotdogs.jpg
END:VEVENT
BEGIN:VEVENT
DTSTART;TZID=America/New_York:20251115T140000
DTEND;TZID=America/New_York:20251115T170000
DTSTAMP:20260421T202710
CREATED:20251110T144204Z
LAST-MODIFIED:20251110T145633Z
UID:5776-1763215200-1763226000@loneoakbrewingco.com
SUMMARY:Live Music - Billy Herrington
DESCRIPTION:My name is Billy James Herrington\, and we are a duo where I play guitar and my wife plays percussion. We play a wide range of tunes from most every genre\, all of which is family friendly. \nPlease check out my website at www.billyjamesherrington.com
URL:https://loneoakbrewingco.com/event/live-music-billy-herrington-3/
LOCATION:Lone Oak Brewery\, 5000 Olney Laytonsville Rd\, Olney\, MD\, 20832\, United States
CATEGORIES:Food Truck
ATTACH;FMTTYPE=image/webp:https://loneoakbrewingco.com/wp-content/uploads/2024/06/BILLY-HERRINGTON.webp
END:VEVENT
END:VCALENDAR