BEGIN:VCALENDAR
VERSION:2.0
PRODID:-//Lone Oak Brewing Co. - ECPv6.15.20//NONSGML v1.0//EN
CALSCALE:GREGORIAN
METHOD:PUBLISH
X-ORIGINAL-URL:https://loneoakbrewingco.com
X-WR-CALDESC:Events for Lone Oak Brewing Co.
REFRESH-INTERVAL;VALUE=DURATION:PT1H
X-Robots-Tag:noindex
X-PUBLISHED-TTL:PT1H
BEGIN:VTIMEZONE
TZID:America/New_York
BEGIN:DAYLIGHT
TZOFFSETFROM:-0500
TZOFFSETTO:-0400
TZNAME:EDT
DTSTART:20250309T070000
END:DAYLIGHT
BEGIN:STANDARD
TZOFFSETFROM:-0400
TZOFFSETTO:-0500
TZNAME:EST
DTSTART:20251102T060000
END:STANDARD
BEGIN:DAYLIGHT
TZOFFSETFROM:-0500
TZOFFSETTO:-0400
TZNAME:EDT
DTSTART:20260308T070000
END:DAYLIGHT
BEGIN:STANDARD
TZOFFSETFROM:-0400
TZOFFSETTO:-0500
TZNAME:EST
DTSTART:20261101T060000
END:STANDARD
BEGIN:DAYLIGHT
TZOFFSETFROM:-0500
TZOFFSETTO:-0400
TZNAME:EDT
DTSTART:20270314T070000
END:DAYLIGHT
BEGIN:STANDARD
TZOFFSETFROM:-0400
TZOFFSETTO:-0500
TZNAME:EST
DTSTART:20271107T060000
END:STANDARD
END:VTIMEZONE
BEGIN:VEVENT
DTSTART;TZID=America/New_York:20260319T180000
DTEND;TZID=America/New_York:20260319T200000
DTSTAMP:20260421T185502
CREATED:20260121T170317Z
LAST-MODIFIED:20260121T170317Z
UID:6007-1773943200-1773950400@loneoakbrewingco.com
SUMMARY:Trivia Thursday
DESCRIPTION:
URL:https://loneoakbrewingco.com/event/trivia-thursday-16/
LOCATION:Lone Oak Brewery\, 5000 Olney Laytonsville Rd\, Olney\, MD\, 20832\, United States
CATEGORIES:Trivia
ATTACH;FMTTYPE=image/jpeg:https://loneoakbrewingco.com/wp-content/uploads/2023/08/pourhousetrivia-1.jpg
END:VEVENT
BEGIN:VEVENT
DTSTART;TZID=America/New_York:20260319T180000
DTEND;TZID=America/New_York:20260319T200000
DTSTAMP:20260421T185502
CREATED:20260121T170420Z
LAST-MODIFIED:20260121T170420Z
UID:6009-1773943200-1773950400@loneoakbrewingco.com
SUMMARY:Happy Hour
DESCRIPTION:
URL:https://loneoakbrewingco.com/event/happy-hour-11/
LOCATION:Lone Oak Brewery\, 5000 Olney Laytonsville Rd\, Olney\, MD\, 20832\, United States
CATEGORIES:Happy Hour
ATTACH;FMTTYPE=image/png:https://loneoakbrewingco.com/wp-content/uploads/2025/11/Thursday.png
END:VEVENT
BEGIN:VEVENT
DTSTART;VALUE=DATE:20260321
DTEND;VALUE=DATE:20260322
DTSTAMP:20260421T185502
CREATED:20260211T191224Z
LAST-MODIFIED:20260211T191224Z
UID:6078-1774051200-1774137599@loneoakbrewingco.com
SUMMARY:Food Truck - Grubbing Hard
DESCRIPTION:
URL:https://loneoakbrewingco.com/event/food-truck-grubbing-hard-23/
LOCATION:Lone Oak Brewery\, 5000 Olney Laytonsville Rd\, Olney\, MD\, 20832\, United States
ATTACH;FMTTYPE=image/jpeg:https://loneoakbrewingco.com/wp-content/uploads/2022/03/grubbin-hard.jpeg
END:VEVENT
BEGIN:VEVENT
DTSTART;TZID=America/New_York:20260321T140000
DTEND;TZID=America/New_York:20260321T170000
DTSTAMP:20260421T185502
CREATED:20260218T200446Z
LAST-MODIFIED:20260218T200446Z
UID:6121-1774101600-1774112400@loneoakbrewingco.com
SUMMARY:Music - Eric Zatz
DESCRIPTION:Eric grew up in New Jersey listening to 90s music and started playing guitar over 20 years ago. In 2012\, he moved to Maryland and has been performing at the amazing local breweries\, wineries\, bars\, and restaurants around the DMV ever since. In addition to his love of the 90s\, he also plays a wide variety of all your favorite classic rock\, 80s\, top 40\, and country tunes. Eric is a big fan of the local DMV music scene and also enjoys collaborating with and learning new styles from other musicians in his free time. When he’s not performing as a solo acoustic artist\, he also rocks out as the guitarist and lead vocalist in the band Broken Ground.
URL:https://loneoakbrewingco.com/event/music-eric-zatz/
LOCATION:Lone Oak Brewery\, 5000 Olney Laytonsville Rd\, Olney\, MD\, 20832\, United States
ATTACH;FMTTYPE=image/jpeg:https://loneoakbrewingco.com/wp-content/uploads/2024/12/EricZatz-scaled.jpg
END:VEVENT
BEGIN:VEVENT
DTSTART;VALUE=DATE:20260322
DTEND;VALUE=DATE:20260323
DTSTAMP:20260421T185502
CREATED:20260211T191356Z
LAST-MODIFIED:20260211T191356Z
UID:6080-1774137600-1774223999@loneoakbrewingco.com
SUMMARY:Food Truck - Palmetto Bay Cuisine
DESCRIPTION:
URL:https://loneoakbrewingco.com/event/food-truck-palmetto-bay-cuisine/
LOCATION:Lone Oak Brewery\, 5000 Olney Laytonsville Rd\, Olney\, MD\, 20832\, United States
ATTACH;FMTTYPE=image/jpeg:https://loneoakbrewingco.com/wp-content/uploads/2026/02/Palmetto-Bay-Cuisine.jpg
END:VEVENT
BEGIN:VEVENT
DTSTART;TZID=America/New_York:20260322T140000
DTEND;TZID=America/New_York:20260322T170000
DTSTAMP:20260421T185502
CREATED:20260218T200559Z
LAST-MODIFIED:20260218T200559Z
UID:6123-1774188000-1774198800@loneoakbrewingco.com
SUMMARY:Music - Eli Liv
DESCRIPTION:
URL:https://loneoakbrewingco.com/event/music-eli-liv/
LOCATION:Lone Oak Brewery\, 5000 Olney Laytonsville Rd\, Olney\, MD\, 20832\, United States
ATTACH;FMTTYPE=image/png:https://loneoakbrewingco.com/wp-content/uploads/2022/04/cropped-login.png
END:VEVENT
BEGIN:VEVENT
DTSTART;TZID=America/New_York:20260322T170000
DTEND;TZID=America/New_York:20260322T200000
DTSTAMP:20260421T185502
CREATED:20260218T175026Z
LAST-MODIFIED:20260225T214058Z
UID:6101-1774198800-1774209600@loneoakbrewingco.com
SUMMARY:BINGO!
DESCRIPTION:Eyes down\, drinks up! 🍻🎉 \nJoin us at Fallen Oak Distilling for a lively Bingo Night in the Whispering Spirit Speakeasy — all while supporting a great cause. We’re proud to partner with Rukundo International\, with a portion of the evening’s proceeds donated back to their mission. \n🗓 Sunday\, March 22🍸 5–6 PM Cocktails🎱 6–8 PM Bingo🎁 Big prizes\, special cash round & plenty of fun! \nGrab your friends\, sign up\, and get ready for a night of games\, good drinks\, and giving back.
URL:https://loneoakbrewingco.com/event/bingo/
LOCATION:Fallen Oak Distilling\, 5000 Olney Laytonsville Rd\, Olney\, MD\, 20832\, United States
ATTACH;FMTTYPE=image/jpeg:https://loneoakbrewingco.com/wp-content/uploads/2026/02/b3a1fcd8-f48e-456d-885d-2d67b42aba76.jpg
END:VEVENT
BEGIN:VEVENT
DTSTART;TZID=America/New_York:20260326T180000
DTEND;TZID=America/New_York:20260326T200000
DTSTAMP:20260421T185502
CREATED:20260128T182024Z
LAST-MODIFIED:20260128T182024Z
UID:6019-1774548000-1774555200@loneoakbrewingco.com
SUMMARY:Trivia Thursday
DESCRIPTION:
URL:https://loneoakbrewingco.com/event/trivia-thursday-17/
LOCATION:Lone Oak Brewery\, 5000 Olney Laytonsville Rd\, Olney\, MD\, 20832\, United States
CATEGORIES:Trivia
ATTACH;FMTTYPE=image/jpeg:https://loneoakbrewingco.com/wp-content/uploads/2023/08/pourhousetrivia-1.jpg
END:VEVENT
BEGIN:VEVENT
DTSTART;TZID=America/New_York:20260326T180000
DTEND;TZID=America/New_York:20260326T200000
DTSTAMP:20260421T185502
CREATED:20260128T182107Z
LAST-MODIFIED:20260128T182107Z
UID:6021-1774548000-1774555200@loneoakbrewingco.com
SUMMARY:Happy Hour
DESCRIPTION:
URL:https://loneoakbrewingco.com/event/happy-hour-12/
LOCATION:Lone Oak Brewery\, 5000 Olney Laytonsville Rd\, Olney\, MD\, 20832\, United States
CATEGORIES:Happy Hour
ATTACH;FMTTYPE=image/png:https://loneoakbrewingco.com/wp-content/uploads/2025/11/Thursday.png
END:VEVENT
BEGIN:VEVENT
DTSTART;VALUE=DATE:20260328
DTEND;VALUE=DATE:20260329
DTSTAMP:20260421T185502
CREATED:20260211T191553Z
LAST-MODIFIED:20260211T191553Z
UID:6083-1774656000-1774742399@loneoakbrewingco.com
SUMMARY:Food Truck - BBQ and Tech
DESCRIPTION:
URL:https://loneoakbrewingco.com/event/food-truck-bbq-and-tech-7/
LOCATION:Lone Oak Brewery\, 5000 Olney Laytonsville Rd\, Olney\, MD\, 20832\, United States
ATTACH;FMTTYPE=image/jpeg:https://loneoakbrewingco.com/wp-content/uploads/2026/02/BBQ-and-Tech.jpg
END:VEVENT
BEGIN:VEVENT
DTSTART;VALUE=DATE:20260328
DTEND;VALUE=DATE:20260329
DTSTAMP:20260421T185502
CREATED:20260218T175352Z
LAST-MODIFIED:20260218T175352Z
UID:6103-1774656000-1774742399@loneoakbrewingco.com
SUMMARY:Lone Oak Closed
DESCRIPTION:Lone Oak Farm Brewing Company will be closed on March 28th for a private event. \nWe’ll miss you\, but don’t worry — you can still grab great food and drinks at Fallen Oak Distilling! 🍻 \nThanks for your understanding\, and we’ll see you back at the farm soon!
URL:https://loneoakbrewingco.com/event/lone-oak-closed/
LOCATION:Lone Oak Brewery\, 5000 Olney Laytonsville Rd\, Olney\, MD\, 20832\, United States
ATTACH;FMTTYPE=image/png:https://loneoakbrewingco.com/wp-content/uploads/2022/04/cropped-login.png
END:VEVENT
BEGIN:VEVENT
DTSTART;VALUE=DATE:20260329
DTEND;VALUE=DATE:20260330
DTSTAMP:20260421T185502
CREATED:20260211T191634Z
LAST-MODIFIED:20260211T191634Z
UID:6086-1774742400-1774828799@loneoakbrewingco.com
SUMMARY:Food Truck - Trippy Tacos
DESCRIPTION:
URL:https://loneoakbrewingco.com/event/food-truck-trippy-tacos-14/
LOCATION:Lone Oak Brewery\, 5000 Olney Laytonsville Rd\, Olney\, MD\, 20832\, United States
ATTACH;FMTTYPE=image/png:https://loneoakbrewingco.com/wp-content/uploads/2022/05/Screen-Shot-2022-05-28-at-4.59.33-PM.png
END:VEVENT
BEGIN:VEVENT
DTSTART;VALUE=DATE:20260329
DTEND;VALUE=DATE:20260330
DTSTAMP:20260421T185502
CREATED:20260225T214214Z
LAST-MODIFIED:20260225T214252Z
UID:6163-1774742400-1774828799@loneoakbrewingco.com
SUMMARY:Easter Bunny at the Farm with an Egg Hunt
DESCRIPTION:Hop on over for a day of family fun at Lone Oak Farm Brewing Co.! 🐰🌸 \nJoin us for Brews with the Bunny & our annual Easter Egg Hunt on Sunday\, March 29th from 11AM–1PM. Bring the kids\, grab a brew\, and get ready for the big hunt at NOON sharp — we’re hiding 1\,000 eggs! \nIt’s the perfect way to celebrate spring with festive fun\, great drinks\, and plenty of photo-worthy bunny moments. Don’t miss it! 🐣🌷
URL:https://loneoakbrewingco.com/event/6163/
LOCATION:Lone Oak Brewery\, 5000 Olney Laytonsville Rd\, Olney\, MD\, 20832\, United States
ATTACH;FMTTYPE=image/jpeg:https://loneoakbrewingco.com/wp-content/uploads/2026/02/db3d1199-05a5-43de-b04f-9f4dc659a2fd.jpg
END:VEVENT
BEGIN:VEVENT
DTSTART;TZID=America/New_York:20260329T140000
DTEND;TZID=America/New_York:20260329T170000
DTSTAMP:20260421T185502
CREATED:20260218T200723Z
LAST-MODIFIED:20260218T200723Z
UID:6125-1774792800-1774803600@loneoakbrewingco.com
SUMMARY:Music - Game Blouses
DESCRIPTION:
URL:https://loneoakbrewingco.com/event/music-game-blouses/
LOCATION:Lone Oak Brewery\, 5000 Olney Laytonsville Rd\, Olney\, MD\, 20832\, United States
ATTACH;FMTTYPE=image/png:https://loneoakbrewingco.com/wp-content/uploads/2022/04/cropped-login.png
END:VEVENT
BEGIN:VEVENT
DTSTART;TZID=America/New_York:20260402T180000
DTEND;TZID=America/New_York:20260402T200000
DTSTAMP:20260421T185502
CREATED:20260211T181107Z
LAST-MODIFIED:20260211T181352Z
UID:6056-1775152800-1775160000@loneoakbrewingco.com
SUMMARY:Trivia Thursday
DESCRIPTION:
URL:https://loneoakbrewingco.com/event/trivia-thursday-18/
LOCATION:Lone Oak Brewery\, 5000 Olney Laytonsville Rd\, Olney\, MD\, 20832\, United States
CATEGORIES:Trivia
ATTACH;FMTTYPE=image/jpeg:https://loneoakbrewingco.com/wp-content/uploads/2023/08/pourhousetrivia-1.jpg
END:VEVENT
BEGIN:VEVENT
DTSTART;TZID=America/New_York:20260402T180000
DTEND;TZID=America/New_York:20260402T200000
DTSTAMP:20260421T185502
CREATED:20260211T181230Z
LAST-MODIFIED:20260211T181230Z
UID:6060-1775152800-1775160000@loneoakbrewingco.com
SUMMARY:Happy Hour
DESCRIPTION:
URL:https://loneoakbrewingco.com/event/happy-hour-13/
LOCATION:Lone Oak Brewery\, 5000 Olney Laytonsville Rd\, Olney\, MD\, 20832\, United States
CATEGORIES:Happy Hour
ATTACH;FMTTYPE=image/png:https://loneoakbrewingco.com/wp-content/uploads/2025/11/Thursday.png
END:VEVENT
BEGIN:VEVENT
DTSTART;VALUE=DATE:20260404
DTEND;VALUE=DATE:20260405
DTSTAMP:20260421T185502
CREATED:20260211T191730Z
LAST-MODIFIED:20260211T191730Z
UID:6088-1775260800-1775347199@loneoakbrewingco.com
SUMMARY:Food Truck - Square Taco
DESCRIPTION:
URL:https://loneoakbrewingco.com/event/food-truck-square-taco-9/
LOCATION:Lone Oak Brewery\, 5000 Olney Laytonsville Rd\, Olney\, MD\, 20832\, United States
ATTACH;FMTTYPE=image/webp:https://loneoakbrewingco.com/wp-content/uploads/2024/10/SQUARE-TACO.webp
END:VEVENT
BEGIN:VEVENT
DTSTART;TZID=America/New_York:20260404T140000
DTEND;TZID=America/New_York:20260404T170000
DTSTAMP:20260421T185502
CREATED:20260218T200825Z
LAST-MODIFIED:20260218T200825Z
UID:6127-1775311200-1775322000@loneoakbrewingco.com
SUMMARY:Music - Briana Merkel
DESCRIPTION:Briana Merkel is a singer songwriter born and raised in the mountains of Cumberland Maryland.   She grew up listening to the pop and rock music her parents enjoyed\, and discovered grunge and alternative rock in her early teens\, which inspired her to pick up a guitar.   Later on\, she came to develop a love for bluegrass\, and all those elements would blend together creating her own unique acoustic style.
URL:https://loneoakbrewingco.com/event/music-briana-merkel/
LOCATION:Lone Oak Brewery\, 5000 Olney Laytonsville Rd\, Olney\, MD\, 20832\, United States
ATTACH;FMTTYPE=image/jpeg:https://loneoakbrewingco.com/wp-content/uploads/2024/12/BrianaMerkel.jpeg
END:VEVENT
BEGIN:VEVENT
DTSTART;VALUE=DATE:20260405
DTEND;VALUE=DATE:20260406
DTSTAMP:20260421T185502
CREATED:20260211T191832Z
LAST-MODIFIED:20260211T191832Z
UID:6090-1775347200-1775433599@loneoakbrewingco.com
SUMMARY:Food Truck - Gauchito Steaks
DESCRIPTION:
URL:https://loneoakbrewingco.com/event/food-truck-gauchito-steaks-4/
LOCATION:Lone Oak Brewery\, 5000 Olney Laytonsville Rd\, Olney\, MD\, 20832\, United States
ATTACH;FMTTYPE=image/jpeg:https://loneoakbrewingco.com/wp-content/uploads/2025/06/gauchito.jpeg
END:VEVENT
BEGIN:VEVENT
DTSTART;TZID=America/New_York:20260405T140000
DTEND;TZID=America/New_York:20260405T170000
DTSTAMP:20260421T185502
CREATED:20260218T200942Z
LAST-MODIFIED:20260218T200942Z
UID:6129-1775397600-1775408400@loneoakbrewingco.com
SUMMARY:Music - Deb and Gary
DESCRIPTION:Gary Maragos grew up in Maryland\, and while he hasn’t lived in Olney since he was a kid\, he remains loyal to the burgundy and gold.  His love for music started with The Beatles and The Kinks\, and he counts Squeeze\, Elvis Costello\, Jellyfish\, and Matthew Sweet among influences on his original music recorded by his band Rocket Transfer Warehouse.  Deb Sward grew up on classic rock and grunge music. One of her earliest inspirations to pick up guitar was Nancy Wilson of Heart.  Deb and Gary met at work and first performed music together in 2011 at an office holiday party. Soon after\, they began playing at a variety of venues –including wineries\, cafes\, private parties\, clubs\, and bars — and eventually struck upon the name “Deb and Gary” for their new alliance. The duo is known for textured vocal harmonies and complementary guitar playing styles\, and audiences have appreciated their unique set lists and musical arrangements. Deb and Gary’s favorite songs to play are ones such as Pink Floyd’s “Brain Damage/Eclipse” that might surprise the audience with something not usually played by an acoustic duo.
URL:https://loneoakbrewingco.com/event/music-deb-and-gary/
LOCATION:Lone Oak Brewery\, 5000 Olney Laytonsville Rd\, Olney\, MD\, 20832\, United States
ATTACH;FMTTYPE=image/jpeg:https://loneoakbrewingco.com/wp-content/uploads/2024/12/DebAndGary.jpeg
END:VEVENT
BEGIN:VEVENT
DTSTART;TZID=America/New_York:20260405T183000
DTEND;TZID=America/New_York:20260405T210000
DTSTAMP:20260421T185502
CREATED:20260204T194232Z
LAST-MODIFIED:20260227T164028Z
UID:6054-1775413800-1775422800@loneoakbrewingco.com
SUMMARY:Speakeasy Closed for Private Event
DESCRIPTION:
URL:https://loneoakbrewingco.com/event/speakeasy-closed-for-private-event-3/
LOCATION:Fallen Oak Distilling\, 5000 Olney Laytonsville Rd\, Olney\, MD\, 20832\, United States
CATEGORIES:Private Event
ATTACH;FMTTYPE=image/jpeg:https://loneoakbrewingco.com/wp-content/uploads/2023/06/Fallen-Oak-Logo.jpg
END:VEVENT
BEGIN:VEVENT
DTSTART;TZID=America/New_York:20260408T170000
DTEND;TZID=America/New_York:20260408T200000
DTSTAMP:20260421T185502
CREATED:20260211T181543Z
LAST-MODIFIED:20260211T181543Z
UID:6064-1775667600-1775678400@loneoakbrewingco.com
SUMMARY:NonProfit Night
DESCRIPTION:Come support 3 nonprofits at Lone Oak Farm!
URL:https://loneoakbrewingco.com/event/nonprofit-night-3/
LOCATION:Lone Oak Brewery\, 5000 Olney Laytonsville Rd\, Olney\, MD\, 20832\, United States
CATEGORIES:Fundraiser
ATTACH;FMTTYPE=image/png:https://loneoakbrewingco.com/wp-content/uploads/2025/11/LOF-Logo.png
END:VEVENT
BEGIN:VEVENT
DTSTART;VALUE=DATE:20260409
DTEND;VALUE=DATE:20260410
DTSTAMP:20260421T185502
CREATED:20260408T194151Z
LAST-MODIFIED:20260408T194151Z
UID:6285-1775692800-1775779199@loneoakbrewingco.com
SUMMARY:Proof 86 Thursday
DESCRIPTION:Proof 86 Members – Exciting News!We’re introducing Proof 86 Thursdays! 🎉 \nStop by Fallen Oak Distilling any Thursday and enjoy 20% off ALL drinks\, merchandise\, and bottles. \nDon’t miss out – make your Thursday the best day of the week! 🥃
URL:https://loneoakbrewingco.com/event/proof-86-thursday/
LOCATION:Fallen Oak Distilling\, 5000 Olney Laytonsville Rd\, Olney\, MD\, 20832\, United States
ATTACH;FMTTYPE=image/jpeg:https://loneoakbrewingco.com/wp-content/uploads/2023/06/Fallen-Oak-Logo.jpg
END:VEVENT
BEGIN:VEVENT
DTSTART;TZID=America/New_York:20260409T180000
DTEND;TZID=America/New_York:20260409T200000
DTSTAMP:20260421T185502
CREATED:20260211T181144Z
LAST-MODIFIED:20260211T181331Z
UID:6058-1775757600-1775764800@loneoakbrewingco.com
SUMMARY:Trivia Thursday
DESCRIPTION:
URL:https://loneoakbrewingco.com/event/trivia-thursday-19/
LOCATION:Lone Oak Brewery\, 5000 Olney Laytonsville Rd\, Olney\, MD\, 20832\, United States
CATEGORIES:Trivia
ATTACH;FMTTYPE=image/jpeg:https://loneoakbrewingco.com/wp-content/uploads/2023/08/pourhousetrivia-1.jpg
END:VEVENT
BEGIN:VEVENT
DTSTART;TZID=America/New_York:20260409T180000
DTEND;TZID=America/New_York:20260409T200000
DTSTAMP:20260421T185502
CREATED:20260211T181301Z
LAST-MODIFIED:20260211T181301Z
UID:6062-1775757600-1775764800@loneoakbrewingco.com
SUMMARY:Happy Hour
DESCRIPTION:
URL:https://loneoakbrewingco.com/event/happy-hour-14/
LOCATION:Lone Oak Brewery\, 5000 Olney Laytonsville Rd\, Olney\, MD\, 20832\, United States
CATEGORIES:Happy Hour
ATTACH;FMTTYPE=image/png:https://loneoakbrewingco.com/wp-content/uploads/2025/11/Thursday.png
END:VEVENT
BEGIN:VEVENT
DTSTART;VALUE=DATE:20260411
DTEND;VALUE=DATE:20260412
DTSTAMP:20260421T185502
CREATED:20260211T192020Z
LAST-MODIFIED:20260211T192020Z
UID:6092-1775865600-1775951999@loneoakbrewingco.com
SUMMARY:Food Truck - Jimmy's Famous Seafood
DESCRIPTION:
URL:https://loneoakbrewingco.com/event/food-truck-jimmys-famous-seafood-6/
LOCATION:Lone Oak Brewery\, 5000 Olney Laytonsville Rd\, Olney\, MD\, 20832\, United States
ATTACH;FMTTYPE=image/jpeg:https://loneoakbrewingco.com/wp-content/uploads/2025/11/download.jpg
END:VEVENT
BEGIN:VEVENT
DTSTART;VALUE=DATE:20260412
DTEND;VALUE=DATE:20260413
DTSTAMP:20260421T185502
CREATED:20260211T192116Z
LAST-MODIFIED:20260211T192116Z
UID:6094-1775952000-1776038399@loneoakbrewingco.com
SUMMARY:Food Truck - Cousins Maine Lobster
DESCRIPTION:
URL:https://loneoakbrewingco.com/event/food-truck-cousins-maine-lobster-2/
LOCATION:Lone Oak Brewery\, 5000 Olney Laytonsville Rd\, Olney\, MD\, 20832\, United States
ATTACH;FMTTYPE=image/webp:https://loneoakbrewingco.com/wp-content/uploads/2026/02/Cousins-Maine-Lobster.webp
END:VEVENT
BEGIN:VEVENT
DTSTART;TZID=America/New_York:20260412T140000
DTEND;TZID=America/New_York:20260412T170000
DTSTAMP:20260421T185502
CREATED:20260218T201241Z
LAST-MODIFIED:20260218T201241Z
UID:6133-1776002400-1776013200@loneoakbrewingco.com
SUMMARY:Music - One Step Down
DESCRIPTION:
URL:https://loneoakbrewingco.com/event/music-one-step-down/
LOCATION:Lone Oak Brewery\, 5000 Olney Laytonsville Rd\, Olney\, MD\, 20832\, United States
ATTACH;FMTTYPE=image/png:https://loneoakbrewingco.com/wp-content/uploads/2022/04/cropped-login.png
END:VEVENT
BEGIN:VEVENT
DTSTART;TZID=America/New_York:20260412T160000
DTEND;TZID=America/New_York:20260412T200000
DTSTAMP:20260421T185502
CREATED:20260211T181700Z
LAST-MODIFIED:20260211T181700Z
UID:6067-1776009600-1776024000@loneoakbrewingco.com
SUMMARY:Cheers to Charity!
DESCRIPTION:Come support 2 nonprofits at Fallen Oak Distilling!
URL:https://loneoakbrewingco.com/event/cheers-to-charity-5/
LOCATION:Fallen Oak Distilling\, 5000 Olney Laytonsville Rd\, Olney\, MD\, 20832\, United States
CATEGORIES:Fundraiser
ATTACH;FMTTYPE=image/jpeg:https://loneoakbrewingco.com/wp-content/uploads/2023/06/Fallen-Oak-Logo.jpg
END:VEVENT
BEGIN:VEVENT
DTSTART;VALUE=DATE:20260416
DTEND;VALUE=DATE:20260417
DTSTAMP:20260421T185502
CREATED:20260408T194410Z
LAST-MODIFIED:20260408T194410Z
UID:6287-1776297600-1776383999@loneoakbrewingco.com
SUMMARY:Proof 86 Thursday
DESCRIPTION:Proof 86 Thursdays!  \nStop by Fallen Oak Distilling any Thursday and enjoy 20% off ALL drinks\, merchandise\, and bottles. \nDon’t miss out – make your Thursday the best day of the week! 
URL:https://loneoakbrewingco.com/event/proof-86-thursday-2/
LOCATION:Fallen Oak Distilling\, 5000 Olney Laytonsville Rd\, Olney\, MD\, 20832\, United States
ATTACH;FMTTYPE=image/jpeg:https://loneoakbrewingco.com/wp-content/uploads/2023/06/Fallen-Oak-Logo.jpg
END:VEVENT
END:VCALENDAR