BEGIN:VCALENDAR
VERSION:2.0
PRODID:-//Lone Oak Brewing Co. - ECPv6.15.20//NONSGML v1.0//EN
CALSCALE:GREGORIAN
METHOD:PUBLISH
X-WR-CALNAME:Lone Oak Brewing Co.
X-ORIGINAL-URL:https://loneoakbrewingco.com
X-WR-CALDESC:Events for Lone Oak Brewing Co.
REFRESH-INTERVAL;VALUE=DURATION:PT1H
X-Robots-Tag:noindex
X-PUBLISHED-TTL:PT1H
BEGIN:VTIMEZONE
TZID:America/New_York
BEGIN:DAYLIGHT
TZOFFSETFROM:-0500
TZOFFSETTO:-0400
TZNAME:EDT
DTSTART:20250309T070000
END:DAYLIGHT
BEGIN:STANDARD
TZOFFSETFROM:-0400
TZOFFSETTO:-0500
TZNAME:EST
DTSTART:20251102T060000
END:STANDARD
BEGIN:DAYLIGHT
TZOFFSETFROM:-0500
TZOFFSETTO:-0400
TZNAME:EDT
DTSTART:20260308T070000
END:DAYLIGHT
BEGIN:STANDARD
TZOFFSETFROM:-0400
TZOFFSETTO:-0500
TZNAME:EST
DTSTART:20261101T060000
END:STANDARD
BEGIN:DAYLIGHT
TZOFFSETFROM:-0500
TZOFFSETTO:-0400
TZNAME:EDT
DTSTART:20270314T070000
END:DAYLIGHT
BEGIN:STANDARD
TZOFFSETFROM:-0400
TZOFFSETTO:-0500
TZNAME:EST
DTSTART:20271107T060000
END:STANDARD
END:VTIMEZONE
BEGIN:VEVENT
DTSTART;TZID=America/New_York:20260312T180000
DTEND;TZID=America/New_York:20260312T200000
DTSTAMP:20260422T081642
CREATED:20260114T194858Z
LAST-MODIFIED:20260114T195118Z
UID:5992-1773338400-1773345600@loneoakbrewingco.com
SUMMARY:Trivia Thursday
DESCRIPTION:
URL:https://loneoakbrewingco.com/event/trivia-thursday-15/
LOCATION:Lone Oak Brewery\, 5000 Olney Laytonsville Rd\, Olney\, MD\, 20832\, United States
CATEGORIES:Trivia
ATTACH;FMTTYPE=image/jpeg:https://loneoakbrewingco.com/wp-content/uploads/2023/08/pourhousetrivia-1.jpg
END:VEVENT
BEGIN:VEVENT
DTSTART;TZID=America/New_York:20260311T170000
DTEND;TZID=America/New_York:20260311T200000
DTSTAMP:20260422T081642
CREATED:20260114T195209Z
LAST-MODIFIED:20260114T195209Z
UID:5996-1773248400-1773259200@loneoakbrewingco.com
SUMMARY:Nonprofit Night
DESCRIPTION:
URL:https://loneoakbrewingco.com/event/nonprofit-night-4/
LOCATION:Lone Oak Brewery\, 5000 Olney Laytonsville Rd\, Olney\, MD\, 20832\, United States
CATEGORIES:Fundraiser
ATTACH;FMTTYPE=image/png:https://loneoakbrewingco.com/wp-content/uploads/2025/11/LOF-Logo.png
END:VEVENT
BEGIN:VEVENT
DTSTART;TZID=America/New_York:20260308T190000
DTEND;TZID=America/New_York:20260308T210000
DTSTAMP:20260422T081642
CREATED:20260225T213812Z
LAST-MODIFIED:20260225T213812Z
UID:6158-1772996400-1773003600@loneoakbrewingco.com
SUMMARY:Mentalist at Fallen Oak Distilling
DESCRIPTION:Step into the speakeasy for a night where nothing is quite as it seems. 🔮✨ \nJoin us at Fallen Oak Distilling for an intimate evening of magic and mind-reading with Victor Oriaz. This isn’t your average night out—expect sleight of hand\, psychological twists\, and moments that will leave you questioning reality. \n🗓 March 8th🕖 Show starts at 7 PM🎟 Space is limited — grab your ticket now and prepare to be amazed.
URL:https://loneoakbrewingco.com/event/mentalist-at-fallen-oak-distilling/
LOCATION:Fallen Oak Distilling\, 5000 Olney Laytonsville Rd\, Olney\, MD\, 20832\, United States
ATTACH;FMTTYPE=image/png:https://loneoakbrewingco.com/wp-content/uploads/2026/02/93548e79-46fc-46eb-b11e-c4a29b555690.png
END:VEVENT
BEGIN:VEVENT
DTSTART;TZID=America/New_York:20260308T140000
DTEND;TZID=America/New_York:20260308T170000
DTSTAMP:20260422T081642
CREATED:20260218T200007Z
LAST-MODIFIED:20260218T200007Z
UID:6115-1772978400-1772989200@loneoakbrewingco.com
SUMMARY:Music - John DeCesare
DESCRIPTION:John grew up in Maryland and studied classical\, Spanish\, and flamenco guitar from a young age. Coming from a musical family\, he was exposed to a wide variety of music from a young age. Jazz\, classical\, folk\, Latin and other styles were always playing in the background. At the age of 13\, he picked up a guitar and never looked back. He enjoys playing a variety of music including rock\, folk\, pop\, country\, reggae\, and more. Some early influences on his guitar playing are Simon&Garfunkel\, The Beatles\, Neil Young\, Jack Johnson\, and Bob Marley. He enjoys playing and teaching many genres of guitar including Classical\, Spanish\, Flamenco\, Brazilian\, Folk\, Pop\, Rock\, and Reggae.
URL:https://loneoakbrewingco.com/event/music-john-decesare/
LOCATION:Lone Oak Brewery\, 5000 Olney Laytonsville Rd\, Olney\, MD\, 20832\, United States
ATTACH;FMTTYPE=image/jpeg:https://loneoakbrewingco.com/wp-content/uploads/2024/12/JohnDeCesare-scaled.jpg
END:VEVENT
BEGIN:VEVENT
DTSTART;VALUE=DATE:20260308
DTEND;VALUE=DATE:20260309
DTSTAMP:20260422T081642
CREATED:20260211T190724Z
LAST-MODIFIED:20260211T190918Z
UID:6071-1772928000-1773014399@loneoakbrewingco.com
SUMMARY:Food Truck - Gauchito Steaks
DESCRIPTION:
URL:https://loneoakbrewingco.com/event/food-truck-gauchito-steaks-3/
LOCATION:Lone Oak Brewery\, 5000 Olney Laytonsville Rd\, Olney\, MD\, 20832\, United States
ATTACH;FMTTYPE=image/jpeg:https://loneoakbrewingco.com/wp-content/uploads/2025/06/gauchito.jpeg
END:VEVENT
BEGIN:VEVENT
DTSTART;TZID=America/New_York:20260307T190000
DTEND;TZID=America/New_York:20260307T230000
DTSTAMP:20260422T081642
CREATED:20260204T194110Z
LAST-MODIFIED:20260227T163900Z
UID:6052-1772910000-1772924400@loneoakbrewingco.com
SUMMARY:Speakeasy Closed for Private Event
DESCRIPTION:
URL:https://loneoakbrewingco.com/event/speakeasy-closed-for-private-event-2/
LOCATION:Fallen Oak Distilling\, 5000 Olney Laytonsville Rd\, Olney\, MD\, 20832\, United States
CATEGORIES:Private Event
ATTACH;FMTTYPE=image/jpeg:https://loneoakbrewingco.com/wp-content/uploads/2023/06/Fallen-Oak-Logo.jpg
END:VEVENT
BEGIN:VEVENT
DTSTART;TZID=America/New_York:20260307T140000
DTEND;TZID=America/New_York:20260307T170000
DTSTAMP:20260422T081642
CREATED:20260218T195746Z
LAST-MODIFIED:20260218T195746Z
UID:6113-1772892000-1772902800@loneoakbrewingco.com
SUMMARY:Music - The Walkaways
DESCRIPTION:The Walkaways are a Washington\, DC-based band making original music since 2006.  The band’s sound has been consistently described as “alt-country” (Washington Post\, Washington City Paper\, Washingtonian Magazine)\, although the songs draw even more broadly from Americana\, folk\, roots\, country\, alt-rock\, indie\, and classic rock. All music available on Spotify\, iTunes\, Amazon\, and CD Baby. Tour dates and all other info at http://thewalkaways.com/. 
URL:https://loneoakbrewingco.com/event/music-the-walkaways/
LOCATION:Lone Oak Brewery\, 5000 Olney Laytonsville Rd\, Olney\, MD\, 20832\, United States
ATTACH;FMTTYPE=image/jpeg:https://loneoakbrewingco.com/wp-content/uploads/2024/12/The-Walkaways.jpg
END:VEVENT
BEGIN:VEVENT
DTSTART;VALUE=DATE:20260307
DTEND;VALUE=DATE:20260308
DTSTAMP:20260422T081642
CREATED:20260211T190508Z
LAST-MODIFIED:20260211T190508Z
UID:6069-1772841600-1772927999@loneoakbrewingco.com
SUMMARY:Food Truck - Square Taco
DESCRIPTION:
URL:https://loneoakbrewingco.com/event/food-truck-square-taco-8/
LOCATION:Lone Oak Brewery\, 5000 Olney Laytonsville Rd\, Olney\, MD\, 20832\, United States
ATTACH;FMTTYPE=image/webp:https://loneoakbrewingco.com/wp-content/uploads/2024/10/SQUARE-TACO.webp
END:VEVENT
BEGIN:VEVENT
DTSTART;TZID=America/New_York:20260306T170000
DTEND;TZID=America/New_York:20260306T210000
DTSTAMP:20260422T081642
CREATED:20260204T193050Z
LAST-MODIFIED:20260204T193050Z
UID:6047-1772816400-1772830800@loneoakbrewingco.com
SUMMARY:Jazz Night
DESCRIPTION:Smooth sips. Soulful sounds. ✨\nJoin us for Jazz Night with the Gilly and Friends Trio in our Whispering Spirit Speakeasy. Settle in\, grab a cocktail\, and let the music set the mood. \n🎷 Friday\, March 6 | 5–9 PM\n🎟 Free entry | Reservations required
URL:https://loneoakbrewingco.com/event/jazz-night-2/
LOCATION:Lone Oak Brewery\, 5000 Olney Laytonsville Rd\, Olney\, MD\, 20832\, United States
CATEGORIES:Live Music,Reservation
ATTACH;FMTTYPE=image/jpeg:https://loneoakbrewingco.com/wp-content/uploads/2026/02/MARCH-JAZZ-NIGHT-scaled.jpeg
END:VEVENT
BEGIN:VEVENT
DTSTART;TZID=America/New_York:20260305T180000
DTEND;TZID=America/New_York:20260305T200000
DTSTAMP:20260422T081642
CREATED:20260107T184810Z
LAST-MODIFIED:20260107T184810Z
UID:5987-1772733600-1772740800@loneoakbrewingco.com
SUMMARY:Happy Hour
DESCRIPTION:
URL:https://loneoakbrewingco.com/event/happy-hour-9/
LOCATION:Lone Oak Brewery\, 5000 Olney Laytonsville Rd\, Olney\, MD\, 20832\, United States
CATEGORIES:Happy Hour
ATTACH;FMTTYPE=image/png:https://loneoakbrewingco.com/wp-content/uploads/2025/11/Thursday.png
END:VEVENT
BEGIN:VEVENT
DTSTART;TZID=America/New_York:20260305T180000
DTEND;TZID=America/New_York:20260305T200000
DTSTAMP:20260422T081642
CREATED:20260107T184723Z
LAST-MODIFIED:20260107T184949Z
UID:5985-1772733600-1772740800@loneoakbrewingco.com
SUMMARY:Trivia Thursday
DESCRIPTION:
URL:https://loneoakbrewingco.com/event/trivia-thursday-11/
LOCATION:Lone Oak Brewery\, 5000 Olney Laytonsville Rd\, Olney\, MD\, 20832\, United States
CATEGORIES:Trivia
ATTACH;FMTTYPE=image/jpeg:https://loneoakbrewingco.com/wp-content/uploads/2023/08/pourhousetrivia-1.jpg
END:VEVENT
BEGIN:VEVENT
DTSTART;TZID=America/New_York:20260301T170000
DTEND;TZID=America/New_York:20260301T200000
DTSTAMP:20260422T081642
CREATED:20260107T184911Z
LAST-MODIFIED:20260218T174821Z
UID:5989-1772384400-1772395200@loneoakbrewingco.com
SUMMARY:Cheers to Charity
DESCRIPTION:
URL:https://loneoakbrewingco.com/event/cheers-to-charity-4/
LOCATION:Fallen Oak Distilling\, 5000 Olney Laytonsville Rd\, Olney\, MD\, 20832\, United States
CATEGORIES:Fundraiser
ATTACH;FMTTYPE=image/jpeg:https://loneoakbrewingco.com/wp-content/uploads/2023/06/Fallen-Oak-Logo.jpg
END:VEVENT
BEGIN:VEVENT
DTSTART;TZID=America/New_York:20260228T130000
DTEND;TZID=America/New_York:20260228T170000
DTSTAMP:20260422T081642
CREATED:20260218T174702Z
LAST-MODIFIED:20260218T174702Z
UID:6098-1772283600-1772298000@loneoakbrewingco.com
SUMMARY:Sip N' Shuck
DESCRIPTION:Sip & Shuck at Lone Oak Farm! 🦪🍊 \nJoin us at Lone Oak Farm Brewing Company for an afternoon of fresh local oysters\, $5 Orange Crushes\, and ½-price flights with your oyster purchase! \nCome hungry\, grab a drink\, and enjoy great flavors and farm vibes.Saturday\, February 28th | 1–5 PM
URL:https://loneoakbrewingco.com/event/sip-n-shuck/
LOCATION:Lone Oak Brewery\, 5000 Olney Laytonsville Rd\, Olney\, MD\, 20832\, United States
ATTACH;FMTTYPE=image/jpeg:https://loneoakbrewingco.com/wp-content/uploads/2026/02/d66c7ba8-a285-46a8-898f-a4292e91f897.jpg
END:VEVENT
BEGIN:VEVENT
DTSTART;TZID=America/New_York:20260226T180000
DTEND;TZID=America/New_York:20260226T200000
DTSTAMP:20260422T081642
CREATED:20260103T210131Z
LAST-MODIFIED:20260103T210131Z
UID:5952-1772128800-1772136000@loneoakbrewingco.com
SUMMARY:Happy Hour
DESCRIPTION:
URL:https://loneoakbrewingco.com/event/happy-hour-8/
LOCATION:Lone Oak Brewery\, 5000 Olney Laytonsville Rd\, Olney\, MD\, 20832\, United States
CATEGORIES:Happy Hour
ATTACH;FMTTYPE=image/png:https://loneoakbrewingco.com/wp-content/uploads/2025/11/Thursday.png
END:VEVENT
BEGIN:VEVENT
DTSTART;TZID=America/New_York:20260226T180000
DTEND;TZID=America/New_York:20260226T200000
DTSTAMP:20260422T081642
CREATED:20260103T204907Z
LAST-MODIFIED:20260103T204907Z
UID:5936-1772128800-1772136000@loneoakbrewingco.com
SUMMARY:Trivia Thursday
DESCRIPTION:
URL:https://loneoakbrewingco.com/event/trivia-thursday-14/
LOCATION:Lone Oak Brewery\, 5000 Olney Laytonsville Rd\, Olney\, MD\, 20832\, United States
CATEGORIES:Trivia
ATTACH;FMTTYPE=image/jpeg:https://loneoakbrewingco.com/wp-content/uploads/2023/08/pourhousetrivia-1.jpg
END:VEVENT
BEGIN:VEVENT
DTSTART;TZID=America/New_York:20260222T120000
DTEND;TZID=America/New_York:20260222T150000
DTSTAMP:20260422T081642
CREATED:20260128T182516Z
LAST-MODIFIED:20260128T182552Z
UID:6023-1771761600-1771772400@loneoakbrewingco.com
SUMMARY:Lone Oak Closed Until 3PM
DESCRIPTION:Lone Oak will be closed due to a private event until 3pm.
URL:https://loneoakbrewingco.com/event/lone-oak-closed-until-3pm/
LOCATION:Lone Oak Brewery\, 5000 Olney Laytonsville Rd\, Olney\, MD\, 20832\, United States
CATEGORIES:Private Event
ATTACH;FMTTYPE=image/png:https://loneoakbrewingco.com/wp-content/uploads/2022/04/cropped-login.png
END:VEVENT
BEGIN:VEVENT
DTSTART;TZID=America/New_York:20260219T180000
DTEND;TZID=America/New_York:20260219T200000
DTSTAMP:20260422T081642
CREATED:20260103T210048Z
LAST-MODIFIED:20260103T210048Z
UID:5950-1771524000-1771531200@loneoakbrewingco.com
SUMMARY:Happy Hour
DESCRIPTION:
URL:https://loneoakbrewingco.com/event/happy-hour-7/
LOCATION:Lone Oak Brewery\, 5000 Olney Laytonsville Rd\, Olney\, MD\, 20832\, United States
CATEGORIES:Happy Hour
ATTACH;FMTTYPE=image/png:https://loneoakbrewingco.com/wp-content/uploads/2025/11/Thursday.png
END:VEVENT
BEGIN:VEVENT
DTSTART;TZID=America/New_York:20260219T180000
DTEND;TZID=America/New_York:20260219T200000
DTSTAMP:20260422T081642
CREATED:20260103T204801Z
LAST-MODIFIED:20260103T204801Z
UID:5934-1771524000-1771531200@loneoakbrewingco.com
SUMMARY:Trivia Thursday
DESCRIPTION:
URL:https://loneoakbrewingco.com/event/trivia-thursday-13/
LOCATION:Lone Oak Brewery\, 5000 Olney Laytonsville Rd\, Olney\, MD\, 20832\, United States
CATEGORIES:Trivia
ATTACH;FMTTYPE=image/jpeg:https://loneoakbrewingco.com/wp-content/uploads/2023/08/pourhousetrivia-1.jpg
END:VEVENT
BEGIN:VEVENT
DTSTART;TZID=America/New_York:20260215T110000
DTEND;TZID=America/New_York:20260215T130000
DTSTAMP:20260422T081642
CREATED:20260103T212502Z
LAST-MODIFIED:20260204T192731Z
UID:5971-1771153200-1771160400@loneoakbrewingco.com
SUMMARY:Galentines Tea
DESCRIPTION:Celebrate Valentine’s—or Galentine’s—at Fallen Oak Distilling! \nJoin us on Sunday\, February 15th from 11 AM–1 PM for a delightful tea featuring savories\, scones\, and sweet surprises in The Whispering Spirit Speakeasy. Perfect for a cozy catch-up or a fun celebration with friends. 💕☕
URL:https://loneoakbrewingco.com/event/tea-time/
LOCATION:Fallen Oak Distilling\, 5000 Olney Laytonsville Rd\, Olney\, MD\, 20832\, United States
ATTACH;FMTTYPE=image/jpeg:https://loneoakbrewingco.com/wp-content/uploads/2026/01/FEB-2026-TEA-1-scaled.jpeg
END:VEVENT
BEGIN:VEVENT
DTSTART;TZID=America/New_York:20260214T150000
DTEND;TZID=America/New_York:20260214T220000
DTSTAMP:20260422T081642
CREATED:20260204T192624Z
LAST-MODIFIED:20260204T192624Z
UID:6044-1771081200-1771106400@loneoakbrewingco.com
SUMMARY:Valentines Dinner in the Speakeasy
DESCRIPTION:Treat your special someone to an intimate evening in our speakeasy with a $99 three-course dinner for two\, paired with specialty cocktails crafted just for the occasion. \n✨ Make it extra special with optional chocolate or flower add-ons waiting at your table. \n👉 Reserve your romantic dinner now — spots are limited!
URL:https://loneoakbrewingco.com/event/valentines-dinner-in-the-speakeasy-2/
LOCATION:Fallen Oak Distilling\, 5000 Olney Laytonsville Rd\, Olney\, MD\, 20832\, United States
CATEGORIES:Holiday Events
ATTACH;FMTTYPE=image/jpeg:https://loneoakbrewingco.com/wp-content/uploads/2026/02/FINAL-VDAY-2026-2-scaled.jpeg
END:VEVENT
BEGIN:VEVENT
DTSTART;TZID=America/New_York:20260214T140000
DTEND;TZID=America/New_York:20260214T170000
DTSTAMP:20260422T081642
CREATED:20260218T200132Z
LAST-MODIFIED:20260218T200132Z
UID:6117-1771077600-1771088400@loneoakbrewingco.com
SUMMARY:Music - Sligo Creek
DESCRIPTION:
URL:https://loneoakbrewingco.com/event/music-sligo-creek/
LOCATION:Lone Oak Brewery\, 5000 Olney Laytonsville Rd\, Olney\, MD\, 20832\, United States
ATTACH;FMTTYPE=image/png:https://loneoakbrewingco.com/wp-content/uploads/2022/04/cropped-login.png
END:VEVENT
BEGIN:VEVENT
DTSTART;TZID=America/New_York:20260213T150000
DTEND;TZID=America/New_York:20260213T220000
DTSTAMP:20260422T081642
CREATED:20260204T192510Z
LAST-MODIFIED:20260204T192510Z
UID:6041-1770994800-1771020000@loneoakbrewingco.com
SUMMARY:Valentines Dinner in the Speakeasy
DESCRIPTION:Treat your special someone to an intimate evening in our speakeasy with a $99 three-course dinner for two\, paired with specialty cocktails crafted just for the occasion. \n✨ Make it extra special with optional chocolate or flower add-ons waiting at your table. \n👉 Reserve your romantic dinner now — spots are limited!
URL:https://loneoakbrewingco.com/event/valentines-dinner-in-the-speakeasy/
LOCATION:Fallen Oak Distilling\, 5000 Olney Laytonsville Rd\, Olney\, MD\, 20832\, United States
CATEGORIES:Holiday Events
ATTACH;FMTTYPE=image/jpeg:https://loneoakbrewingco.com/wp-content/uploads/2026/02/FINAL-VDAY-2026-2-scaled.jpeg
END:VEVENT
BEGIN:VEVENT
DTSTART;TZID=America/New_York:20260212T190000
DTEND;TZID=America/New_York:20260212T210000
DTSTAMP:20260422T081642
CREATED:20260103T212247Z
LAST-MODIFIED:20260103T212247Z
UID:5968-1770922800-1770930000@loneoakbrewingco.com
SUMMARY:Comedy Show
DESCRIPTION:Laugh the night away at Fallen Oak Distilling! \nJoin us Thursday\, February 12 for a live comedy show featuring Sid Davis & Lucas Bohn. \nDoors open at 5:30 PM\, show starts at 7:00 PM. Grab a drink\, enjoy the laughs\, and don’t wait—limited tickets available!
URL:https://loneoakbrewingco.com/event/comedy-show-3/
LOCATION:Fallen Oak Distilling\, 5000 Olney Laytonsville Rd\, Olney\, MD\, 20832\, United States
ATTACH;FMTTYPE=image/jpeg:https://loneoakbrewingco.com/wp-content/uploads/2026/01/FEBRUARY-2026-COMEDY-SHOW-1-scaled.jpeg
END:VEVENT
BEGIN:VEVENT
DTSTART;TZID=America/New_York:20260212T180000
DTEND;TZID=America/New_York:20260212T200000
DTSTAMP:20260422T081642
CREATED:20260103T210001Z
LAST-MODIFIED:20260103T210001Z
UID:5948-1770919200-1770926400@loneoakbrewingco.com
SUMMARY:Happy Hour
DESCRIPTION:
URL:https://loneoakbrewingco.com/event/happy-hour-6/
LOCATION:Lone Oak Brewery\, 5000 Olney Laytonsville Rd\, Olney\, MD\, 20832\, United States
CATEGORIES:Happy Hour
ATTACH;FMTTYPE=image/png:https://loneoakbrewingco.com/wp-content/uploads/2025/11/Thursday.png
END:VEVENT
BEGIN:VEVENT
DTSTART;TZID=America/New_York:20260212T180000
DTEND;TZID=America/New_York:20260212T200000
DTSTAMP:20260422T081642
CREATED:20260103T204717Z
LAST-MODIFIED:20260103T204717Z
UID:5932-1770919200-1770926400@loneoakbrewingco.com
SUMMARY:Trivia Thursday
DESCRIPTION:
URL:https://loneoakbrewingco.com/event/trivia-thursday-12/
LOCATION:Lone Oak Brewery\, 5000 Olney Laytonsville Rd\, Olney\, MD\, 20832\, United States
CATEGORIES:Trivia
ATTACH;FMTTYPE=image/jpeg:https://loneoakbrewingco.com/wp-content/uploads/2023/08/pourhousetrivia-1.jpg
END:VEVENT
BEGIN:VEVENT
DTSTART;TZID=America/New_York:20260207T150000
DTEND;TZID=America/New_York:20260207T210000
DTSTAMP:20260422T081642
CREATED:20260204T193946Z
LAST-MODIFIED:20260204T193946Z
UID:6050-1770476400-1770498000@loneoakbrewingco.com
SUMMARY:Speakeasy Closed for Private Event
DESCRIPTION:
URL:https://loneoakbrewingco.com/event/speakeasy-closed-for-private-event/
LOCATION:Fallen Oak Distilling\, 5000 Olney Laytonsville Rd\, Olney\, MD\, 20832\, United States
CATEGORIES:Private Event
ATTACH;FMTTYPE=image/jpeg:https://loneoakbrewingco.com/wp-content/uploads/2023/06/Fallen-Oak-Logo.jpg
END:VEVENT
BEGIN:VEVENT
DTSTART;TZID=America/New_York:20260205T180000
DTEND;TZID=America/New_York:20260205T200000
DTSTAMP:20260422T081642
CREATED:20260103T205634Z
LAST-MODIFIED:20260103T205634Z
UID:5946-1770314400-1770321600@loneoakbrewingco.com
SUMMARY:Happy Hour
DESCRIPTION:
URL:https://loneoakbrewingco.com/event/happy-hour-5/
LOCATION:Lone Oak Brewery\, 5000 Olney Laytonsville Rd\, Olney\, MD\, 20832\, United States
CATEGORIES:Happy Hour
ATTACH;FMTTYPE=image/png:https://loneoakbrewingco.com/wp-content/uploads/2025/11/Thursday.png
END:VEVENT
BEGIN:VEVENT
DTSTART;TZID=America/New_York:20260205T180000
DTEND;TZID=America/New_York:20260205T200000
DTSTAMP:20260422T081642
CREATED:20260103T204552Z
LAST-MODIFIED:20260103T204552Z
UID:5928-1770314400-1770321600@loneoakbrewingco.com
SUMMARY:Trivia Thursday
DESCRIPTION:
URL:https://loneoakbrewingco.com/event/trivia-thursday-10/
LOCATION:Lone Oak Brewery\, 5000 Olney Laytonsville Rd\, Olney\, MD\, 20832\, United States
CATEGORIES:Trivia
ATTACH;FMTTYPE=image/jpeg:https://loneoakbrewingco.com/wp-content/uploads/2023/08/pourhousetrivia-1.jpg
END:VEVENT
BEGIN:VEVENT
DTSTART;TZID=America/New_York:20260204T180000
DTEND;TZID=America/New_York:20260204T200000
DTSTAMP:20260422T081642
CREATED:20260103T211047Z
LAST-MODIFIED:20260103T211047Z
UID:5959-1770228000-1770235200@loneoakbrewingco.com
SUMMARY:Cheers To Charity
DESCRIPTION:Raise a glass for a great cause 🥃Join us for Cheers to Charity at Fallen Oak Distilling as we sip\, snack\, and support three amazing local charities.📅 Wednesday\, February 4 | ⏰ 5–8 PMGood drinks. Good food. Even better company.
URL:https://loneoakbrewingco.com/event/cheers-to-charity-3/
LOCATION:Fallen Oak Distilling\, 5000 Olney Laytonsville Rd\, Olney\, MD\, 20832\, United States
CATEGORIES:Fundraiser
ATTACH;FMTTYPE=image/jpeg:https://loneoakbrewingco.com/wp-content/uploads/2023/06/Fallen-Oak-Logo.jpg
END:VEVENT
BEGIN:VEVENT
DTSTART;TZID=America/New_York:20260201T180000
DTEND;TZID=America/New_York:20260201T200000
DTSTAMP:20260422T081642
CREATED:20260103T212004Z
LAST-MODIFIED:20260103T212004Z
UID:5965-1769968800-1769976000@loneoakbrewingco.com
SUMMARY:Bingo Night
DESCRIPTION:Bingo Night at Fallen Oak Distilling! \nJoin us on Sunday\, February 1st in the Whispering Spirit Speakeasy for a fun-filled evening of Bingo\, big prizes\, and a special cash round—all while supporting the non-profit Rukundo International. \nEnjoy Happy Hour from 5–6 PM\, with Bingo games running from 6–8 PM. Grab a drink\, play for prizes\, and support a great cause—sign up now!
URL:https://loneoakbrewingco.com/event/bingo-night/
LOCATION:Fallen Oak Distilling\, 5000 Olney Laytonsville Rd\, Olney\, MD\, 20832\, United States
ATTACH;FMTTYPE=image/jpeg:https://loneoakbrewingco.com/wp-content/uploads/2026/01/bingo-night-1.jpeg
END:VEVENT
END:VCALENDAR