BEGIN:VCALENDAR
VERSION:2.0
PRODID:-//Lone Oak Brewing Co. - ECPv6.15.20//NONSGML v1.0//EN
CALSCALE:GREGORIAN
METHOD:PUBLISH
X-WR-CALNAME:Lone Oak Brewing Co.
X-ORIGINAL-URL:https://loneoakbrewingco.com
X-WR-CALDESC:Events for Lone Oak Brewing Co.
REFRESH-INTERVAL;VALUE=DURATION:PT1H
X-Robots-Tag:noindex
X-PUBLISHED-TTL:PT1H
BEGIN:VTIMEZONE
TZID:UTC
BEGIN:STANDARD
TZOFFSETFROM:+0000
TZOFFSETTO:+0000
TZNAME:UTC
DTSTART:20220101T000000
END:STANDARD
END:VTIMEZONE
BEGIN:VEVENT
DTSTART;TZID=UTC:20230805T120000
DTEND;TZID=UTC:20230805T200000
DTSTAMP:20260422T183807
CREATED:20230504T030206Z
LAST-MODIFIED:20230504T030206Z
UID:3141-1691236800-1691265600@loneoakbrewingco.com
SUMMARY:FOOD TRUCK - FLIPSIDE GASTRO TO GO
DESCRIPTION:
URL:https://loneoakbrewingco.com/event/food-truck-flipside-gastro-to-go-5/
LOCATION:Lone Oak Brewery\, 5000 Olney Laytonsville Rd\, Olney\, MD\, 20832\, United States
CATEGORIES:Food Truck
ATTACH;FMTTYPE=image/jpeg:https://loneoakbrewingco.com/wp-content/uploads/2022/03/flipside-gastro-truck.jpeg
END:VEVENT
BEGIN:VEVENT
DTSTART;TZID=UTC:20230805T140000
DTEND;TZID=UTC:20230805T170000
DTSTAMP:20260422T183807
CREATED:20230429T032329Z
LAST-MODIFIED:20230429T032329Z
UID:3082-1691244000-1691254800@loneoakbrewingco.com
SUMMARY:LIVE MUSIC - SAMMY KRIMSTEIN
DESCRIPTION:Singer. Songwriter. Musician. A sincere passion for his craft\, along with a diverse musical taste helps to create the unique and soulful sound that is Sammy Krimstein. He started singing when he was old enough to talk\, and has been playing the guitar since he was 9 years old. He has a passion for all kinds of music\, from the Beatles to Alicia Keys to his own originals; he loves sharing his music with live audiences\, and on numerous streaming platforms. When he’s not performing solo\, you can find him performing with his band Karousel. His set list appeals to people of all ages\, with songs from the Beatles\, Otis Redding\, Elton John\, Alicia Keys\, John Mayer\, the Black Keys\, and many more artists\, including a few originals.k
URL:https://loneoakbrewingco.com/event/live-music-sammy-krimstein/
LOCATION:Lone Oak Brewery\, 5000 Olney Laytonsville Rd\, Olney\, MD\, 20832\, United States
CATEGORIES:Live Music
ATTACH;FMTTYPE=image/jpeg:https://loneoakbrewingco.com/wp-content/uploads/2023/04/unknown.jpg
END:VEVENT
BEGIN:VEVENT
DTSTART;TZID=UTC:20230812T120000
DTEND;TZID=UTC:20230812T200000
DTSTAMP:20260422T183807
CREATED:20230504T030351Z
LAST-MODIFIED:20230504T030351Z
UID:3143-1691841600-1691870400@loneoakbrewingco.com
SUMMARY:FOOD TRUCK - GRUBBING HARD BBQ
DESCRIPTION:ABOUT GRUBBING HARD BBQ:\n“Pitmaster and GHB owner Matt Chanin is a local Olney native and Sherwood High School graduate. When COVID struck Matt lost his day job at a law firm and quickly went from pushing paper to pursuing his true passion for food and hospitality. On almost every Saturday in 2020\, lines of cars would wait outside Matt’s parent’s house for their scheduled curbside pickup and dose of Texas-inspired barbecue. Matt’s “Grubbing Hard” instagram account quickly blew up within the local community and GHB would transform from a hobby to a legitimate food truck and catering business.” \nMATT’S THOUGHTS: \n“In early 2021 when I learned that they (Lone Oak) were building a brewery right next to my neighborhood\, I saw a perfect opportunity. I reached out to the owners and asked if I could come introduce myself and bring them a tray of bbq. The rest is history!” \n“Being from Olney I especially enjoy working with Lone Oak because of all the familiar faces we see every visit. We try to focus on the hospitality aspect as much as the food itself\, so it’s particularly fulfilling for me to see friends and neighbors supporting local businesses – and more importantly – enjoying our Que! I don’t think any food pairs better with a cold beer on a sunny day than our barbecue.” \n“My favorite food to serve 100% is our brisket. It’s one of those foods you can’t get at many places so I knew if ours was good we’d be able stand out. The brisket cooking process can take up to 18 hours and requires a lot of attention to detail\, so it’s rewarding when people recognize and appreciate the craft behind our work. It’s the best feeling when people tell us that our brisket is the best they’ve ever had. We want every bite to be the best”.
URL:https://loneoakbrewingco.com/event/food-truck-grubbing-hard-bbq-17/
LOCATION:Lone Oak Brewery\, 5000 Olney Laytonsville Rd\, Olney\, MD\, 20832\, United States
CATEGORIES:Food Truck
ATTACH;FMTTYPE=image/jpeg:https://loneoakbrewingco.com/wp-content/uploads/2022/03/grubbin-hard.jpeg
END:VEVENT
BEGIN:VEVENT
DTSTART;TZID=UTC:20230812T140000
DTEND;TZID=UTC:20230812T170000
DTSTAMP:20260422T183807
CREATED:20230429T032853Z
LAST-MODIFIED:20230429T033005Z
UID:3085-1691848800-1691859600@loneoakbrewingco.com
SUMMARY:LIVE MUSIC - DREW CLINE
DESCRIPTION:“I’m a musician from Howard County\, MD\, and I started playing guitar and singing in fourth grade. I’ve been booking shows at restaurants and bars locally since I was 13 years old and plan to study music production in college. I write my own music and play a mix of pop\, country\, and rock covers. Excited for the opportunity to bring drewclinemusic.com to Lone Oak!”
URL:https://loneoakbrewingco.com/event/live-music-drew-cline-2/
LOCATION:Lone Oak Brewery\, 5000 Olney Laytonsville Rd\, Olney\, MD\, 20832\, United States
CATEGORIES:Live Music
ATTACH;FMTTYPE=image/png:https://loneoakbrewingco.com/wp-content/uploads/2023/02/Screenshot-2023-02-17-at-2.45.29-PM-e1676665711390.png
END:VEVENT
BEGIN:VEVENT
DTSTART;TZID=UTC:20230817T180000
DTEND;TZID=UTC:20230817T200000
DTSTAMP:20260422T183807
CREATED:20230814T215851Z
LAST-MODIFIED:20230814T215851Z
UID:3346-1692295200-1692302400@loneoakbrewingco.com
SUMMARY:TRIVIA
DESCRIPTION:Grab your thinking cap and test your knowledge with Pour House Trivia! Get a group together for prizes and $5 beer! All ages and levels are welcome. \nWe’ll see you there!
URL:https://loneoakbrewingco.com/event/trivia/
LOCATION:Lone Oak Brewery\, 5000 Olney Laytonsville Rd\, Olney\, MD\, 20832\, United States
CATEGORIES:Trivia
ATTACH;FMTTYPE=image/jpeg:https://loneoakbrewingco.com/wp-content/uploads/2023/08/pourhousetrivia.jpg
END:VEVENT
BEGIN:VEVENT
DTSTART;TZID=UTC:20230819T120000
DTEND;TZID=UTC:20230819T200000
DTSTAMP:20260422T183807
CREATED:20230504T041114Z
LAST-MODIFIED:20230504T041114Z
UID:3145-1692446400-1692475200@loneoakbrewingco.com
SUMMARY:FOOD TRUCK - THE VURRITO SPOT
DESCRIPTION:Day born & raised in Los Angeles California\, I have been working in the restaurant/hospitality for the past 8 years\, I started “the Vurrito Spot” 4 years ago\, the influence came from not only the culture of LA but linking up with friends over game night 2 times out the week and they would always want me to make Mexican food in the kitchen\, whether it was burritos\, tacos or nachos . I love creating dishes that would add to our game night and bring joy and great memories. I wanted to bring that same energy and experience to the East Coast\, my favorite dish to prepare for is our Jac a Tac tacos and veggie dilla (quesadilla) we know that this experience will bring excitement to everyone taste buds\, we’re excited for you guys to enjoy! All of our veggies are local and fresh and our salsa are made in house. We feel that the local ingredients bring a amazing taste and livelinesses to our menu.
URL:https://loneoakbrewingco.com/event/food-truck-the-vurrito-spot/
LOCATION:Lone Oak Brewery\, 5000 Olney Laytonsville Rd\, Olney\, MD\, 20832\, United States
CATEGORIES:Food Truck
ATTACH;FMTTYPE=image/png:https://loneoakbrewingco.com/wp-content/uploads/2023/05/Screenshot-2023-05-03-at-8.10.39-PM.png
END:VEVENT
BEGIN:VEVENT
DTSTART;TZID=UTC:20230819T140000
DTEND;TZID=UTC:20230819T170000
DTSTAMP:20260422T183807
CREATED:20230430T032311Z
LAST-MODIFIED:20230430T032311Z
UID:3103-1692453600-1692464400@loneoakbrewingco.com
SUMMARY:LIVE MUSIC - BRADY O'CONOR
DESCRIPTION:Brady is an acoustic artist from Frederick\, Maryland.  Growing up in Montgomery County\, Brady had acquired an eclectic music taste that is sure to entertain or enlighten anyone who listens.
URL:https://loneoakbrewingco.com/event/live-music-brady-oconor-7/
LOCATION:Lone Oak Brewery\, 5000 Olney Laytonsville Rd\, Olney\, MD\, 20832\, United States
CATEGORIES:Live Music
ATTACH;FMTTYPE=image/jpeg:https://loneoakbrewingco.com/wp-content/uploads/2022/03/brady-oconor.jpg
END:VEVENT
BEGIN:VEVENT
DTSTART;TZID=UTC:20230826T080000
DTEND;TZID=UTC:20230826T130000
DTSTAMP:20260422T183807
CREATED:20230814T214712Z
LAST-MODIFIED:20230814T214815Z
UID:3335-1693036800-1693054800@loneoakbrewingco.com
SUMMARY:BIKES & BEERS
DESCRIPTION:Lone Oak will be hosting a 15\, 30\, and 45-mile ride departing from The Farm and traveling through the beautiful countryside of the Montgomery County Agricultural Reserve. All rides feature morning fuel stations\, fully marked routes\, GPS turn-by-turn instruction\, rest stops\, refreshments\, ride marshals\, and SAG support. Finish back at Lone Oak for a festival of rewarding craft beer\, live music\, charity raffle for Cystic Fibrosis\, food trucks & much more! All riding levels welcome! \nSign up at the website linked below! \nhttps://www.bikesignup.com/bikesandbeers-olney
URL:https://loneoakbrewingco.com/event/bikes-beers-2/
LOCATION:Lone Oak Brewery\, 5000 Olney Laytonsville Rd\, Olney\, MD\, 20832\, United States
ATTACH;FMTTYPE=image/jpeg:https://loneoakbrewingco.com/wp-content/uploads/2023/08/bb.jpg
END:VEVENT
BEGIN:VEVENT
DTSTART;TZID=UTC:20230826T120000
DTEND;TZID=UTC:20230826T200000
DTSTAMP:20260422T183807
CREATED:20230504T041247Z
LAST-MODIFIED:20230504T041247Z
UID:3150-1693051200-1693080000@loneoakbrewingco.com
SUMMARY:FOOD TRUCK - THE VURRITO SPOT
DESCRIPTION:Day born & raised in Los Angeles California\, I have been working in the restaurant/hospitality for the past 8 years\, I started “the Vurrito Spot” 4 years ago\, the influence came from not only the culture of LA but linking up with friends over game night 2 times out the week and they would always want me to make Mexican food in the kitchen\, whether it was burritos\, tacos or nachos . I love creating dishes that would add to our game night and bring joy and great memories. I wanted to bring that same energy and experience to the East Coast\, my favorite dish to prepare for is our Jac a Tac tacos and veggie dilla (quesadilla) we know that this experience will bring excitement to everyone taste buds\, we’re excited for you guys to enjoy! All of our veggies are local and fresh and our salsa are made in house. We feel that the local ingredients bring a amazing taste and livelinesses to our menu.
URL:https://loneoakbrewingco.com/event/food-truck-the-vurrito-spot-2/
LOCATION:Lone Oak Brewery\, 5000 Olney Laytonsville Rd\, Olney\, MD\, 20832\, United States
CATEGORIES:Food Truck
ATTACH;FMTTYPE=image/png:https://loneoakbrewingco.com/wp-content/uploads/2023/05/Screenshot-2023-05-03-at-8.10.39-PM.png
END:VEVENT
BEGIN:VEVENT
DTSTART;TZID=UTC:20230826T140000
DTEND;TZID=UTC:20230826T170000
DTSTAMP:20260422T183807
CREATED:20230429T040407Z
LAST-MODIFIED:20230429T040407Z
UID:3090-1693058400-1693069200@loneoakbrewingco.com
SUMMARY:LIVE MUSIC - NOAH BOOZ
DESCRIPTION:
URL:https://loneoakbrewingco.com/event/live-music-noah-booz-2/
LOCATION:Lone Oak Brewery\, 5000 Olney Laytonsville Rd\, Olney\, MD\, 20832\, United States
CATEGORIES:Live Music
ATTACH;FMTTYPE=image/png:https://loneoakbrewingco.com/wp-content/uploads/2022/10/Screen-Shot-2022-10-14-at-7.11.50-PM-e1665789147651.png
END:VEVENT
BEGIN:VEVENT
DTSTART;TZID=UTC:20230827T110000
DTEND;TZID=UTC:20230827T130000
DTSTAMP:20260422T183807
CREATED:20230814T215203Z
LAST-MODIFIED:20230814T215203Z
UID:3339-1693134000-1693141200@loneoakbrewingco.com
SUMMARY:CARS & CRAFT BREWS
DESCRIPTION:Looking for a unique way to spend a Sunday morning? Come join Lone Oak for a one-of-a-kind Cars & Craft Brews event! Bring any car to participate or just come to take in the beauty of unique and vintage cars. \nSee some cool cars and then drink a cool beer. No better way to spend the day! \nThere is no fee and any car can attend. Sign up here: https://www.cognitoforms.com/INEXConstructionInc/CARSNCRAFTREGISTRATION
URL:https://loneoakbrewingco.com/event/cars-craft-brews-2/
LOCATION:Lone Oak Brewery\, 5000 Olney Laytonsville Rd\, Olney\, MD\, 20832\, United States
ATTACH;FMTTYPE=image/png:https://loneoakbrewingco.com/wp-content/uploads/2023/08/Screenshot-2023-04-20-at-7.32.00-PM.png
END:VEVENT
BEGIN:VEVENT
DTSTART;TZID=UTC:20230902T120000
DTEND;TZID=UTC:20230902T200000
DTSTAMP:20260422T183807
CREATED:20230827T183430Z
LAST-MODIFIED:20230827T183430Z
UID:3357-1693656000-1693684800@loneoakbrewingco.com
SUMMARY:FOOD TRUCK- FLIPSIDE
DESCRIPTION:
URL:https://loneoakbrewingco.com/event/food-truck-flipside/
LOCATION:Lone Oak Brewery\, 5000 Olney Laytonsville Rd\, Olney\, MD\, 20832\, United States
CATEGORIES:Food Truck
ATTACH;FMTTYPE=image/jpeg:https://loneoakbrewingco.com/wp-content/uploads/2023/08/Capture-23.jpg
END:VEVENT
BEGIN:VEVENT
DTSTART;TZID=UTC:20230902T140000
DTEND;TZID=UTC:20230902T170000
DTSTAMP:20260422T183807
CREATED:20230429T042809Z
LAST-MODIFIED:20230429T195549Z
UID:3093-1693663200-1693674000@loneoakbrewingco.com
SUMMARY:LIVE MUSIC - JOHN DECESARE
DESCRIPTION:
URL:https://loneoakbrewingco.com/event/live-music-john-decesare-5/
LOCATION:Lone Oak Brewery\, 5000 Olney Laytonsville Rd\, Olney\, MD\, 20832\, United States
CATEGORIES:Live Music
ATTACH;FMTTYPE=image/png:https://loneoakbrewingco.com/wp-content/uploads/2023/04/Screen-Shot-2022-10-19-at-2.34.57-PM.png
END:VEVENT
BEGIN:VEVENT
DTSTART;TZID=UTC:20230903T120000
DTEND;TZID=UTC:20230903T200000
DTSTAMP:20260422T183807
CREATED:20230827T183549Z
LAST-MODIFIED:20230827T183807Z
UID:3360-1693742400-1693771200@loneoakbrewingco.com
SUMMARY:FOOD TRUCK- SALAT
DESCRIPTION:
URL:https://loneoakbrewingco.com/event/food-truck-salat-2/
LOCATION:Lone Oak Brewery\, 5000 Olney Laytonsville Rd\, Olney\, MD\, 20832\, United States
CATEGORIES:Food Truck
ATTACH;FMTTYPE=image/png:https://loneoakbrewingco.com/wp-content/uploads/2023/08/Unknown.png
END:VEVENT
BEGIN:VEVENT
DTSTART;TZID=UTC:20230903T140000
DTEND;TZID=UTC:20230903T170000
DTSTAMP:20260422T183807
CREATED:20230827T185212Z
LAST-MODIFIED:20230827T185235Z
UID:3379-1693749600-1693760400@loneoakbrewingco.com
SUMMARY:LIVE MUSIC- DREW CLINE
DESCRIPTION:“I’m a musician from Howard County\, MD\, and I started playing guitar and singing in fourth grade. I’ve been booking shows at restaurants and bars locally since I was 13 years old and plan to study music production in college. I write my own music and play a mix of pop\, country\, and rock covers. Excited for the opportunity to bring drewclinemusic.com to Lone Oak!”
URL:https://loneoakbrewingco.com/event/live-music-drew-cline-3/
LOCATION:Lone Oak Brewery\, 5000 Olney Laytonsville Rd\, Olney\, MD\, 20832\, United States
CATEGORIES:Live Music
ATTACH;FMTTYPE=image/png:https://loneoakbrewingco.com/wp-content/uploads/2023/08/Screenshot-2023-02-17-at-2.45.29-PM-e1676665711390.png
END:VEVENT
BEGIN:VEVENT
DTSTART;TZID=UTC:20230909T120000
DTEND;TZID=UTC:20230909T200000
DTSTAMP:20260422T183807
CREATED:20230827T183918Z
LAST-MODIFIED:20230827T183930Z
UID:3363-1694260800-1694289600@loneoakbrewingco.com
SUMMARY:FOOD TRUCK- KICK'N FLAVORR
DESCRIPTION:
URL:https://loneoakbrewingco.com/event/food-truck-kickn-flavorr/
LOCATION:Lone Oak Brewery\, 5000 Olney Laytonsville Rd\, Olney\, MD\, 20832\, United States
CATEGORIES:Food Truck
ATTACH;FMTTYPE=image/png:https://loneoakbrewingco.com/wp-content/uploads/2023/08/Screen-Shot-2023-08-27-at-10.37.26-AM.png
END:VEVENT
BEGIN:VEVENT
DTSTART;TZID=UTC:20230909T140000
DTEND;TZID=UTC:20230909T170000
DTSTAMP:20260422T183807
CREATED:20230429T043410Z
LAST-MODIFIED:20230429T043410Z
UID:3095-1694268000-1694278800@loneoakbrewingco.com
SUMMARY:LIVE MUSIC - TUCK & FRIENDS
DESCRIPTION:Tuck & Friends is the musical vision of singer-songwriter Tucker Davey. Growing up on seven acres in northern Connecticut\, Tuck began playing classical guitar at age six and began writing his own music in college. He now has two published EPs titled Elephant Room (2021) and The Wild Fall (2022)\, where the top song “Dawning on Me” has over 200K listens on Spotify. In each live performance\, Tuck aims to find a unique balance of upbeat sunny music and introspective lyrical journeys. With roots steeped in the likes of James Taylor\, Joni Mitchell\, Dave Matthews\, and the Grateful Dead\, his music is best enjoyed out in the sun with friends or alone in a hammock. Tuck now lives in Brooklyn\, New York after traveling the country as a street musician. His favorite song to perform is an unreleased single titled\, “The Grieving Man.”
URL:https://loneoakbrewingco.com/event/live-music-tuck-friends/
LOCATION:Lone Oak Brewery\, 5000 Olney Laytonsville Rd\, Olney\, MD\, 20832\, United States
CATEGORIES:Live Music
ATTACH;FMTTYPE=image/tiff:https://loneoakbrewingco.com/wp-content/uploads/2023/04/Pasted-Graphic-1.tiff
END:VEVENT
BEGIN:VEVENT
DTSTART;TZID=UTC:20230910T120000
DTEND;TZID=UTC:20230910T200000
DTSTAMP:20260422T183807
CREATED:20230827T184141Z
LAST-MODIFIED:20230827T184141Z
UID:3366-1694347200-1694376000@loneoakbrewingco.com
SUMMARY:FOOD TRUCK- DINER ON THE GO
DESCRIPTION:
URL:https://loneoakbrewingco.com/event/food-truck-diner-on-the-go-4/
LOCATION:Lone Oak Brewery\, 5000 Olney Laytonsville Rd\, Olney\, MD\, 20832\, United States
CATEGORIES:Food Truck
ATTACH;FMTTYPE=image/jpeg:https://loneoakbrewingco.com/wp-content/uploads/2023/08/Unknown.jpeg
END:VEVENT
BEGIN:VEVENT
DTSTART;TZID=UTC:20230910T140000
DTEND;TZID=UTC:20230910T170000
DTSTAMP:20260422T183807
CREATED:20230827T185431Z
LAST-MODIFIED:20230907T020515Z
UID:3384-1694354400-1694365200@loneoakbrewingco.com
SUMMARY:LIVE MUSIC- DREW CLINE
DESCRIPTION:“I’m a musician from Howard County\, MD\, and I started playing guitar and singing in fourth grade. I’ve been booking shows at restaurants and bars locally since I was 13 years old and plan to study music production in college. I write my own music and play a mix of pop\, country\, and rock covers. Excited for the opportunity to bring drewclinemusic.com to Lone Oak!”
URL:https://loneoakbrewingco.com/event/live-music-empty-ectasy/
LOCATION:Lone Oak Brewery\, 5000 Olney Laytonsville Rd\, Olney\, MD\, 20832\, United States
CATEGORIES:Live Music
ATTACH;FMTTYPE=image/png:https://loneoakbrewingco.com/wp-content/uploads/2023/08/Screenshot-2023-02-17-at-2.45.29-PM-e1676665711390.png
END:VEVENT
BEGIN:VEVENT
DTSTART;TZID=UTC:20230916T080000
DTEND;TZID=UTC:20230916T170000
DTSTAMP:20260422T183807
CREATED:20230827T184727Z
LAST-MODIFIED:20230827T190534Z
UID:3377-1694851200-1694883600@loneoakbrewingco.com
SUMMARY:FOOD TRUCK- MARIA'S KITCHEN
DESCRIPTION:
URL:https://loneoakbrewingco.com/event/food-truck-marias-kitchen-4/
LOCATION:Lone Oak Brewery\, 5000 Olney Laytonsville Rd\, Olney\, MD\, 20832\, United States
CATEGORIES:Food Truck
ATTACH;FMTTYPE=image/png:https://loneoakbrewingco.com/wp-content/uploads/2023/08/Screenshot-2023-03-17-at-9.25.03-PM.png
END:VEVENT
BEGIN:VEVENT
DTSTART;TZID=UTC:20230916T140000
DTEND;TZID=UTC:20230916T170000
DTSTAMP:20260422T183807
CREATED:20230429T044228Z
LAST-MODIFIED:20230429T044323Z
UID:3098-1694872800-1694883600@loneoakbrewingco.com
SUMMARY:LIVE MUSIC - EMPTY ECSTASY
DESCRIPTION:
URL:https://loneoakbrewingco.com/event/live-music-empty-ecstasy-2/
LOCATION:Lone Oak Brewery\, 5000 Olney Laytonsville Rd\, Olney\, MD\, 20832\, United States
CATEGORIES:Live Music
ATTACH;FMTTYPE=image/png:https://loneoakbrewingco.com/wp-content/uploads/2023/02/Screenshot-2023-02-08-at-4.37.51-PM.png
END:VEVENT
BEGIN:VEVENT
DTSTART;TZID=UTC:20230917T120000
DTEND;TZID=UTC:20230917T200000
DTSTAMP:20260422T183807
CREATED:20230827T193449Z
LAST-MODIFIED:20230827T193643Z
UID:3433-1694952000-1694980800@loneoakbrewingco.com
SUMMARY:FOOD TRUCK- MAYTAS PERUVIAN CUISINE
DESCRIPTION:
URL:https://loneoakbrewingco.com/event/food-truck-maytas-peruvian-cuisine/
LOCATION:Lone Oak Brewery\, 5000 Olney Laytonsville Rd\, Olney\, MD\, 20832\, United States
CATEGORIES:Food Truck
ATTACH;FMTTYPE=image/png:https://loneoakbrewingco.com/wp-content/uploads/2023/08/w2K9ce8Utq.png
END:VEVENT
BEGIN:VEVENT
DTSTART;TZID=UTC:20230917T140000
DTEND;TZID=UTC:20230917T170000
DTSTAMP:20260422T183807
CREATED:20230827T185820Z
LAST-MODIFIED:20230827T185848Z
UID:3387-1694959200-1694970000@loneoakbrewingco.com
SUMMARY:LIVE MUSIC- NOAH BOOZ
DESCRIPTION:Noah Booz is a multi-talented musician with a passion for creating and performing music. His journey with music began in his childhood\, playing with friends and family in his hometown of Brookeville\, Maryland. In the early 2010s his band won The Next Big Thing Battle of the Band at the 9:30 Club\, released two albums and performed an East Coast tour. \nNoah’s love for music led him to pursue a Bachelor’s degree in music from the University of Maryland\, where he honed his skills as a musician and performer. After graduating\, he played regularly with a jazz trio and hosted house show performances in the DIY music scene. In 2018\, he took his talent to Los Angeles\, where he worked as a professional musician. His skills and passion for music opened doors to travel and perform across the nation. \nNoah’s dedication to music extends beyond performing. He has been teaching music for over a decade\, sharing his knowledge and expertise with aspiring musicians. His teaching style is engaging and supportive\, creating a positive learning environment for his students. \nNoah returned to Maryland in 2022 and performs solo regularly. His passion for music is contagious\, and he continues to inspire and encourage others to pursue their dreams in music. Whether he’s performing on stage\, teaching a lesson\, or collaborating with other musicians\, Noah is a creative musician who is dedicated to the art of music.
URL:https://loneoakbrewingco.com/event/live-music-noah-booz-4/
LOCATION:Lone Oak Brewery\, 5000 Olney Laytonsville Rd\, Olney\, MD\, 20832\, United States
CATEGORIES:Live Music
ATTACH;FMTTYPE=image/png:https://loneoakbrewingco.com/wp-content/uploads/2023/08/Screen-Shot-2022-10-14-at-7.11.50-PM-e1665789147651.png
END:VEVENT
BEGIN:VEVENT
DTSTART;TZID=UTC:20230923T120000
DTEND;TZID=UTC:20230923T200000
DTSTAMP:20260422T183807
CREATED:20230827T184346Z
LAST-MODIFIED:20230827T184346Z
UID:3369-1695470400-1695499200@loneoakbrewingco.com
SUMMARY:FOOD TRUCK- PAELLA AND TAPAS
DESCRIPTION:
URL:https://loneoakbrewingco.com/event/food-truck-paella-and-tapas-6/
LOCATION:Lone Oak Brewery\, 5000 Olney Laytonsville Rd\, Olney\, MD\, 20832\, United States
CATEGORIES:Food Truck
ATTACH;FMTTYPE=image/jpeg:https://loneoakbrewingco.com/wp-content/uploads/2023/08/348s.jpg
END:VEVENT
BEGIN:VEVENT
DTSTART;TZID=UTC:20230923T140000
DTEND;TZID=UTC:20230923T170000
DTSTAMP:20260422T183807
CREATED:20230429T033458Z
LAST-MODIFIED:20230429T033458Z
UID:3087-1695477600-1695488400@loneoakbrewingco.com
SUMMARY:LIVE MUSIC - MICHAEL HEISTER
DESCRIPTION:My name is Michael Heister\, and I am a 21-year-old acoustic guitarist and vocalist from Frederick\, Maryland. I’ve always had a love for music\, whether it was singing along to Tom Petty songs\, dancing to Michael Jackson songs\, or falling asleep to Sade songs. I enjoy playing a variety of musical styles\, including but not limited to pop\, rock\, R&B\, and country. My favorite part about being a local musician is that it gives my family and friends a chance to connect and socialize\, and it gives me the opportunity to meet new people.
URL:https://loneoakbrewingco.com/event/live-music-michael-heister-7/
LOCATION:Lone Oak Brewery\, 5000 Olney Laytonsville Rd\, Olney\, MD\, 20832\, United States
CATEGORIES:Live Music
ATTACH;FMTTYPE=image/png:https://loneoakbrewingco.com/wp-content/uploads/2022/05/Screen-Shot-2022-05-26-at-7.40.43-PM-e1653768867364.png
END:VEVENT
BEGIN:VEVENT
DTSTART;TZID=UTC:20230924T120000
DTEND;TZID=UTC:20230924T200000
DTSTAMP:20260422T183807
CREATED:20230827T184455Z
LAST-MODIFIED:20230827T184455Z
UID:3372-1695556800-1695585600@loneoakbrewingco.com
SUMMARY:FOOD TRUCK- DM SLIDERS
DESCRIPTION:
URL:https://loneoakbrewingco.com/event/food-truck-dm-sliders-2/
LOCATION:Lone Oak Brewery\, 5000 Olney Laytonsville Rd\, Olney\, MD\, 20832\, United States
CATEGORIES:Food Truck
ATTACH;FMTTYPE=image/png:https://loneoakbrewingco.com/wp-content/uploads/2023/05/Screenshot-2023-05-25-at-3.02.27-PM.png
END:VEVENT
BEGIN:VEVENT
DTSTART;TZID=UTC:20230924T140000
DTEND;TZID=UTC:20230924T170000
DTSTAMP:20260422T183807
CREATED:20230827T185322Z
LAST-MODIFIED:20230827T185322Z
UID:3382-1695564000-1695574800@loneoakbrewingco.com
SUMMARY:LIVE MUSIC- DREW CLINE
DESCRIPTION:“I’m a musician from Howard County\, MD\, and I started playing guitar and singing in fourth grade. I’ve been booking shows at restaurants and bars locally since I was 13 years old and plan to study music production in college. I write my own music and play a mix of pop\, country\, and rock covers. Excited for the opportunity to bring drewclinemusic.com to Lone Oak!”
URL:https://loneoakbrewingco.com/event/live-music-drew-cline-4/
LOCATION:Lone Oak Brewery\, 5000 Olney Laytonsville Rd\, Olney\, MD\, 20832\, United States
CATEGORIES:Live Music
ATTACH;FMTTYPE=image/png:https://loneoakbrewingco.com/wp-content/uploads/2023/08/Screenshot-2023-02-17-at-2.45.29-PM-e1676665711390.png
END:VEVENT
BEGIN:VEVENT
DTSTART;TZID=UTC:20230928T190000
DTEND;TZID=UTC:20230928T210000
DTSTAMP:20260422T183807
CREATED:20230915T223722Z
LAST-MODIFIED:20230915T223722Z
UID:3447-1695927600-1695934800@loneoakbrewingco.com
SUMMARY:Comedy Show
DESCRIPTION:As seen on NBC\, CBS\, and performing live with comedy legends Jimmy Fallon\, Kevin Hart\, and Dave Chappelle\, don’t miss a special live stand up show featuring nationally touring comedian Lucas Bohn. His first stand up album went viral with more than 50 million views\, can be heard regularly on Spotify\, SiriusXM\, Pandora\, and Apple Music. \nHis high energy show has been called “Jeff Foxworthy on speed” by the Las Vegas Review and a “Comedic Masterpiece” by Parade Magazine. He is regularly ranked as one of the top global performers for Carnival and Royal Caribbean cruise line and has performed at military bases across the US in support of our active duty servicemembers. \nThis is a special multi-media based show where Lucas takes you on a tour from his time as a teacher to national comedian and highlights some of the funniest things kids said while an Elementary school teacher. \nAll TEACHERS-25% OFF USING CODE “teach” \nCome prepared to laugh\, drink and hear a unique comedy show! \nSeating is limited\, so don’t miss out and get your tickets quickly! \nTickets are only $23 per person & tables of 6 are $125!
URL:https://loneoakbrewingco.com/event/comedy-show/
LOCATION:Lone Oak Brewery\, 5000 Olney Laytonsville Rd\, Olney\, MD\, 20832\, United States
CATEGORIES:Ticketed Event
ATTACH;FMTTYPE=image/png:https://loneoakbrewingco.com/wp-content/uploads/2023/09/Lucas-Lessons-to-Late-Night-social-graphic.png
END:VEVENT
BEGIN:VEVENT
DTSTART;TZID=UTC:20230930T120000
DTEND;TZID=UTC:20230930T200000
DTSTAMP:20260422T183807
CREATED:20230827T184647Z
LAST-MODIFIED:20230907T020740Z
UID:3374-1696075200-1696104000@loneoakbrewingco.com
SUMMARY:FOOD TRUCK- FLIPSIDE
DESCRIPTION:
URL:https://loneoakbrewingco.com/event/food-truck-marias-kitchen-3/
LOCATION:Lone Oak Brewery\, 5000 Olney Laytonsville Rd\, Olney\, MD\, 20832\, United States
CATEGORIES:Food Truck
ATTACH;FMTTYPE=image/jpeg:https://loneoakbrewingco.com/wp-content/uploads/2023/08/Capture-23.jpg
END:VEVENT
BEGIN:VEVENT
DTSTART;TZID=UTC:20230930T140000
DTEND;TZID=UTC:20230930T170000
DTSTAMP:20260422T183807
CREATED:20230429T050751Z
LAST-MODIFIED:20230429T050751Z
UID:3100-1696082400-1696093200@loneoakbrewingco.com
SUMMARY:LIVE MUSIC - SIMBA SIMMS
DESCRIPTION:
URL:https://loneoakbrewingco.com/event/live-music-simba-simms/
LOCATION:Lone Oak Brewery\, 5000 Olney Laytonsville Rd\, Olney\, MD\, 20832\, United States
CATEGORIES:Live Music
ATTACH;FMTTYPE=image/png:https://loneoakbrewingco.com/wp-content/uploads/2022/04/login.png
END:VEVENT
END:VCALENDAR