BEGIN:VCALENDAR
VERSION:2.0
PRODID:-//Lone Oak Brewing Co. - ECPv6.15.20//NONSGML v1.0//EN
CALSCALE:GREGORIAN
METHOD:PUBLISH
X-ORIGINAL-URL:https://loneoakbrewingco.com
X-WR-CALDESC:Events for Lone Oak Brewing Co.
REFRESH-INTERVAL;VALUE=DURATION:PT1H
X-Robots-Tag:noindex
X-PUBLISHED-TTL:PT1H
BEGIN:VTIMEZONE
TZID:America/New_York
BEGIN:DAYLIGHT
TZOFFSETFROM:-0500
TZOFFSETTO:-0400
TZNAME:EDT
DTSTART:20250309T070000
END:DAYLIGHT
BEGIN:STANDARD
TZOFFSETFROM:-0400
TZOFFSETTO:-0500
TZNAME:EST
DTSTART:20251102T060000
END:STANDARD
BEGIN:DAYLIGHT
TZOFFSETFROM:-0500
TZOFFSETTO:-0400
TZNAME:EDT
DTSTART:20260308T070000
END:DAYLIGHT
BEGIN:STANDARD
TZOFFSETFROM:-0400
TZOFFSETTO:-0500
TZNAME:EST
DTSTART:20261101T060000
END:STANDARD
BEGIN:DAYLIGHT
TZOFFSETFROM:-0500
TZOFFSETTO:-0400
TZNAME:EDT
DTSTART:20270314T070000
END:DAYLIGHT
BEGIN:STANDARD
TZOFFSETFROM:-0400
TZOFFSETTO:-0500
TZNAME:EST
DTSTART:20271107T060000
END:STANDARD
END:VTIMEZONE
BEGIN:VEVENT
DTSTART;VALUE=DATE:20260404
DTEND;VALUE=DATE:20260405
DTSTAMP:20260421T103702
CREATED:20260211T191730Z
LAST-MODIFIED:20260211T191730Z
UID:6088-1775260800-1775347199@loneoakbrewingco.com
SUMMARY:Food Truck - Square Taco
DESCRIPTION:
URL:https://loneoakbrewingco.com/event/food-truck-square-taco-9/
LOCATION:Lone Oak Brewery\, 5000 Olney Laytonsville Rd\, Olney\, MD\, 20832\, United States
ATTACH;FMTTYPE=image/webp:https://loneoakbrewingco.com/wp-content/uploads/2024/10/SQUARE-TACO.webp
END:VEVENT
BEGIN:VEVENT
DTSTART;TZID=America/New_York:20260404T140000
DTEND;TZID=America/New_York:20260404T170000
DTSTAMP:20260421T103702
CREATED:20260218T200825Z
LAST-MODIFIED:20260218T200825Z
UID:6127-1775311200-1775322000@loneoakbrewingco.com
SUMMARY:Music - Briana Merkel
DESCRIPTION:Briana Merkel is a singer songwriter born and raised in the mountains of Cumberland Maryland.   She grew up listening to the pop and rock music her parents enjoyed\, and discovered grunge and alternative rock in her early teens\, which inspired her to pick up a guitar.   Later on\, she came to develop a love for bluegrass\, and all those elements would blend together creating her own unique acoustic style.
URL:https://loneoakbrewingco.com/event/music-briana-merkel/
LOCATION:Lone Oak Brewery\, 5000 Olney Laytonsville Rd\, Olney\, MD\, 20832\, United States
ATTACH;FMTTYPE=image/jpeg:https://loneoakbrewingco.com/wp-content/uploads/2024/12/BrianaMerkel.jpeg
END:VEVENT
BEGIN:VEVENT
DTSTART;VALUE=DATE:20260405
DTEND;VALUE=DATE:20260406
DTSTAMP:20260421T103702
CREATED:20260211T191832Z
LAST-MODIFIED:20260211T191832Z
UID:6090-1775347200-1775433599@loneoakbrewingco.com
SUMMARY:Food Truck - Gauchito Steaks
DESCRIPTION:
URL:https://loneoakbrewingco.com/event/food-truck-gauchito-steaks-4/
LOCATION:Lone Oak Brewery\, 5000 Olney Laytonsville Rd\, Olney\, MD\, 20832\, United States
ATTACH;FMTTYPE=image/jpeg:https://loneoakbrewingco.com/wp-content/uploads/2025/06/gauchito.jpeg
END:VEVENT
BEGIN:VEVENT
DTSTART;TZID=America/New_York:20260405T140000
DTEND;TZID=America/New_York:20260405T170000
DTSTAMP:20260421T103702
CREATED:20260218T200942Z
LAST-MODIFIED:20260218T200942Z
UID:6129-1775397600-1775408400@loneoakbrewingco.com
SUMMARY:Music - Deb and Gary
DESCRIPTION:Gary Maragos grew up in Maryland\, and while he hasn’t lived in Olney since he was a kid\, he remains loyal to the burgundy and gold.  His love for music started with The Beatles and The Kinks\, and he counts Squeeze\, Elvis Costello\, Jellyfish\, and Matthew Sweet among influences on his original music recorded by his band Rocket Transfer Warehouse.  Deb Sward grew up on classic rock and grunge music. One of her earliest inspirations to pick up guitar was Nancy Wilson of Heart.  Deb and Gary met at work and first performed music together in 2011 at an office holiday party. Soon after\, they began playing at a variety of venues –including wineries\, cafes\, private parties\, clubs\, and bars — and eventually struck upon the name “Deb and Gary” for their new alliance. The duo is known for textured vocal harmonies and complementary guitar playing styles\, and audiences have appreciated their unique set lists and musical arrangements. Deb and Gary’s favorite songs to play are ones such as Pink Floyd’s “Brain Damage/Eclipse” that might surprise the audience with something not usually played by an acoustic duo.
URL:https://loneoakbrewingco.com/event/music-deb-and-gary/
LOCATION:Lone Oak Brewery\, 5000 Olney Laytonsville Rd\, Olney\, MD\, 20832\, United States
ATTACH;FMTTYPE=image/jpeg:https://loneoakbrewingco.com/wp-content/uploads/2024/12/DebAndGary.jpeg
END:VEVENT
BEGIN:VEVENT
DTSTART;TZID=America/New_York:20260405T183000
DTEND;TZID=America/New_York:20260405T210000
DTSTAMP:20260421T103702
CREATED:20260204T194232Z
LAST-MODIFIED:20260227T164028Z
UID:6054-1775413800-1775422800@loneoakbrewingco.com
SUMMARY:Speakeasy Closed for Private Event
DESCRIPTION:
URL:https://loneoakbrewingco.com/event/speakeasy-closed-for-private-event-3/
LOCATION:Fallen Oak Distilling\, 5000 Olney Laytonsville Rd\, Olney\, MD\, 20832\, United States
CATEGORIES:Private Event
ATTACH;FMTTYPE=image/jpeg:https://loneoakbrewingco.com/wp-content/uploads/2023/06/Fallen-Oak-Logo.jpg
END:VEVENT
BEGIN:VEVENT
DTSTART;TZID=America/New_York:20260408T170000
DTEND;TZID=America/New_York:20260408T200000
DTSTAMP:20260421T103702
CREATED:20260211T181543Z
LAST-MODIFIED:20260211T181543Z
UID:6064-1775667600-1775678400@loneoakbrewingco.com
SUMMARY:NonProfit Night
DESCRIPTION:Come support 3 nonprofits at Lone Oak Farm!
URL:https://loneoakbrewingco.com/event/nonprofit-night-3/
LOCATION:Lone Oak Brewery\, 5000 Olney Laytonsville Rd\, Olney\, MD\, 20832\, United States
CATEGORIES:Fundraiser
ATTACH;FMTTYPE=image/png:https://loneoakbrewingco.com/wp-content/uploads/2025/11/LOF-Logo.png
END:VEVENT
BEGIN:VEVENT
DTSTART;VALUE=DATE:20260409
DTEND;VALUE=DATE:20260410
DTSTAMP:20260421T103702
CREATED:20260408T194151Z
LAST-MODIFIED:20260408T194151Z
UID:6285-1775692800-1775779199@loneoakbrewingco.com
SUMMARY:Proof 86 Thursday
DESCRIPTION:Proof 86 Members – Exciting News!We’re introducing Proof 86 Thursdays! 🎉 \nStop by Fallen Oak Distilling any Thursday and enjoy 20% off ALL drinks\, merchandise\, and bottles. \nDon’t miss out – make your Thursday the best day of the week! 🥃
URL:https://loneoakbrewingco.com/event/proof-86-thursday/
LOCATION:Fallen Oak Distilling\, 5000 Olney Laytonsville Rd\, Olney\, MD\, 20832\, United States
ATTACH;FMTTYPE=image/jpeg:https://loneoakbrewingco.com/wp-content/uploads/2023/06/Fallen-Oak-Logo.jpg
END:VEVENT
BEGIN:VEVENT
DTSTART;TZID=America/New_York:20260409T180000
DTEND;TZID=America/New_York:20260409T200000
DTSTAMP:20260421T103702
CREATED:20260211T181144Z
LAST-MODIFIED:20260211T181331Z
UID:6058-1775757600-1775764800@loneoakbrewingco.com
SUMMARY:Trivia Thursday
DESCRIPTION:
URL:https://loneoakbrewingco.com/event/trivia-thursday-19/
LOCATION:Lone Oak Brewery\, 5000 Olney Laytonsville Rd\, Olney\, MD\, 20832\, United States
CATEGORIES:Trivia
ATTACH;FMTTYPE=image/jpeg:https://loneoakbrewingco.com/wp-content/uploads/2023/08/pourhousetrivia-1.jpg
END:VEVENT
BEGIN:VEVENT
DTSTART;TZID=America/New_York:20260409T180000
DTEND;TZID=America/New_York:20260409T200000
DTSTAMP:20260421T103702
CREATED:20260211T181301Z
LAST-MODIFIED:20260211T181301Z
UID:6062-1775757600-1775764800@loneoakbrewingco.com
SUMMARY:Happy Hour
DESCRIPTION:
URL:https://loneoakbrewingco.com/event/happy-hour-14/
LOCATION:Lone Oak Brewery\, 5000 Olney Laytonsville Rd\, Olney\, MD\, 20832\, United States
CATEGORIES:Happy Hour
ATTACH;FMTTYPE=image/png:https://loneoakbrewingco.com/wp-content/uploads/2025/11/Thursday.png
END:VEVENT
BEGIN:VEVENT
DTSTART;VALUE=DATE:20260411
DTEND;VALUE=DATE:20260412
DTSTAMP:20260421T103702
CREATED:20260211T192020Z
LAST-MODIFIED:20260211T192020Z
UID:6092-1775865600-1775951999@loneoakbrewingco.com
SUMMARY:Food Truck - Jimmy's Famous Seafood
DESCRIPTION:
URL:https://loneoakbrewingco.com/event/food-truck-jimmys-famous-seafood-6/
LOCATION:Lone Oak Brewery\, 5000 Olney Laytonsville Rd\, Olney\, MD\, 20832\, United States
ATTACH;FMTTYPE=image/jpeg:https://loneoakbrewingco.com/wp-content/uploads/2025/11/download.jpg
END:VEVENT
BEGIN:VEVENT
DTSTART;VALUE=DATE:20260412
DTEND;VALUE=DATE:20260413
DTSTAMP:20260421T103702
CREATED:20260211T192116Z
LAST-MODIFIED:20260211T192116Z
UID:6094-1775952000-1776038399@loneoakbrewingco.com
SUMMARY:Food Truck - Cousins Maine Lobster
DESCRIPTION:
URL:https://loneoakbrewingco.com/event/food-truck-cousins-maine-lobster-2/
LOCATION:Lone Oak Brewery\, 5000 Olney Laytonsville Rd\, Olney\, MD\, 20832\, United States
ATTACH;FMTTYPE=image/webp:https://loneoakbrewingco.com/wp-content/uploads/2026/02/Cousins-Maine-Lobster.webp
END:VEVENT
BEGIN:VEVENT
DTSTART;TZID=America/New_York:20260412T140000
DTEND;TZID=America/New_York:20260412T170000
DTSTAMP:20260421T103702
CREATED:20260218T201241Z
LAST-MODIFIED:20260218T201241Z
UID:6133-1776002400-1776013200@loneoakbrewingco.com
SUMMARY:Music - One Step Down
DESCRIPTION:
URL:https://loneoakbrewingco.com/event/music-one-step-down/
LOCATION:Lone Oak Brewery\, 5000 Olney Laytonsville Rd\, Olney\, MD\, 20832\, United States
ATTACH;FMTTYPE=image/png:https://loneoakbrewingco.com/wp-content/uploads/2022/04/cropped-login.png
END:VEVENT
BEGIN:VEVENT
DTSTART;TZID=America/New_York:20260412T160000
DTEND;TZID=America/New_York:20260412T200000
DTSTAMP:20260421T103702
CREATED:20260211T181700Z
LAST-MODIFIED:20260211T181700Z
UID:6067-1776009600-1776024000@loneoakbrewingco.com
SUMMARY:Cheers to Charity!
DESCRIPTION:Come support 2 nonprofits at Fallen Oak Distilling!
URL:https://loneoakbrewingco.com/event/cheers-to-charity-5/
LOCATION:Fallen Oak Distilling\, 5000 Olney Laytonsville Rd\, Olney\, MD\, 20832\, United States
CATEGORIES:Fundraiser
ATTACH;FMTTYPE=image/jpeg:https://loneoakbrewingco.com/wp-content/uploads/2023/06/Fallen-Oak-Logo.jpg
END:VEVENT
BEGIN:VEVENT
DTSTART;VALUE=DATE:20260416
DTEND;VALUE=DATE:20260417
DTSTAMP:20260421T103702
CREATED:20260408T194410Z
LAST-MODIFIED:20260408T194410Z
UID:6287-1776297600-1776383999@loneoakbrewingco.com
SUMMARY:Proof 86 Thursday
DESCRIPTION:Proof 86 Thursdays!  \nStop by Fallen Oak Distilling any Thursday and enjoy 20% off ALL drinks\, merchandise\, and bottles. \nDon’t miss out – make your Thursday the best day of the week! 
URL:https://loneoakbrewingco.com/event/proof-86-thursday-2/
LOCATION:Fallen Oak Distilling\, 5000 Olney Laytonsville Rd\, Olney\, MD\, 20832\, United States
ATTACH;FMTTYPE=image/jpeg:https://loneoakbrewingco.com/wp-content/uploads/2023/06/Fallen-Oak-Logo.jpg
END:VEVENT
BEGIN:VEVENT
DTSTART;TZID=America/New_York:20260416T180000
DTEND;TZID=America/New_York:20260416T200000
DTSTAMP:20260421T103702
CREATED:20260218T175813Z
LAST-MODIFIED:20260218T175813Z
UID:6109-1776362400-1776369600@loneoakbrewingco.com
SUMMARY:Trivia Thursday
DESCRIPTION:
URL:https://loneoakbrewingco.com/event/trivia-thursday-20/
LOCATION:Lone Oak Brewery\, 5000 Olney Laytonsville Rd\, Olney\, MD\, 20832\, United States
ATTACH;FMTTYPE=image/jpeg:https://loneoakbrewingco.com/wp-content/uploads/2023/08/pourhousetrivia-1.jpg
END:VEVENT
BEGIN:VEVENT
DTSTART;TZID=America/New_York:20260416T180000
DTEND;TZID=America/New_York:20260416T200000
DTSTAMP:20260421T103702
CREATED:20260218T175907Z
LAST-MODIFIED:20260218T175907Z
UID:6111-1776362400-1776369600@loneoakbrewingco.com
SUMMARY:Happy Hour
DESCRIPTION:
URL:https://loneoakbrewingco.com/event/happy-hour-15/
LOCATION:Lone Oak Brewery\, 5000 Olney Laytonsville Rd\, Olney\, MD\, 20832\, United States
ATTACH;FMTTYPE=image/png:https://loneoakbrewingco.com/wp-content/uploads/2025/11/Thursday.png
END:VEVENT
BEGIN:VEVENT
DTSTART;VALUE=DATE:20260418
DTEND;VALUE=DATE:20260419
DTSTAMP:20260421T103702
CREATED:20260218T175610Z
LAST-MODIFIED:20260218T175610Z
UID:6105-1776470400-1776470400@loneoakbrewingco.com
SUMMARY:Food Truck - Grubbing Hard
DESCRIPTION:
URL:https://loneoakbrewingco.com/event/food-truck-grubbing-hard-24/
LOCATION:Lone Oak Brewery\, 5000 Olney Laytonsville Rd\, Olney\, MD\, 20832\, United States
ATTACH;FMTTYPE=image/jpeg:https://loneoakbrewingco.com/wp-content/uploads/2023/08/grubbin-hard.jpeg
END:VEVENT
BEGIN:VEVENT
DTSTART;TZID=America/New_York:20260418T140000
DTEND;TZID=America/New_York:20260418T170000
DTSTAMP:20260421T103702
CREATED:20260218T201342Z
LAST-MODIFIED:20260218T201342Z
UID:6135-1776520800-1776531600@loneoakbrewingco.com
SUMMARY:Music - The Liquor Store Boys
DESCRIPTION:
URL:https://loneoakbrewingco.com/event/music-the-liquor-store-boys/
LOCATION:Lone Oak Brewery\, 5000 Olney Laytonsville Rd\, Olney\, MD\, 20832\, United States
ATTACH;FMTTYPE=image/png:https://loneoakbrewingco.com/wp-content/uploads/2022/04/cropped-login.png
END:VEVENT
BEGIN:VEVENT
DTSTART;VALUE=DATE:20260419
DTEND;VALUE=DATE:20260420
DTSTAMP:20260421T103702
CREATED:20260218T175703Z
LAST-MODIFIED:20260218T175703Z
UID:6107-1776556800-1776643199@loneoakbrewingco.com
SUMMARY:Food Truck - Palmetto Bay Cuisine
DESCRIPTION:
URL:https://loneoakbrewingco.com/event/food-truck-palmetto-bay-cuisine-2/
LOCATION:Lone Oak Brewery\, 5000 Olney Laytonsville Rd\, Olney\, MD\, 20832\, United States
ATTACH;FMTTYPE=image/jpeg:https://loneoakbrewingco.com/wp-content/uploads/2026/02/Palmetto-Bay-Cuisine.jpg
END:VEVENT
BEGIN:VEVENT
DTSTART;TZID=America/New_York:20260419T140000
DTEND;TZID=America/New_York:20260419T170000
DTSTAMP:20260421T103702
CREATED:20260218T201435Z
LAST-MODIFIED:20260218T201435Z
UID:6137-1776607200-1776618000@loneoakbrewingco.com
SUMMARY:Music - Eli Liv
DESCRIPTION:
URL:https://loneoakbrewingco.com/event/music-eli-liv-2/
LOCATION:Lone Oak Brewery\, 5000 Olney Laytonsville Rd\, Olney\, MD\, 20832\, United States
ATTACH;FMTTYPE=image/png:https://loneoakbrewingco.com/wp-content/uploads/2022/04/cropped-login.png
END:VEVENT
BEGIN:VEVENT
DTSTART;TZID=America/New_York:20260422T180000
DTEND;TZID=America/New_York:20260422T200000
DTSTAMP:20260421T103702
CREATED:20260225T193016Z
LAST-MODIFIED:20260225T193016Z
UID:6147-1776880800-1776888000@loneoakbrewingco.com
SUMMARY:Line Dancing!
DESCRIPTION:🤠 Line Dance at Lone Oak! \nGrab your boots and hit the floor at Lone Oak Farm Brewing Company for a fun-filled evening of line dancing in the pavilion! With instruction from Arielle Derecki\, you’ll learn the moves and dance the night away. \n📅 Wednesday\, April 22⏰ 6–8 PM \nNo partner needed—just bring your friends and your best moves! 🎶👢
URL:https://loneoakbrewingco.com/event/line-dancing-6/
LOCATION:Lone Oak Brewery\, 5000 Olney Laytonsville Rd\, Olney\, MD\, 20832\, United States
ATTACH;FMTTYPE=image/jpeg:https://loneoakbrewingco.com/wp-content/uploads/2026/02/6e80f826-584b-45ea-9185-c1043c826705.jpg
END:VEVENT
BEGIN:VEVENT
DTSTART;VALUE=DATE:20260423
DTEND;VALUE=DATE:20260424
DTSTAMP:20260421T103702
CREATED:20260408T194508Z
LAST-MODIFIED:20260408T194508Z
UID:6289-1776902400-1776988799@loneoakbrewingco.com
SUMMARY:Proof 86 Thursdays
DESCRIPTION:Proof 86 Thursdays!  \nStop by Fallen Oak Distilling any Thursday and enjoy 20% off ALL drinks\, merchandise\, and bottles. \nDon’t miss out – make your Thursday the best day of the week! 
URL:https://loneoakbrewingco.com/event/proof-86-thursdays/
LOCATION:Fallen Oak Distilling\, 5000 Olney Laytonsville Rd\, Olney\, MD\, 20832\, United States
ATTACH;FMTTYPE=image/jpeg:https://loneoakbrewingco.com/wp-content/uploads/2023/06/Fallen-Oak-Logo.jpg
END:VEVENT
BEGIN:VEVENT
DTSTART;TZID=America/New_York:20260423T180000
DTEND;TZID=America/New_York:20260423T200000
DTSTAMP:20260421T103702
CREATED:20260408T195352Z
LAST-MODIFIED:20260408T195352Z
UID:6305-1776967200-1776974400@loneoakbrewingco.com
SUMMARY:Happy Hour
DESCRIPTION:
URL:https://loneoakbrewingco.com/event/happy-hour-19/
LOCATION:Lone Oak Brewery\, 5000 Olney Laytonsville Rd\, Olney\, MD\, 20832\, United States
ATTACH;FMTTYPE=image/png:https://loneoakbrewingco.com/wp-content/uploads/2025/11/Thursday.png
END:VEVENT
BEGIN:VEVENT
DTSTART;TZID=America/New_York:20260423T180000
DTEND;TZID=America/New_York:20260423T200000
DTSTAMP:20260421T103702
CREATED:20260408T195609Z
LAST-MODIFIED:20260408T195609Z
UID:6311-1776967200-1776974400@loneoakbrewingco.com
SUMMARY:Trivia Thursday
DESCRIPTION:
URL:https://loneoakbrewingco.com/event/trivia-thursday-24/
LOCATION:Lone Oak Brewery\, 5000 Olney Laytonsville Rd\, Olney\, MD\, 20832\, United States
ATTACH;FMTTYPE=image/jpeg:https://loneoakbrewingco.com/wp-content/uploads/2023/08/pourhousetrivia-1.jpg
END:VEVENT
BEGIN:VEVENT
DTSTART;VALUE=DATE:20260425
DTEND;VALUE=DATE:20260426
DTSTAMP:20260421T103702
CREATED:20260225T193139Z
LAST-MODIFIED:20260225T193139Z
UID:6150-1777075200-1777161599@loneoakbrewingco.com
SUMMARY:Food Truck - BBQ and Tech
DESCRIPTION:
URL:https://loneoakbrewingco.com/event/food-truck-bbq-and-tech-8/
LOCATION:Lone Oak Brewery\, 5000 Olney Laytonsville Rd\, Olney\, MD\, 20832\, United States
ATTACH;FMTTYPE=image/jpeg:https://loneoakbrewingco.com/wp-content/uploads/2026/02/BBQ-and-Tech.jpg
END:VEVENT
BEGIN:VEVENT
DTSTART;TZID=America/New_York:20260425T140000
DTEND;TZID=America/New_York:20260425T170000
DTSTAMP:20260421T103702
CREATED:20260225T193252Z
LAST-MODIFIED:20260225T193252Z
UID:6152-1777125600-1777136400@loneoakbrewingco.com
SUMMARY:Music - Tears for Devere
DESCRIPTION:
URL:https://loneoakbrewingco.com/event/music-tears-for-devere/
LOCATION:Lone Oak Brewery\, 5000 Olney Laytonsville Rd\, Olney\, MD\, 20832\, United States
ATTACH;FMTTYPE=image/png:https://loneoakbrewingco.com/wp-content/uploads/2022/04/cropped-login.png
END:VEVENT
BEGIN:VEVENT
DTSTART;VALUE=DATE:20260426
DTEND;VALUE=DATE:20260427
DTSTAMP:20260421T103702
CREATED:20260225T193407Z
LAST-MODIFIED:20260225T193407Z
UID:6154-1777161600-1777247999@loneoakbrewingco.com
SUMMARY:Food Truck - Trippy Tacos
DESCRIPTION:
URL:https://loneoakbrewingco.com/event/food-truck-trippy-tacos-15/
LOCATION:Lone Oak Brewery\, 5000 Olney Laytonsville Rd\, Olney\, MD\, 20832\, United States
ATTACH;FMTTYPE=image/png:https://loneoakbrewingco.com/wp-content/uploads/2022/05/Screen-Shot-2022-05-28-at-4.59.33-PM.png
END:VEVENT
BEGIN:VEVENT
DTSTART;TZID=America/New_York:20260426T140000
DTEND;TZID=America/New_York:20260426T170000
DTSTAMP:20260421T103702
CREATED:20260225T193523Z
LAST-MODIFIED:20260225T193523Z
UID:6156-1777212000-1777222800@loneoakbrewingco.com
SUMMARY:Music - Lainey\, Mike\, and Paul
DESCRIPTION:
URL:https://loneoakbrewingco.com/event/music-lainey-mike-and-paul/
LOCATION:Lone Oak Brewery\, 5000 Olney Laytonsville Rd\, Olney\, MD\, 20832\, United States
ATTACH;FMTTYPE=image/png:https://loneoakbrewingco.com/wp-content/uploads/2022/04/cropped-login.png
END:VEVENT
BEGIN:VEVENT
DTSTART;VALUE=DATE:20260430
DTEND;VALUE=DATE:20260501
DTSTAMP:20260421T103702
CREATED:20260408T194630Z
LAST-MODIFIED:20260408T194630Z
UID:6291-1777507200-1777593599@loneoakbrewingco.com
SUMMARY:Proof 86 Thursdays
DESCRIPTION:Proof 86 Thursdays!  \nStop by Fallen Oak Distilling any Thursday and enjoy 20% off ALL drinks\, merchandise\, and bottles. \nDon’t miss out – make your Thursday the best day of the week! 
URL:https://loneoakbrewingco.com/event/proof-86-thursdays-2/
LOCATION:Fallen Oak Distilling\, 5000 Olney Laytonsville Rd\, Olney\, MD\, 20832\, United States
ATTACH;FMTTYPE=image/jpeg:https://loneoakbrewingco.com/wp-content/uploads/2023/06/Fallen-Oak-Logo.jpg
END:VEVENT
BEGIN:VEVENT
DTSTART;TZID=America/New_York:20260430T180000
DTEND;TZID=America/New_York:20260430T200000
DTSTAMP:20260421T103702
CREATED:20260319T150504Z
LAST-MODIFIED:20260319T150504Z
UID:6194-1777572000-1777579200@loneoakbrewingco.com
SUMMARY:Trivia Thursday
DESCRIPTION:
URL:https://loneoakbrewingco.com/event/trivia-thursday-21/
LOCATION:Lone Oak Brewery\, 5000 Olney Laytonsville Rd\, Olney\, MD\, 20832\, United States
ATTACH;FMTTYPE=image/jpeg:https://loneoakbrewingco.com/wp-content/uploads/2023/08/pourhousetrivia-1.jpg
END:VEVENT
END:VCALENDAR