BEGIN:VCALENDAR
VERSION:2.0
PRODID:-//Lone Oak Brewing Co. - ECPv6.15.20//NONSGML v1.0//EN
CALSCALE:GREGORIAN
METHOD:PUBLISH
X-WR-CALNAME:Lone Oak Brewing Co.
X-ORIGINAL-URL:https://loneoakbrewingco.com
X-WR-CALDESC:Events for Lone Oak Brewing Co.
REFRESH-INTERVAL;VALUE=DURATION:PT1H
X-Robots-Tag:noindex
X-PUBLISHED-TTL:PT1H
BEGIN:VTIMEZONE
TZID:UTC
BEGIN:STANDARD
TZOFFSETFROM:+0000
TZOFFSETTO:+0000
TZNAME:UTC
DTSTART:20240101T000000
END:STANDARD
END:VTIMEZONE
BEGIN:VTIMEZONE
TZID:America/New_York
BEGIN:DAYLIGHT
TZOFFSETFROM:-0500
TZOFFSETTO:-0400
TZNAME:EDT
DTSTART:20240310T070000
END:DAYLIGHT
BEGIN:STANDARD
TZOFFSETFROM:-0400
TZOFFSETTO:-0500
TZNAME:EST
DTSTART:20241103T060000
END:STANDARD
BEGIN:DAYLIGHT
TZOFFSETFROM:-0500
TZOFFSETTO:-0400
TZNAME:EDT
DTSTART:20250309T070000
END:DAYLIGHT
BEGIN:STANDARD
TZOFFSETFROM:-0400
TZOFFSETTO:-0500
TZNAME:EST
DTSTART:20251102T060000
END:STANDARD
BEGIN:DAYLIGHT
TZOFFSETFROM:-0500
TZOFFSETTO:-0400
TZNAME:EDT
DTSTART:20260308T070000
END:DAYLIGHT
BEGIN:STANDARD
TZOFFSETFROM:-0400
TZOFFSETTO:-0500
TZNAME:EST
DTSTART:20261101T060000
END:STANDARD
END:VTIMEZONE
BEGIN:VEVENT
DTSTART;TZID=UTC:20250824T140000
DTEND;TZID=UTC:20250824T170000
DTSTAMP:20260421T153510
CREATED:20250126T024442Z
LAST-MODIFIED:20250127T015512Z
UID:5181-1756044000-1756054800@loneoakbrewingco.com
SUMMARY:Live Music - The Grasso Brothers
DESCRIPTION:Rock\, soul\, and reggae. These brothers play covers and originals to keep you dancing and singing along\, all night!
URL:https://loneoakbrewingco.com/event/live-music-the-grasso-brothers/
LOCATION:Lone Oak Brewery\, 5000 Olney Laytonsville Rd\, Olney\, MD\, 20832\, United States
CATEGORIES:Live Music
ATTACH;FMTTYPE=image/png:https://loneoakbrewingco.com/wp-content/uploads/2025/01/TheGrassoBrothers-e1737923802484.png
END:VEVENT
BEGIN:VEVENT
DTSTART;TZID=America/New_York:20250824T120000
DTEND;TZID=America/New_York:20250824T190000
DTSTAMP:20260421T153510
CREATED:20250816T004832Z
LAST-MODIFIED:20250816T004832Z
UID:5707-1756036800-1756062000@loneoakbrewingco.com
SUMMARY:Food Truck - Jimmy's Famous Seafood
DESCRIPTION:
URL:https://loneoakbrewingco.com/event/food-truck-jimmys-famous-seafood-3/
LOCATION:Lone Oak Brewery\, 5000 Olney Laytonsville Rd\, Olney\, MD\, 20832\, United States
CATEGORIES:Food Truck
ATTACH;FMTTYPE=image/jpeg:https://loneoakbrewingco.com/wp-content/uploads/2025/05/download.jpeg
END:VEVENT
BEGIN:VEVENT
DTSTART;TZID=America/New_York:20250824T120000
DTEND;TZID=America/New_York:20250824T190000
DTSTAMP:20260421T153510
CREATED:20250816T004736Z
LAST-MODIFIED:20250816T004736Z
UID:5705-1756036800-1756062000@loneoakbrewingco.com
SUMMARY:Food Truck - BBQ and Tech
DESCRIPTION:
URL:https://loneoakbrewingco.com/event/food-truck-bbq-and-tech-4/
LOCATION:Lone Oak Brewery\, 5000 Olney Laytonsville Rd\, Olney\, MD\, 20832\, United States
CATEGORIES:Food Truck
ATTACH;FMTTYPE=image/jpeg:https://loneoakbrewingco.com/wp-content/uploads/2025/05/download-2.jpeg
END:VEVENT
BEGIN:VEVENT
DTSTART;TZID=America/New_York:20250823T140000
DTEND;TZID=America/New_York:20250823T170000
DTSTAMP:20260421T153510
CREATED:20250814T212818Z
LAST-MODIFIED:20250814T212818Z
UID:5698-1755957600-1755968400@loneoakbrewingco.com
SUMMARY:Live Music - Noah "Red" Hawes
DESCRIPTION:Noah “Red” Hawes is a multi-instrumentalist singer/songwriter out of Brunswick\, Maryland. Music has been a part of his life from a young age\, and over the years his influences have culminated in the music he writes and performs today. After growing up on music from the 60s and 70s classic rock his parents would play on the radio\, he expanded into 90s hard rock\, alt/indie rock\, as well as progressive rock. Red’s musical palette is extensive\, compiling mental notes of every ear-catching element he can find. After studying classical guitar in college\, he developed a unique acoustic style that combines as much of each musical element in a song onto one instrument\, including melody\, accompaniment\, and percussion. His solo show incorporates these elements into acoustic arrangements of 60s to present rock and pop songs from popular bands like Simon and Garfunkel\, the Foo Fighters\, and the Chainsmokers.
URL:https://loneoakbrewingco.com/event/live-music-noah-red-hawes/
LOCATION:Lone Oak Brewery\, 5000 Olney Laytonsville Rd\, Olney\, MD\, 20832\, United States
CATEGORIES:Live Music
ATTACH;FMTTYPE=image/jpeg:https://loneoakbrewingco.com/wp-content/uploads/2025/08/IMG_2923.jpg
END:VEVENT
BEGIN:VEVENT
DTSTART;TZID=America/New_York:20250823T120000
DTEND;TZID=America/New_York:20250823T200000
DTSTAMP:20260421T153510
CREATED:20250816T004620Z
LAST-MODIFIED:20250816T004620Z
UID:5703-1755950400-1755979200@loneoakbrewingco.com
SUMMARY:Food Truck - Jimmy's Famous Seafood
DESCRIPTION:
URL:https://loneoakbrewingco.com/event/food-truck-jimmys-famous-seafood-2/
LOCATION:Lone Oak Brewery\, 5000 Olney Laytonsville Rd\, Olney\, MD\, 20832\, United States
CATEGORIES:Food Truck
ATTACH;FMTTYPE=image/jpeg:https://loneoakbrewingco.com/wp-content/uploads/2025/05/download.jpeg
END:VEVENT
BEGIN:VEVENT
DTSTART;TZID=America/New_York:20250823T120000
DTEND;TZID=America/New_York:20250823T200000
DTSTAMP:20260421T153510
CREATED:20250816T004452Z
LAST-MODIFIED:20250816T004452Z
UID:5701-1755950400-1755979200@loneoakbrewingco.com
SUMMARY:Food Truck - Pho Wheels
DESCRIPTION:
URL:https://loneoakbrewingco.com/event/food-truck-pho-wheels-19/
LOCATION:Lone Oak Brewery\, 5000 Olney Laytonsville Rd\, Olney\, MD\, 20832\, United States
CATEGORIES:Food Truck
ATTACH;FMTTYPE=image/jpeg:https://loneoakbrewingco.com/wp-content/uploads/2023/10/phowheels-e1631744329223.jpg
END:VEVENT
BEGIN:VEVENT
DTSTART;TZID=America/New_York:20250821T190000
DTEND;TZID=America/New_York:20250821T210000
DTSTAMP:20260421T153510
CREATED:20250718T004029Z
LAST-MODIFIED:20250718T004029Z
UID:5676-1755802800-1755810000@loneoakbrewingco.com
SUMMARY:Outdoor Comedy Show at the Pavilion
DESCRIPTION:
URL:https://loneoakbrewingco.com/event/outdoor-comedy-show-at-the-pavilion/
LOCATION:Lone Oak Brewery\, 5000 Olney Laytonsville Rd\, Olney\, MD\, 20832\, United States
ATTACH;FMTTYPE=image/png:https://loneoakbrewingco.com/wp-content/uploads/2025/07/AUGUST-LAUGH-AT-LONE-OAK-scaled.png
END:VEVENT
BEGIN:VEVENT
DTSTART;TZID=UTC:20250817T140000
DTEND;TZID=UTC:20250817T170000
DTSTAMP:20260421T153510
CREATED:20250126T010207Z
LAST-MODIFIED:20250126T010207Z
UID:5161-1755439200-1755450000@loneoakbrewingco.com
SUMMARY:Live Music - Drew Cline
DESCRIPTION:Drew Cline is a Maryland-based singer-songwriter with a modern acoustic vibe. He enjoys playing a mix of pop\, country\, and rock covers at local bars\, restaurants\, and breweries. Drew also writes and records original music.
URL:https://loneoakbrewingco.com/event/live-music-drew-cline-11/
LOCATION:Lone Oak Brewery\, 5000 Olney Laytonsville Rd\, Olney\, MD\, 20832\, United States
CATEGORIES:Live Music
ATTACH;FMTTYPE=image/jpeg:https://loneoakbrewingco.com/wp-content/uploads/2025/01/Drew-Cline-scaled.jpg
END:VEVENT
BEGIN:VEVENT
DTSTART;TZID=America/New_York:20250817T120000
DTEND;TZID=America/New_York:20250817T190000
DTSTAMP:20260421T153510
CREATED:20250718T000613Z
LAST-MODIFIED:20250718T000613Z
UID:5665-1755432000-1755457200@loneoakbrewingco.com
SUMMARY:Food Truck - Catalyst Hot Dogs
DESCRIPTION:
URL:https://loneoakbrewingco.com/event/food-truck-catalyst-hot-dogs-12/
LOCATION:Lone Oak Brewery\, 5000 Olney Laytonsville Rd\, Olney\, MD\, 20832\, United States
CATEGORIES:Food Truck
ATTACH;FMTTYPE=image/jpeg:https://loneoakbrewingco.com/wp-content/uploads/2022/03/catalysthotdogs.jpg
END:VEVENT
BEGIN:VEVENT
DTSTART;TZID=UTC:20250816T140000
DTEND;TZID=UTC:20250816T170000
DTSTAMP:20260421T153510
CREATED:20250125T204008Z
LAST-MODIFIED:20250127T012646Z
UID:5130-1755352800-1755363600@loneoakbrewingco.com
SUMMARY:Live Music - Emily and Jorge
DESCRIPTION:We’re an acoustic guitar duo from Rockville\, MD. Emily sings\, and Jorge plays guitar.  We are very fond of music from the 50’s through the 90’s\, so you will hear many great songs from those decades at our shows. We’re old souls at heart\, as we grew up listening to most of the feel-good songs that we play. 
URL:https://loneoakbrewingco.com/event/live-music-emily-and-jorge-2/
LOCATION:Lone Oak Brewery\, 5000 Olney Laytonsville Rd\, Olney\, MD\, 20832\, United States
CATEGORIES:Live Music
ATTACH;FMTTYPE=image/png:https://loneoakbrewingco.com/wp-content/uploads/2025/01/EmilyandJorge.png
END:VEVENT
BEGIN:VEVENT
DTSTART;TZID=America/New_York:20250816T120000
DTEND;TZID=America/New_York:20250816T200000
DTSTAMP:20260421T153510
CREATED:20250718T000523Z
LAST-MODIFIED:20250718T000523Z
UID:5663-1755345600-1755374400@loneoakbrewingco.com
SUMMARY:Food Truck - Grubbing Hard BBQ
DESCRIPTION:
URL:https://loneoakbrewingco.com/event/food-truck-grubbing-hard-bbq-21/
LOCATION:Lone Oak Brewery\, 5000 Olney Laytonsville Rd\, Olney\, MD\, 20832\, United States
CATEGORIES:Food Truck
ATTACH;FMTTYPE=image/jpeg:https://loneoakbrewingco.com/wp-content/uploads/2023/08/grubbin-hard.jpeg
END:VEVENT
BEGIN:VEVENT
DTSTART;TZID=UTC:20250810T140000
DTEND;TZID=UTC:20250810T170000
DTSTAMP:20260421T153510
CREATED:20250125T203911Z
LAST-MODIFIED:20250125T203911Z
UID:5128-1754834400-1754845200@loneoakbrewingco.com
SUMMARY:Live Music - Eric Zatz
DESCRIPTION:Eric grew up in New Jersey listening to 90s music and started playing guitar over 20 years ago. In 2012\, he moved to Maryland and has been performing at the amazing local breweries\, wineries\, bars\, and restaurants around the DMV ever since. In addition to his love of the 90s\, he also plays a wide variety of all your favorite classic rock\, 80s\, top 40\, and country tunes. Eric is a big fan of the local DMV music scene and also enjoys collaborating with and learning new styles from other musicians in his free time. When he’s not performing as a solo acoustic artist\, he also rocks out as the guitarist and lead vocalist in the band Broken Ground.
URL:https://loneoakbrewingco.com/event/live-music-eric-zatz-4/
LOCATION:Lone Oak Brewery\, 5000 Olney Laytonsville Rd\, Olney\, MD\, 20832\, United States
CATEGORIES:Live Music
ATTACH;FMTTYPE=image/jpeg:https://loneoakbrewingco.com/wp-content/uploads/2024/12/EricZatz-scaled.jpg
END:VEVENT
BEGIN:VEVENT
DTSTART;TZID=America/New_York:20250810T120000
DTEND;TZID=America/New_York:20250810T190000
DTSTAMP:20260421T153510
CREATED:20250718T000351Z
LAST-MODIFIED:20250718T000351Z
UID:5660-1754827200-1754852400@loneoakbrewingco.com
SUMMARY:Food Truck - Beltway Bistro
DESCRIPTION:
URL:https://loneoakbrewingco.com/event/food-truck-beltway-bistro-2/
LOCATION:Lone Oak Brewery\, 5000 Olney Laytonsville Rd\, Olney\, MD\, 20832\, United States
CATEGORIES:Food Truck
ATTACH;FMTTYPE=image/jpeg:https://loneoakbrewingco.com/wp-content/uploads/2025/07/bistro.jpeg
END:VEVENT
BEGIN:VEVENT
DTSTART;TZID=UTC:20250809T140000
DTEND;TZID=UTC:20250809T170000
DTSTAMP:20260421T153510
CREATED:20250125T203314Z
LAST-MODIFIED:20250125T203314Z
UID:5126-1754748000-1754758800@loneoakbrewingco.com
SUMMARY:Live Music - The Dirty Blondes
DESCRIPTION:The Dirty Blondes Duo is comprised of two high school friends\, Gracie and Shaye. What started out as a hobby after work to connect and destress\, quickly turned into The Dirty Blondes Duo. Connecting with others through music is what continued to grow their love for performing and engaging with others. To Gracie and Shaye\, being local means connecting with people in the community through shared experiences and passions. They have both cherished the memories they’ve made growing up here in Montgomery County and have enjoyed making more memories through live music.
URL:https://loneoakbrewingco.com/event/live-music-the-dirty-blondes-3/
LOCATION:Lone Oak Brewery\, 5000 Olney Laytonsville Rd\, Olney\, MD\, 20832\, United States
CATEGORIES:Live Music
ATTACH;FMTTYPE=image/jpeg:https://loneoakbrewingco.com/wp-content/uploads/2025/01/TheDirtyBlondes.jpg
END:VEVENT
BEGIN:VEVENT
DTSTART;TZID=America/New_York:20250809T120000
DTEND;TZID=America/New_York:20250809T200000
DTSTAMP:20260421T153510
CREATED:20250718T000124Z
LAST-MODIFIED:20250718T000432Z
UID:5658-1754740800-1754769600@loneoakbrewingco.com
SUMMARY:Food Truck - Jus Food
DESCRIPTION:
URL:https://loneoakbrewingco.com/event/food-truck-jus-food-6/
LOCATION:Lone Oak Brewery\, 5000 Olney Laytonsville Rd\, Olney\, MD\, 20832\, United States
CATEGORIES:Food Truck
ATTACH;FMTTYPE=image/jpeg:https://loneoakbrewingco.com/wp-content/uploads/2024/10/IMG_0707.jpeg
END:VEVENT
BEGIN:VEVENT
DTSTART;TZID=America/New_York:20250803T140000
DTEND;TZID=America/New_York:20250803T193000
DTSTAMP:20260421T153510
CREATED:20250718T003559Z
LAST-MODIFIED:20250718T003559Z
UID:5673-1754229600-1754249400@loneoakbrewingco.com
SUMMARY:Cornhole Tournament
DESCRIPTION:
URL:https://loneoakbrewingco.com/event/cornhole-tournament-2/
LOCATION:Lone Oak Brewery\, 5000 Olney Laytonsville Rd\, Olney\, MD\, 20832\, United States
ATTACH;FMTTYPE=image/png:https://loneoakbrewingco.com/wp-content/uploads/2025/07/AUG-2025-MOCO-COHO-1-scaled.png
END:VEVENT
BEGIN:VEVENT
DTSTART;TZID=UTC:20250803T140000
DTEND;TZID=UTC:20250803T170000
DTSTAMP:20260421T153510
CREATED:20250125T211531Z
LAST-MODIFIED:20250126T003509Z
UID:5145-1754229600-1754240400@loneoakbrewingco.com
SUMMARY:Live Music - One Step Down
DESCRIPTION:We always say that One Step Down is the one silver lining from COVID….\nJoe grew up in NJ\, and became fascinated with the electric guitar after hearing the Venture’s Walk\nDon’t Run and Pipeline. His first band\, The 007s\, played songs by artists such as The Monkees and\nThe Searchers. The music from 1968-1972 (Led Zeppelin\, Grand Funk\, Black Sabbath) helped shape\nJoe’s style. After moving to Bel Air\, he played in several local bands – I95\, Circle of Fire\, and Tainted\nSouls.\nKaren grew up in Elkridge\, MD. Although she had no vocal training\, she enjoyed singing along to\nStevie Nicks\, Wynonna Judd and Tanya Tucker. She started her musical career when her dad bought a\nset of drums and decided to start a band. Over the years\, Karen played in several local bands–\nCrossfire\, Flashpoint\, and finally Wasted Gravity\, always with her dad on the drums.\nIn 2013\, Joe answered an ad for a lead guitarist and auditioned for Wasted Gravity\, and that’s when\nKaren and Joe started playing music together. When COVID hit\, the music scene shut down. The\nvision changed and Joe swapped out his electric guitar for an acoustic guitar. One Step Down played\nits first gig in October 2020. We love playing all genres of music\, but songs by Fleetwood Mac/Stevie\nNicks are some of the favorites
URL:https://loneoakbrewingco.com/event/live-music-one-step-down-7/
LOCATION:Lone Oak Brewery\, 5000 Olney Laytonsville Rd\, Olney\, MD\, 20832\, United States
CATEGORIES:Live Music
ATTACH;FMTTYPE=image/jpeg:https://loneoakbrewingco.com/wp-content/uploads/2025/01/OneStepDown.jpeg
END:VEVENT
BEGIN:VEVENT
DTSTART;TZID=America/New_York:20250803T120000
DTEND;TZID=America/New_York:20250803T190000
DTSTAMP:20260421T153510
CREATED:20250718T000021Z
LAST-MODIFIED:20250718T000021Z
UID:5656-1754222400-1754247600@loneoakbrewingco.com
SUMMARY:Food Truck - Three Daughters
DESCRIPTION:
URL:https://loneoakbrewingco.com/event/food-truck-three-daughters-2/
LOCATION:Lone Oak Brewery\, 5000 Olney Laytonsville Rd\, Olney\, MD\, 20832\, United States
CATEGORIES:Food Truck
ATTACH;FMTTYPE=image/jpeg:https://loneoakbrewingco.com/wp-content/uploads/2025/06/3daughters.jpeg
END:VEVENT
BEGIN:VEVENT
DTSTART;TZID=America/New_York:20250803T110000
DTEND;TZID=America/New_York:20250803T130000
DTSTAMP:20260421T153510
CREATED:20250718T001302Z
LAST-MODIFIED:20250718T001302Z
UID:5670-1754218800-1754226000@loneoakbrewingco.com
SUMMARY:Afternoon Tea at the Fallen Oak Speakeasy
DESCRIPTION:
URL:https://loneoakbrewingco.com/event/afternoon-tea-at-the-fallen-oak-speakeasy/
LOCATION:Lone Oak Brewery\, 5000 Olney Laytonsville Rd\, Olney\, MD\, 20832\, United States
ATTACH;FMTTYPE=image/png:https://loneoakbrewingco.com/wp-content/uploads/2025/07/AUGUST-2025-TEA-TIME-scaled.png
END:VEVENT
BEGIN:VEVENT
DTSTART;TZID=UTC:20250802T140000
DTEND;TZID=UTC:20250802T170000
DTSTAMP:20260421T153510
CREATED:20250125T203149Z
LAST-MODIFIED:20250125T203149Z
UID:5124-1754143200-1754154000@loneoakbrewingco.com
SUMMARY:Live Music - Take Two
DESCRIPTION:Vince and Chris grew up in Silver Spring and played in a Classic Rock band in our college years\, including Top 40 plus the Allman Brothers\, Yes and Emerson Lake and Palmer among others. We later played in a Soul Band which covered songs by Chicago\, Tower of Power and Blood Sweat and Tears.\nWe’ve played together as Take Two for twelve years and really enjoy the musical challenges of performing as a duo. We enjoy playing in familiar and new venues as part of this diverse local music community and getting to know the people we play for.
URL:https://loneoakbrewingco.com/event/live-music-take-two-4/
LOCATION:Lone Oak Brewery\, 5000 Olney Laytonsville Rd\, Olney\, MD\, 20832\, United States
CATEGORIES:Live Music
ATTACH;FMTTYPE=image/jpeg:https://loneoakbrewingco.com/wp-content/uploads/2024/12/TakeTwo-scaled.jpg
END:VEVENT
BEGIN:VEVENT
DTSTART;TZID=America/New_York:20250802T120000
DTEND;TZID=America/New_York:20250802T200000
DTSTAMP:20260421T153510
CREATED:20250717T235927Z
LAST-MODIFIED:20250717T235927Z
UID:5654-1754136000-1754164800@loneoakbrewingco.com
SUMMARY:Food Truck - Pho Wheels
DESCRIPTION:
URL:https://loneoakbrewingco.com/event/food-truck-pho-wheels-18/
LOCATION:Lone Oak Brewery\, 5000 Olney Laytonsville Rd\, Olney\, MD\, 20832\, United States
CATEGORIES:Food Truck
ATTACH;FMTTYPE=image/jpeg:https://loneoakbrewingco.com/wp-content/uploads/2023/10/phowheels-e1631744329223.jpg
END:VEVENT
BEGIN:VEVENT
DTSTART;TZID=UTC:20250727T140000
DTEND;TZID=UTC:20250727T170000
DTSTAMP:20260421T153510
CREATED:20250125T203053Z
LAST-MODIFIED:20250125T203053Z
UID:5122-1753624800-1753635600@loneoakbrewingco.com
SUMMARY:Live Music - Adam Forbes
DESCRIPTION:Adam Forbes is a guitarist and singer/songwriter based in Washington\, DC. He has been playing guitar since he was 9 years old when he received his first guitar for Christmas. In addition to doing solo acoustic performances\, he also is the lead guitarist and singer in local DC band Sidewalk Soul. He frequently performs at venues in DC\, Maryland and Virginia\, as well as in other parts of the county. His styles and influences include a wide range of performers including Pete Townshend\, Neil Young\, Joni Mitchell\, Gordon Lightfoot\, Jimi Hendrix\, Chris Cornell and Eddie Vedder (amongst many\, many others). His style blends baritone vocals with both aggressive strumming and meticulous finger picking.
URL:https://loneoakbrewingco.com/event/live-music-adam-forbes-4/
LOCATION:Lone Oak Brewery\, 5000 Olney Laytonsville Rd\, Olney\, MD\, 20832\, United States
CATEGORIES:Live Music
ATTACH;FMTTYPE=image/jpeg:https://loneoakbrewingco.com/wp-content/uploads/2025/01/Adam-Forbes.jpg
END:VEVENT
BEGIN:VEVENT
DTSTART;TZID=America/New_York:20250727T120000
DTEND;TZID=America/New_York:20250727T190000
DTSTAMP:20260421T153510
CREATED:20250622T193755Z
LAST-MODIFIED:20250622T193755Z
UID:5631-1753617600-1753642800@loneoakbrewingco.com
SUMMARY:Food Truck - BBQ and Tech
DESCRIPTION:
URL:https://loneoakbrewingco.com/event/food-truck-bbq-and-tech-3/
LOCATION:Lone Oak Brewery\, 5000 Olney Laytonsville Rd\, Olney\, MD\, 20832\, United States
CATEGORIES:Food Truck
ATTACH;FMTTYPE=image/png:https://loneoakbrewingco.com/wp-content/uploads/2022/05/BLUES-BBQ.png
END:VEVENT
BEGIN:VEVENT
DTSTART;TZID=UTC:20250726T140000
DTEND;TZID=UTC:20250726T170000
DTSTAMP:20260421T153510
CREATED:20250126T013818Z
LAST-MODIFIED:20250127T012139Z
UID:5170-1753538400-1753549200@loneoakbrewingco.com
SUMMARY:Live Music - Noah Booz
DESCRIPTION:Noah Teague Booz hails from Montgomery County\, MD\, born to Diane Teague and Miche Booz. His musical journey began in his single digits with piano lessons\, later transitioning to the guitar at the age of 12 to play in a band with friends. Noah’s folk-rock trio\, Honey Stone\, won a DMV-wide battle of the bands at the 9:30 Club during his senior year of high school\, which lead to recording opportunities at Cue Recording Studios where the band produced their debut album. That lead Noah to study jazz at Montgomery College and the University of Maryland. After graduating\, Noah stepped away from the music industry\, but continued to work on his craft. In October 2021\, Noah launched his first solo project under the moniker “yesah” while living in Los Angeles. However\, his return to Maryland in May 2022 prompted a rebranding under his given name\, Noah Teague Booz. Now he writes\, engineers and produces all his own music out of his home studio\, often in collaboration with other artists. He also teaches guitar and banjo to all ages. Drawing from influences ranging from folk and jazz to blues and bluegrass\, Noah’s music embodies a captivating blend of singer-songwriter composition with virtuosic improvisation. Through his love of storyteller and wordplay his lyricism signals to the deep currents of our shared humanity that channel beneath the surface of our unique life experiences.
URL:https://loneoakbrewingco.com/event/live-music-noah-booz-11/
LOCATION:Lone Oak Brewery\, 5000 Olney Laytonsville Rd\, Olney\, MD\, 20832\, United States
CATEGORIES:Live Music
ATTACH;FMTTYPE=image/jpeg:https://loneoakbrewingco.com/wp-content/uploads/2025/01/NoahBooz.jpg
END:VEVENT
BEGIN:VEVENT
DTSTART;TZID=America/New_York:20250726T120000
DTEND;TZID=America/New_York:20250726T200000
DTSTAMP:20260421T153510
CREATED:20250622T193710Z
LAST-MODIFIED:20250622T193710Z
UID:5629-1753531200-1753560000@loneoakbrewingco.com
SUMMARY:Food Truck - Square Taco
DESCRIPTION:
URL:https://loneoakbrewingco.com/event/food-truck-square-taco-5/
LOCATION:Lone Oak Brewery\, 5000 Olney Laytonsville Rd\, Olney\, MD\, 20832\, United States
CATEGORIES:Food Truck
ATTACH;FMTTYPE=image/webp:https://loneoakbrewingco.com/wp-content/uploads/2024/10/SQUARE-TACO.webp
END:VEVENT
BEGIN:VEVENT
DTSTART;TZID=America/New_York:20250723T180000
DTEND;TZID=America/New_York:20250723T200000
DTSTAMP:20260421T153510
CREATED:20250718T000912Z
LAST-MODIFIED:20250718T000912Z
UID:5667-1753293600-1753300800@loneoakbrewingco.com
SUMMARY:Line Dancing
DESCRIPTION:
URL:https://loneoakbrewingco.com/event/line-dancing-5/
LOCATION:Lone Oak Brewery\, 5000 Olney Laytonsville Rd\, Olney\, MD\, 20832\, United States
ATTACH;FMTTYPE=image/png:https://loneoakbrewingco.com/wp-content/uploads/2025/07/JULY-2025-LINE-DANCE-FLYER-1-scaled.png
END:VEVENT
BEGIN:VEVENT
DTSTART;TZID=UTC:20250720T140000
DTEND;TZID=UTC:20250720T170000
DTSTAMP:20260421T153510
CREATED:20250125T202955Z
LAST-MODIFIED:20250125T202955Z
UID:5120-1753020000-1753030800@loneoakbrewingco.com
SUMMARY:Live Music - Blouses
DESCRIPTION:Lauren grew up in Clarksburg\,MD. She began singing by mimicking the vocals of the blues records that her mother had around the house. Eva Cassidy and Aretha Franklin to name a couple. Lauren now brings in inspiration from pop heavy hitters such as Miley Cyrus\, Lady Gaga and her life-long obsession John Mayer.\n\nBryan Wolf grew up in Brookeville\, MD and started playing guitar at 13 years old. His main inspiration comes from classic and indie rock. The Beatles and Father John Misty are high on his favorites list.\n\nBlouses formed when the two members crossed paths on Bumble. Their first date was an open jam Bryan was hosting. Third date was a gig at Saint Micheal’s Annual Beer Fest. After that\, it was a no brainer if we were to become a couple a duo would spawn as well.\n\nBeing local means we get to see familiar faces and build a relationship with the audience that goes deeper. Even allows us to reconnect with local friends we may have lost contact with!
URL:https://loneoakbrewingco.com/event/live-music-blouses-3/
LOCATION:Lone Oak Brewery\, 5000 Olney Laytonsville Rd\, Olney\, MD\, 20832\, United States
CATEGORIES:Live Music
ATTACH;FMTTYPE=image/jpeg:https://loneoakbrewingco.com/wp-content/uploads/2025/01/Blouses.jpeg
END:VEVENT
BEGIN:VEVENT
DTSTART;TZID=America/New_York:20250720T120000
DTEND;TZID=America/New_York:20250720T190000
DTSTAMP:20260421T153510
CREATED:20250622T193623Z
LAST-MODIFIED:20250622T193623Z
UID:5627-1753012800-1753038000@loneoakbrewingco.com
SUMMARY:Food Truck - Catalyst Hot Dogs
DESCRIPTION:
URL:https://loneoakbrewingco.com/event/food-truck-catalyst-hot-dogs-11/
LOCATION:Lone Oak Brewery\, 5000 Olney Laytonsville Rd\, Olney\, MD\, 20832\, United States
CATEGORIES:Food Truck
ATTACH;FMTTYPE=image/jpeg:https://loneoakbrewingco.com/wp-content/uploads/2022/03/catalysthotdogs.jpg
END:VEVENT
BEGIN:VEVENT
DTSTART;TZID=UTC:20250719T140000
DTEND;TZID=UTC:20250719T170000
DTSTAMP:20260421T153510
CREATED:20250125T202848Z
LAST-MODIFIED:20250125T204821Z
UID:5118-1752933600-1752944400@loneoakbrewingco.com
SUMMARY:Live Music - Joseph Monasterial
DESCRIPTION:Joseph R Monasterial is a Singer-Songwriter and Acoustic Guitarist based in the Washington DC area.  He grew up in Montgomery County\, MD and started performing as a local musician since he was 16 years old. Being close to family\, friends and meeting so many loving\, supportive people encouraged him even more to go after his dream.  He is musically talented\, humble and quite shy but can easily write a song when inspired.  His first song “I’ve Always Wondered” is a song he sang just a few times and among several other songs remained tucked away.  The songs\, “Hold Me Down\,” “Got To Let Go” and “June” have gained so much appreciation from his audiences.  After graduating college in May 2021\, he gave himself a year to pursue music and in May 2022\, he chose music as his full-time career.  May 2022 marks the crossroad of the uncertainties of following his dream and the determination to push forward and be happy in life.  2023 and 2024 proved to be challenging years yet\, bringing joy to himself and everyone who supports and loves him.  He is hoping that 2025 will be the year of his dream come true! \nJoseph R Monasterial picked up his guitar at 16 years old and was quickly known for his soulful\, captivating\, unique voice.  He was told by many that he sounds like John Mayer and Bruce Springsteen.  You’ll love this young pop singer so check him out and follow him at \nwww.facebook.com/jjoeymusic \nor at www.instagram.com/joeymonasterial
URL:https://loneoakbrewingco.com/event/live-music-joseph-monasterial-11/
LOCATION:Lone Oak Brewery\, 5000 Olney Laytonsville Rd\, Olney\, MD\, 20832\, United States
CATEGORIES:Live Music
ATTACH;FMTTYPE=image/jpeg:https://loneoakbrewingco.com/wp-content/uploads/2025/01/JosephMonasterial.jpeg
END:VEVENT
BEGIN:VEVENT
DTSTART;TZID=America/New_York:20250719T120000
DTEND;TZID=America/New_York:20250719T200000
DTSTAMP:20260421T153510
CREATED:20250622T193535Z
LAST-MODIFIED:20250622T193535Z
UID:5625-1752926400-1752955200@loneoakbrewingco.com
SUMMARY:Food Truck - Grubbing Hard BBQ
DESCRIPTION:
URL:https://loneoakbrewingco.com/event/food-truck-grubbing-hard-bbq-20/
LOCATION:Lone Oak Brewery\, 5000 Olney Laytonsville Rd\, Olney\, MD\, 20832\, United States
CATEGORIES:Food Truck
ATTACH;FMTTYPE=image/jpeg:https://loneoakbrewingco.com/wp-content/uploads/2023/08/grubbin-hard.jpeg
END:VEVENT
END:VCALENDAR