BEGIN:VCALENDAR
VERSION:2.0
PRODID:-//Lone Oak Brewing Co. - ECPv6.15.20//NONSGML v1.0//EN
CALSCALE:GREGORIAN
METHOD:PUBLISH
X-ORIGINAL-URL:https://loneoakbrewingco.com
X-WR-CALDESC:Events for Lone Oak Brewing Co.
REFRESH-INTERVAL;VALUE=DURATION:PT1H
X-Robots-Tag:noindex
X-PUBLISHED-TTL:PT1H
BEGIN:VTIMEZONE
TZID:America/New_York
BEGIN:DAYLIGHT
TZOFFSETFROM:-0500
TZOFFSETTO:-0400
TZNAME:EDT
DTSTART:20250309T070000
END:DAYLIGHT
BEGIN:STANDARD
TZOFFSETFROM:-0400
TZOFFSETTO:-0500
TZNAME:EST
DTSTART:20251102T060000
END:STANDARD
BEGIN:DAYLIGHT
TZOFFSETFROM:-0500
TZOFFSETTO:-0400
TZNAME:EDT
DTSTART:20260308T070000
END:DAYLIGHT
BEGIN:STANDARD
TZOFFSETFROM:-0400
TZOFFSETTO:-0500
TZNAME:EST
DTSTART:20261101T060000
END:STANDARD
BEGIN:DAYLIGHT
TZOFFSETFROM:-0500
TZOFFSETTO:-0400
TZNAME:EDT
DTSTART:20270314T070000
END:DAYLIGHT
BEGIN:STANDARD
TZOFFSETFROM:-0400
TZOFFSETTO:-0500
TZNAME:EST
DTSTART:20271107T060000
END:STANDARD
END:VTIMEZONE
BEGIN:VEVENT
DTSTART;TZID=America/New_York:20260516T140000
DTEND;TZID=America/New_York:20260516T170000
DTSTAMP:20260421T163925
CREATED:20260325T162643Z
LAST-MODIFIED:20260325T162643Z
UID:6217-1778940000-1778950800@loneoakbrewingco.com
SUMMARY:Music - Game Blouses
DESCRIPTION:
URL:https://loneoakbrewingco.com/event/music-game-blouses-2/
LOCATION:Lone Oak Brewery\, 5000 Olney Laytonsville Rd\, Olney\, MD\, 20832\, United States
ATTACH;FMTTYPE=image/png:https://loneoakbrewingco.com/wp-content/uploads/2022/04/cropped-login.png
END:VEVENT
BEGIN:VEVENT
DTSTART;VALUE=DATE:20260517
DTEND;VALUE=DATE:20260518
DTSTAMP:20260421T163925
CREATED:20260325T162930Z
LAST-MODIFIED:20260325T162930Z
UID:6219-1778976000-1779062399@loneoakbrewingco.com
SUMMARY:Food Truck - Palmetto Bay Cuisine
DESCRIPTION:
URL:https://loneoakbrewingco.com/event/food-truck-palmetto-bay-cuisine-3/
LOCATION:Lone Oak Brewery\, 5000 Olney Laytonsville Rd\, Olney\, MD\, 20832\, United States
ATTACH;FMTTYPE=image/jpeg:https://loneoakbrewingco.com/wp-content/uploads/2026/02/Palmetto-Bay-Cuisine.jpg
END:VEVENT
BEGIN:VEVENT
DTSTART;TZID=America/New_York:20260517T140000
DTEND;TZID=America/New_York:20260517T170000
DTSTAMP:20260421T163925
CREATED:20260325T163016Z
LAST-MODIFIED:20260325T163016Z
UID:6221-1779026400-1779037200@loneoakbrewingco.com
SUMMARY:Music - Noah Hawes
DESCRIPTION:
URL:https://loneoakbrewingco.com/event/music-noah-hawes/
LOCATION:Lone Oak Brewery\, 5000 Olney Laytonsville Rd\, Olney\, MD\, 20832\, United States
ATTACH;FMTTYPE=image/png:https://loneoakbrewingco.com/wp-content/uploads/2022/04/cropped-login.png
END:VEVENT
BEGIN:VEVENT
DTSTART;TZID=America/New_York:20260520T180000
DTEND;TZID=America/New_York:20260520T200000
DTSTAMP:20260421T163925
CREATED:20260325T165138Z
LAST-MODIFIED:20260325T165233Z
UID:6242-1779300000-1779307200@loneoakbrewingco.com
SUMMARY:Line Dancing in the Pavilion
DESCRIPTION:Tickets – $15 \nIncludes ticket and a drink ticket.
URL:https://loneoakbrewingco.com/event/line-dancing-in-the-pavilion-2/
LOCATION:Lone Oak Brewery\, 5000 Olney Laytonsville Rd\, Olney\, MD\, 20832\, United States
ATTACH;FMTTYPE=image/jpeg:https://loneoakbrewingco.com/wp-content/uploads/2026/03/MAY-2026-LINE-DANCE-FLYER-scaled.jpeg
END:VEVENT
BEGIN:VEVENT
DTSTART;VALUE=DATE:20260521
DTEND;VALUE=DATE:20260522
DTSTAMP:20260421T163925
CREATED:20260408T195042Z
LAST-MODIFIED:20260408T195042Z
UID:6297-1779321600-1779407999@loneoakbrewingco.com
SUMMARY:Proof 86 Thursday
DESCRIPTION:Proof 86 Thursdays!  \nStop by Fallen Oak Distilling any Thursday and enjoy 20% off ALL drinks\, merchandise\, and bottles. \nDon’t miss out – make your Thursday the best day of the week! 
URL:https://loneoakbrewingco.com/event/proof-86-thursday-3/
LOCATION:Fallen Oak Distilling\, 5000 Olney Laytonsville Rd\, Olney\, MD\, 20832\, United States
ATTACH;FMTTYPE=image/jpeg:https://loneoakbrewingco.com/wp-content/uploads/2023/06/Fallen-Oak-Logo.jpg
END:VEVENT
BEGIN:VEVENT
DTSTART;TZID=America/New_York:20260521T180000
DTEND;TZID=America/New_York:20260521T200000
DTSTAMP:20260421T163925
CREATED:20260408T200115Z
LAST-MODIFIED:20260408T200115Z
UID:6317-1779386400-1779393600@loneoakbrewingco.com
SUMMARY:Trivia Thursday
DESCRIPTION:
URL:https://loneoakbrewingco.com/event/trivia-thursday-27/
LOCATION:Lone Oak Brewery\, 5000 Olney Laytonsville Rd\, Olney\, MD\, 20832\, United States
ATTACH;FMTTYPE=image/png:https://loneoakbrewingco.com/wp-content/uploads/2025/11/Thursday.png
END:VEVENT
BEGIN:VEVENT
DTSTART;TZID=America/New_York:20260521T180000
DTEND;TZID=America/New_York:20260521T200000
DTSTAMP:20260421T163925
CREATED:20260408T200227Z
LAST-MODIFIED:20260408T200227Z
UID:6321-1779386400-1779393600@loneoakbrewingco.com
SUMMARY:Happy Hour
DESCRIPTION:
URL:https://loneoakbrewingco.com/event/happy-hour-22/
LOCATION:Lone Oak Brewery\, 5000 Olney Laytonsville Rd\, Olney\, MD\, 20832\, United States
ATTACH;FMTTYPE=image/jpeg:https://loneoakbrewingco.com/wp-content/uploads/2023/08/pourhousetrivia-1.jpg
END:VEVENT
BEGIN:VEVENT
DTSTART;VALUE=DATE:20260523
DTEND;VALUE=DATE:20260524
DTSTAMP:20260421T163925
CREATED:20260325T163215Z
LAST-MODIFIED:20260325T163215Z
UID:6223-1779494400-1779580799@loneoakbrewingco.com
SUMMARY:Food Truck - Cousin's Maine Lobster
DESCRIPTION:
URL:https://loneoakbrewingco.com/event/food-truck-cousins-maine-lobster-3/
LOCATION:Lone Oak Brewery\, 5000 Olney Laytonsville Rd\, Olney\, MD\, 20832\, United States
ATTACH;FMTTYPE=image/webp:https://loneoakbrewingco.com/wp-content/uploads/2026/02/Cousins-Maine-Lobster.webp
END:VEVENT
BEGIN:VEVENT
DTSTART;TZID=America/New_York:20260523T140000
DTEND;TZID=America/New_York:20260523T170000
DTSTAMP:20260421T163925
CREATED:20260325T163820Z
LAST-MODIFIED:20260325T163820Z
UID:6232-1779544800-1779555600@loneoakbrewingco.com
SUMMARY:Music - Susanna Laird
DESCRIPTION:
URL:https://loneoakbrewingco.com/event/music-susanna-laird-3/
LOCATION:Lone Oak Brewery\, 5000 Olney Laytonsville Rd\, Olney\, MD\, 20832\, United States
ATTACH;FMTTYPE=image/jpeg:https://loneoakbrewingco.com/wp-content/uploads/2024/12/susanna-laird-square-2-scaled.jpg
END:VEVENT
BEGIN:VEVENT
DTSTART;VALUE=DATE:20260524
DTEND;VALUE=DATE:20260525
DTSTAMP:20260421T163925
CREATED:20260325T163442Z
LAST-MODIFIED:20260325T163442Z
UID:6228-1779580800-1779667199@loneoakbrewingco.com
SUMMARY:Food Truck - Aimore
DESCRIPTION:
URL:https://loneoakbrewingco.com/event/food-truck-aimore/
LOCATION:Lone Oak Brewery\, 5000 Olney Laytonsville Rd\, Olney\, MD\, 20832\, United States
ATTACH;FMTTYPE=image/png:https://loneoakbrewingco.com/wp-content/uploads/2022/04/cropped-login.png
END:VEVENT
BEGIN:VEVENT
DTSTART;TZID=America/New_York:20260524T140000
DTEND;TZID=America/New_York:20260524T170000
DTSTAMP:20260421T163925
CREATED:20260325T163307Z
LAST-MODIFIED:20260325T163656Z
UID:6225-1779631200-1779642000@loneoakbrewingco.com
SUMMARY:Music - Briana Merkel
DESCRIPTION:
URL:https://loneoakbrewingco.com/event/music-susanna-laird-2/
LOCATION:Lone Oak Brewery\, 5000 Olney Laytonsville Rd\, Olney\, MD\, 20832\, United States
ATTACH;FMTTYPE=image/jpeg:https://loneoakbrewingco.com/wp-content/uploads/2024/12/BrianaMerkel.jpeg
END:VEVENT
BEGIN:VEVENT
DTSTART;VALUE=DATE:20260528
DTEND;VALUE=DATE:20260529
DTSTAMP:20260421T163925
CREATED:20260408T195120Z
LAST-MODIFIED:20260408T195120Z
UID:6299-1779926400-1780012799@loneoakbrewingco.com
SUMMARY:Proof 86 Thursday
DESCRIPTION:Proof 86 Thursdays!  \nStop by Fallen Oak Distilling any Thursday and enjoy 20% off ALL drinks\, merchandise\, and bottles. \nDon’t miss out – make your Thursday the best day of the week! 
URL:https://loneoakbrewingco.com/event/proof-86-thursday-4/
LOCATION:Fallen Oak Distilling\, 5000 Olney Laytonsville Rd\, Olney\, MD\, 20832\, United States
ATTACH;FMTTYPE=image/jpeg:https://loneoakbrewingco.com/wp-content/uploads/2023/06/Fallen-Oak-Logo.jpg
END:VEVENT
BEGIN:VEVENT
DTSTART;TZID=America/New_York:20260528T180000
DTEND;TZID=America/New_York:20260528T200000
DTSTAMP:20260421T163925
CREATED:20260408T200155Z
LAST-MODIFIED:20260408T200155Z
UID:6319-1779991200-1779998400@loneoakbrewingco.com
SUMMARY:Trivia Thursday
DESCRIPTION:
URL:https://loneoakbrewingco.com/event/trivia-thursday-28/
LOCATION:Lone Oak Brewery\, 5000 Olney Laytonsville Rd\, Olney\, MD\, 20832\, United States
ATTACH;FMTTYPE=image/png:https://loneoakbrewingco.com/wp-content/uploads/2025/11/Thursday.png
END:VEVENT
BEGIN:VEVENT
DTSTART;TZID=America/New_York:20260528T180000
DTEND;TZID=America/New_York:20260528T200000
DTSTAMP:20260421T163925
CREATED:20260408T200321Z
LAST-MODIFIED:20260408T200321Z
UID:6323-1779991200-1779998400@loneoakbrewingco.com
SUMMARY:Happy Hour
DESCRIPTION:
URL:https://loneoakbrewingco.com/event/happy-hour-23/
LOCATION:Lone Oak Brewery\, 5000 Olney Laytonsville Rd\, Olney\, MD\, 20832\, United States
ATTACH;FMTTYPE=image/jpeg:https://loneoakbrewingco.com/wp-content/uploads/2023/08/pourhousetrivia-1.jpg
END:VEVENT
BEGIN:VEVENT
DTSTART;TZID=America/New_York:20260529T170000
DTEND;TZID=America/New_York:20260529T210000
DTSTAMP:20260421T163925
CREATED:20260408T193820Z
LAST-MODIFIED:20260408T193820Z
UID:6281-1780074000-1780088400@loneoakbrewingco.com
SUMMARY:Jazz Night
DESCRIPTION:
URL:https://loneoakbrewingco.com/event/jazz-night-3/
LOCATION:Fallen Oak Distilling\, 5000 Olney Laytonsville Rd\, Olney\, MD\, 20832\, United States
ATTACH;FMTTYPE=image/png:https://loneoakbrewingco.com/wp-content/uploads/2026/04/MAY-JAZZ-NIGHT-2-scaled.png
END:VEVENT
BEGIN:VEVENT
DTSTART;VALUE=DATE:20260530
DTEND;VALUE=DATE:20260531
DTSTAMP:20260421T163925
CREATED:20260325T164010Z
LAST-MODIFIED:20260325T164010Z
UID:6234-1780099200-1780185599@loneoakbrewingco.com
SUMMARY:Food Truck - Catalyst Hot Dogs
DESCRIPTION:
URL:https://loneoakbrewingco.com/event/food-truck-catalyst-hot-dogs-14/
LOCATION:Lone Oak Brewery\, 5000 Olney Laytonsville Rd\, Olney\, MD\, 20832\, United States
ATTACH;FMTTYPE=image/jpeg:https://loneoakbrewingco.com/wp-content/uploads/2022/03/catalysthotdogs.jpg
END:VEVENT
BEGIN:VEVENT
DTSTART;TZID=America/New_York:20260530T140000
DTEND;TZID=America/New_York:20260530T170000
DTSTAMP:20260421T163925
CREATED:20260325T164057Z
LAST-MODIFIED:20260325T164057Z
UID:6236-1780149600-1780160400@loneoakbrewingco.com
SUMMARY:Music - Deb and Gary
DESCRIPTION:
URL:https://loneoakbrewingco.com/event/music-deb-and-gary-2/
LOCATION:Lone Oak Brewery\, 5000 Olney Laytonsville Rd\, Olney\, MD\, 20832\, United States
ATTACH;FMTTYPE=image/jpeg:https://loneoakbrewingco.com/wp-content/uploads/2024/12/DebAndGary.jpeg
END:VEVENT
BEGIN:VEVENT
DTSTART;VALUE=DATE:20260531
DTEND;VALUE=DATE:20260601
DTSTAMP:20260421T163925
CREATED:20260325T164142Z
LAST-MODIFIED:20260325T164142Z
UID:6238-1780185600-1780271999@loneoakbrewingco.com
SUMMARY:Food Truck - BBQ and Tech
DESCRIPTION:
URL:https://loneoakbrewingco.com/event/food-truck-bbq-and-tech-9/
LOCATION:Lone Oak Brewery\, 5000 Olney Laytonsville Rd\, Olney\, MD\, 20832\, United States
ATTACH;FMTTYPE=image/jpeg:https://loneoakbrewingco.com/wp-content/uploads/2026/02/BBQ-and-Tech.jpg
END:VEVENT
BEGIN:VEVENT
DTSTART;TZID=America/New_York:20260531T140000
DTEND;TZID=America/New_York:20260531T170000
DTSTAMP:20260421T163925
CREATED:20260325T164626Z
LAST-MODIFIED:20260325T164626Z
UID:6240-1780236000-1780246800@loneoakbrewingco.com
SUMMARY:Music - The Liquor Store Boys
DESCRIPTION:
URL:https://loneoakbrewingco.com/event/music-the-liquor-store-boys-2/
LOCATION:Lone Oak Brewery\, 5000 Olney Laytonsville Rd\, Olney\, MD\, 20832\, United States
ATTACH;FMTTYPE=image/jpeg:https://loneoakbrewingco.com/wp-content/uploads/2025/01/TheLiquorStoreBoysBand.jpeg
END:VEVENT
BEGIN:VEVENT
DTSTART;VALUE=DATE:20260604
DTEND;VALUE=DATE:20260605
DTSTAMP:20260421T163925
CREATED:20260408T195203Z
LAST-MODIFIED:20260408T195203Z
UID:6301-1780531200-1780617599@loneoakbrewingco.com
SUMMARY:Proof 86 Thursday
DESCRIPTION:Proof 86 Thursdays!  \nStop by Fallen Oak Distilling any Thursday and enjoy 20% off ALL drinks\, merchandise\, and bottles. \nDon’t miss out – make your Thursday the best day of the week! 
URL:https://loneoakbrewingco.com/event/proof-86-thursday-5/
LOCATION:Fallen Oak Distilling\, 5000 Olney Laytonsville Rd\, Olney\, MD\, 20832\, United States
ATTACH;FMTTYPE=image/jpeg:https://loneoakbrewingco.com/wp-content/uploads/2023/06/Fallen-Oak-Logo.jpg
END:VEVENT
BEGIN:VEVENT
DTSTART;TZID=America/New_York:20260604T180000
DTEND;TZID=America/New_York:20260604T200000
DTSTAMP:20260421T163925
CREATED:20260408T195426Z
LAST-MODIFIED:20260408T195426Z
UID:6307-1780596000-1780603200@loneoakbrewingco.com
SUMMARY:Happy Hour
DESCRIPTION:
URL:https://loneoakbrewingco.com/event/happy-hour-20/
LOCATION:Lone Oak Brewery\, 5000 Olney Laytonsville Rd\, Olney\, MD\, 20832\, United States
ATTACH;FMTTYPE=image/png:https://loneoakbrewingco.com/wp-content/uploads/2025/11/Thursday.png
END:VEVENT
BEGIN:VEVENT
DTSTART;TZID=America/New_York:20260604T180000
DTEND;TZID=America/New_York:20260604T200000
DTSTAMP:20260421T163925
CREATED:20260408T195912Z
LAST-MODIFIED:20260408T195912Z
UID:6313-1780596000-1780603200@loneoakbrewingco.com
SUMMARY:Trivia Thursday
DESCRIPTION:
URL:https://loneoakbrewingco.com/event/trivia-thursday-25/
LOCATION:Lone Oak Brewery\, 5000 Olney Laytonsville Rd\, Olney\, MD\, 20832\, United States
ATTACH;FMTTYPE=image/jpeg:https://loneoakbrewingco.com/wp-content/uploads/2023/08/pourhousetrivia-1.jpg
END:VEVENT
BEGIN:VEVENT
DTSTART;VALUE=DATE:20260606
DTEND;VALUE=DATE:20260607
DTSTAMP:20260421T163925
CREATED:20260401T160127Z
LAST-MODIFIED:20260401T160127Z
UID:6250-1780704000-1780790399@loneoakbrewingco.com
SUMMARY:Food Truck - Square Taco
DESCRIPTION:
URL:https://loneoakbrewingco.com/event/food-truck-square-taco-11/
LOCATION:Lone Oak Brewery\, 5000 Olney Laytonsville Rd\, Olney\, MD\, 20832\, United States
ATTACH;FMTTYPE=image/webp:https://loneoakbrewingco.com/wp-content/uploads/2024/10/SQUARE-TACO.webp
END:VEVENT
BEGIN:VEVENT
DTSTART;TZID=America/New_York:20260606T140000
DTEND;TZID=America/New_York:20260606T170000
DTSTAMP:20260421T163925
CREATED:20260401T160232Z
LAST-MODIFIED:20260401T160232Z
UID:6252-1780754400-1780765200@loneoakbrewingco.com
SUMMARY:Music - One Step Down
DESCRIPTION:
URL:https://loneoakbrewingco.com/event/music-one-step-down-2/
LOCATION:Lone Oak Brewery\, 5000 Olney Laytonsville Rd\, Olney\, MD\, 20832\, United States
ATTACH;FMTTYPE=image/jpeg:https://loneoakbrewingco.com/wp-content/uploads/2025/01/OneStepDown.jpeg
END:VEVENT
BEGIN:VEVENT
DTSTART;VALUE=DATE:20260607
DTEND;VALUE=DATE:20260608
DTSTAMP:20260421T163925
CREATED:20260401T160319Z
LAST-MODIFIED:20260401T160319Z
UID:6254-1780790400-1780876799@loneoakbrewingco.com
SUMMARY:Food Truck - Gauchito Steaks
DESCRIPTION:
URL:https://loneoakbrewingco.com/event/food-truck-gauchito-steaks-6/
LOCATION:Lone Oak Brewery\, 5000 Olney Laytonsville Rd\, Olney\, MD\, 20832\, United States
ATTACH;FMTTYPE=image/jpeg:https://loneoakbrewingco.com/wp-content/uploads/2025/06/gauchito.jpeg
END:VEVENT
BEGIN:VEVENT
DTSTART;TZID=America/New_York:20260607T140000
DTEND;TZID=America/New_York:20260607T170000
DTSTAMP:20260421T163925
CREATED:20260401T160419Z
LAST-MODIFIED:20260401T160419Z
UID:6256-1780840800-1780851600@loneoakbrewingco.com
SUMMARY:Music - Left of Center
DESCRIPTION:
URL:https://loneoakbrewingco.com/event/music-left-of-center/
LOCATION:Lone Oak Brewery\, 5000 Olney Laytonsville Rd\, Olney\, MD\, 20832\, United States
ATTACH;FMTTYPE=image/png:https://loneoakbrewingco.com/wp-content/uploads/2022/04/cropped-login.png
END:VEVENT
BEGIN:VEVENT
DTSTART;TZID=America/New_York:20260607T160000
DTEND;TZID=America/New_York:20260607T200000
DTSTAMP:20260421T163925
CREATED:20260401T162551Z
LAST-MODIFIED:20260401T162551Z
UID:6258-1780848000-1780862400@loneoakbrewingco.com
SUMMARY:Cheers to Charity!
DESCRIPTION:Supporting Comfort Cases
URL:https://loneoakbrewingco.com/event/cheers-to-charity-7/
LOCATION:Fallen Oak Distilling\, 5000 Olney Laytonsville Rd\, Olney\, MD\, 20832\, United States
ATTACH;FMTTYPE=image/jpeg:https://loneoakbrewingco.com/wp-content/uploads/2023/06/Fallen-Oak-Logo.jpg
END:VEVENT
BEGIN:VEVENT
DTSTART;TZID=America/New_York:20260610T170000
DTEND;TZID=America/New_York:20260610T200000
DTSTAMP:20260421T163925
CREATED:20260408T151410Z
LAST-MODIFIED:20260408T151410Z
UID:6264-1781110800-1781121600@loneoakbrewingco.com
SUMMARY:NonProfit Night
DESCRIPTION:
URL:https://loneoakbrewingco.com/event/nonprofit-night-6/
LOCATION:Lone Oak Brewery\, 5000 Olney Laytonsville Rd\, Olney\, MD\, 20832\, United States
ATTACH;FMTTYPE=image/png:https://loneoakbrewingco.com/wp-content/uploads/2022/04/cropped-login.png
END:VEVENT
BEGIN:VEVENT
DTSTART;TZID=America/New_York:20260610T180000
DTEND;TZID=America/New_York:20260610T200000
DTSTAMP:20260421T163925
CREATED:20260408T151312Z
LAST-MODIFIED:20260408T151312Z
UID:6262-1781114400-1781121600@loneoakbrewingco.com
SUMMARY:Line Dancing in the Pavilion
DESCRIPTION:Tickets – $15 \nIncludes ticket and a drink ticket.
URL:https://loneoakbrewingco.com/event/line-dancing-in-the-pavilion-3/
LOCATION:Lone Oak Brewery\, 5000 Olney Laytonsville Rd\, Olney\, MD\, 20832\, United States
ATTACH;FMTTYPE=image/png:https://loneoakbrewingco.com/wp-content/uploads/2022/04/cropped-login.png
END:VEVENT
BEGIN:VEVENT
DTSTART;VALUE=DATE:20260611
DTEND;VALUE=DATE:20260612
DTSTAMP:20260421T163925
CREATED:20260408T195242Z
LAST-MODIFIED:20260408T195242Z
UID:6303-1781136000-1781222399@loneoakbrewingco.com
SUMMARY:Proof 86 Thursday
DESCRIPTION:Proof 86 Thursdays!  \nStop by Fallen Oak Distilling any Thursday and enjoy 20% off ALL drinks\, merchandise\, and bottles. \nDon’t miss out – make your Thursday the best day of the week! 
URL:https://loneoakbrewingco.com/event/proof-86-thursday-6/
LOCATION:Fallen Oak Distilling\, 5000 Olney Laytonsville Rd\, Olney\, MD\, 20832\, United States
ATTACH;FMTTYPE=image/jpeg:https://loneoakbrewingco.com/wp-content/uploads/2023/06/Fallen-Oak-Logo.jpg
END:VEVENT
END:VCALENDAR