BEGIN:VCALENDAR
VERSION:2.0
PRODID:-//Lone Oak Brewing Co. - ECPv6.15.20//NONSGML v1.0//EN
CALSCALE:GREGORIAN
METHOD:PUBLISH
X-WR-CALNAME:Lone Oak Brewing Co.
X-ORIGINAL-URL:https://loneoakbrewingco.com
X-WR-CALDESC:Events for Lone Oak Brewing Co.
REFRESH-INTERVAL;VALUE=DURATION:PT1H
X-Robots-Tag:noindex
X-PUBLISHED-TTL:PT1H
BEGIN:VTIMEZONE
TZID:UTC
BEGIN:STANDARD
TZOFFSETFROM:+0000
TZOFFSETTO:+0000
TZNAME:UTC
DTSTART:20220101T000000
END:STANDARD
END:VTIMEZONE
BEGIN:VEVENT
DTSTART;TZID=UTC:20231028T140000
DTEND;TZID=UTC:20231028T170000
DTSTAMP:20260423T024846
CREATED:20230827T192845Z
LAST-MODIFIED:20231006T214238Z
UID:3427-1698501600-1698512400@loneoakbrewingco.com
SUMMARY:LIVE MUSIC- BRIAN HARRIS
DESCRIPTION:
URL:https://loneoakbrewingco.com/event/live-music-empris-3/
LOCATION:Lone Oak Brewery\, 5000 Olney Laytonsville Rd\, Olney\, MD\, 20832\, United States
CATEGORIES:Live Music
ATTACH;FMTTYPE=image/png:https://loneoakbrewingco.com/wp-content/uploads/2023/10/Screen-Shot-2023-10-06-at-1.26.35-PM.png
END:VEVENT
BEGIN:VEVENT
DTSTART;TZID=UTC:20231029T120000
DTEND;TZID=UTC:20231029T200000
DTSTAMP:20260423T024846
CREATED:20230827T192932Z
LAST-MODIFIED:20230827T192932Z
UID:3429-1698580800-1698609600@loneoakbrewingco.com
SUMMARY:FOOD TRUCK- MARIA'S KITCHEN
DESCRIPTION:
URL:https://loneoakbrewingco.com/event/food-truck-marias-kitchen-10/
LOCATION:Lone Oak Brewery\, 5000 Olney Laytonsville Rd\, Olney\, MD\, 20832\, United States
CATEGORIES:Food Truck,Live Music
ATTACH;FMTTYPE=image/png:https://loneoakbrewingco.com/wp-content/uploads/2023/08/Screenshot-2023-03-17-at-9.25.03-PM.png
END:VEVENT
BEGIN:VEVENT
DTSTART;TZID=UTC:20231029T140000
DTEND;TZID=UTC:20231029T170000
DTSTAMP:20260423T024846
CREATED:20230827T193007Z
LAST-MODIFIED:20230914T231527Z
UID:3431-1698588000-1698598800@loneoakbrewingco.com
SUMMARY:LIVE MUSIC- EMPTY ECSTASY
DESCRIPTION:
URL:https://loneoakbrewingco.com/event/live-music-empty-ectasy-3/
LOCATION:Lone Oak Brewery\, 5000 Olney Laytonsville Rd\, Olney\, MD\, 20832\, United States
CATEGORIES:Live Music
ATTACH;FMTTYPE=image/png:https://loneoakbrewingco.com/wp-content/uploads/2023/08/Screenshot-2023-02-08-at-4.37.51-PM.png
END:VEVENT
BEGIN:VEVENT
DTSTART;TZID=UTC:20231102T180000
DTEND;TZID=UTC:20231102T200000
DTSTAMP:20260423T024846
CREATED:20231025T084650Z
LAST-MODIFIED:20231025T084747Z
UID:3534-1698948000-1698955200@loneoakbrewingco.com
SUMMARY:TRIVIA
DESCRIPTION:Grab your thinking cap and test your knowledge with Pour House Trivia! Get a group together for prizes and $5 beer! All ages and levels are welcome. \nWe’ll see you there!
URL:https://loneoakbrewingco.com/event/trivia-2-2023-11-02/
LOCATION:Lone Oak Brewery\, 5000 Olney Laytonsville Rd\, Olney\, MD\, 20832\, United States
ATTACH;FMTTYPE=image/jpeg:https://loneoakbrewingco.com/wp-content/uploads/2023/08/pourhousetrivia-1.jpg
END:VEVENT
BEGIN:VEVENT
DTSTART;TZID=UTC:20231104T120000
DTEND;TZID=UTC:20231104T200000
DTSTAMP:20260423T024846
CREATED:20231006T205024Z
LAST-MODIFIED:20231006T205024Z
UID:3458-1699099200-1699128000@loneoakbrewingco.com
SUMMARY:FOOD TRUCK: FLIPSIDE
DESCRIPTION:
URL:https://loneoakbrewingco.com/event/food-truck-flipside-3/
LOCATION:Lone Oak Brewery\, 5000 Olney Laytonsville Rd\, Olney\, MD\, 20832\, United States
CATEGORIES:Food Truck
ATTACH;FMTTYPE=image/jpeg:https://loneoakbrewingco.com/wp-content/uploads/2023/08/Capture-23.jpg
END:VEVENT
BEGIN:VEVENT
DTSTART;TZID=UTC:20231104T140000
DTEND;TZID=UTC:20231104T170000
DTSTAMP:20260423T024846
CREATED:20231006T211527Z
LAST-MODIFIED:20231006T211527Z
UID:3475-1699106400-1699117200@loneoakbrewingco.com
SUMMARY:LIVE MUSIC: SEAN CHYUN
DESCRIPTION:
URL:https://loneoakbrewingco.com/event/live-music-sean-chyun-3/
LOCATION:Lone Oak Brewery\, 5000 Olney Laytonsville Rd\, Olney\, MD\, 20832\, United States
CATEGORIES:Live Music
ATTACH;FMTTYPE=image/png:https://loneoakbrewingco.com/wp-content/uploads/2023/08/darkLogo_4002cac9-c135-4d2f-a21e-7c5618effe27.png
END:VEVENT
BEGIN:VEVENT
DTSTART;TZID=UTC:20231105T110000
DTEND;TZID=UTC:20231105T130000
DTSTAMP:20260423T024846
CREATED:20231025T083019Z
LAST-MODIFIED:20231025T083019Z
UID:3523-1699182000-1699189200@loneoakbrewingco.com
SUMMARY:CARS & CRAFT BREWS
DESCRIPTION:Looking for a unique way to spend a Sunday morning? Come join Lone Oak for a one-of-a-kind Cars & Craft Brews event! Bring any car to participate or just come to take in the beauty of unique and vintage cars. \nSee some cool cars and then drink a cool beer. No better way to spend the day! \nThere is no fee and any car can attend. Sign up here: https://www.cognitoforms.com/INEXConstructionInc/CARSNCRAFTREGISTRATION
URL:https://loneoakbrewingco.com/event/cars-craft-brews-4/
LOCATION:Lone Oak Brewery\, 5000 Olney Laytonsville Rd\, Olney\, MD\, 20832\, United States
ATTACH;FMTTYPE=image/png:https://loneoakbrewingco.com/wp-content/uploads/2023/08/Screenshot-2023-04-20-at-7.32.00-PM.png
END:VEVENT
BEGIN:VEVENT
DTSTART;TZID=UTC:20231105T120000
DTEND;TZID=UTC:20231105T200000
DTSTAMP:20260423T024846
CREATED:20231006T205419Z
LAST-MODIFIED:20231006T205419Z
UID:3462-1699185600-1699214400@loneoakbrewingco.com
SUMMARY:FOOD TRUCK: PHO WHEELS
DESCRIPTION:
URL:https://loneoakbrewingco.com/event/food-truck-pho-wheels-9/
LOCATION:Lone Oak Brewery\, 5000 Olney Laytonsville Rd\, Olney\, MD\, 20832\, United States
CATEGORIES:Food Truck
ATTACH;FMTTYPE=image/jpeg:https://loneoakbrewingco.com/wp-content/uploads/2023/10/phowheels-e1631744329223.jpg
END:VEVENT
BEGIN:VEVENT
DTSTART;TZID=UTC:20231109T180000
DTEND;TZID=UTC:20231109T200000
DTSTAMP:20260423T024846
CREATED:20231025T084650Z
LAST-MODIFIED:20231025T084747Z
UID:3536-1699552800-1699560000@loneoakbrewingco.com
SUMMARY:TRIVIA
DESCRIPTION:Grab your thinking cap and test your knowledge with Pour House Trivia! Get a group together for prizes and $5 beer! All ages and levels are welcome. \nWe’ll see you there!
URL:https://loneoakbrewingco.com/event/trivia-2-2023-11-09/
LOCATION:Lone Oak Brewery\, 5000 Olney Laytonsville Rd\, Olney\, MD\, 20832\, United States
ATTACH;FMTTYPE=image/jpeg:https://loneoakbrewingco.com/wp-content/uploads/2023/08/pourhousetrivia-1.jpg
END:VEVENT
BEGIN:VEVENT
DTSTART;TZID=UTC:20231111T120000
DTEND;TZID=UTC:20231111T200000
DTSTAMP:20260423T024846
CREATED:20231006T205202Z
LAST-MODIFIED:20231006T205202Z
UID:3460-1699704000-1699732800@loneoakbrewingco.com
SUMMARY:FOOD TRUCK: GRUBBING HARD
DESCRIPTION:ABOUT GRUBBING HARD BBQ:\n“Pitmaster and GHB owner Matt Chanin is a local Olney native and Sherwood High School graduate. When COVID struck Matt lost his day job at a law firm and quickly went from pushing paper to pursuing his true passion for food and hospitality. On almost every Saturday in 2020\, lines of cars would wait outside Matt’s parent’s house for their scheduled curbside pickup and dose of Texas-inspired barbecue. Matt’s “Grubbing Hard” instagram account quickly blew up within the local community and GHB would transform from a hobby to a legitimate food truck and catering business.” \nMATT’S THOUGHTS: \n“In early 2021 when I learned that they (Lone Oak) were building a brewery right next to my neighborhood\, I saw a perfect opportunity. I reached out to the owners and asked if I could come introduce myself and bring them a tray of bbq. The rest is history!” \n“Being from Olney I especially enjoy working with Lone Oak because of all the familiar faces we see every visit. We try to focus on the hospitality aspect as much as the food itself\, so it’s particularly fulfilling for me to see friends and neighbors supporting local businesses – and more importantly – enjoying our Que! I don’t think any food pairs better with a cold beer on a sunny day than our barbecue.” \n“My favorite food to serve 100% is our brisket. It’s one of those foods you can’t get at many places so I knew if ours was good we’d be able stand out. The brisket cooking process can take up to 18 hours and requires a lot of attention to detail\, so it’s rewarding when people recognize and appreciate the craft behind our work. It’s the best feeling when people tell us that our brisket is the best they’ve ever had. We want every bite to be the best”.
URL:https://loneoakbrewingco.com/event/food-truck-grubbing-hard-5/
LOCATION:Lone Oak Brewery\, 5000 Olney Laytonsville Rd\, Olney\, MD\, 20832\, United States
CATEGORIES:Food Truck
ATTACH;FMTTYPE=image/jpeg:https://loneoakbrewingco.com/wp-content/uploads/2023/08/grubbin-hard.jpeg
END:VEVENT
BEGIN:VEVENT
DTSTART;TZID=UTC:20231111T140000
DTEND;TZID=UTC:20231111T170000
DTSTAMP:20260423T024846
CREATED:20231006T211631Z
LAST-MODIFIED:20231006T211631Z
UID:3477-1699711200-1699722000@loneoakbrewingco.com
SUMMARY:LIVE MUSIC: BRIAN HARRIS
DESCRIPTION:
URL:https://loneoakbrewingco.com/event/live-music-brian-harris-10/
LOCATION:Lone Oak Brewery\, 5000 Olney Laytonsville Rd\, Olney\, MD\, 20832\, United States
ATTACH;FMTTYPE=image/png:https://loneoakbrewingco.com/wp-content/uploads/2023/08/darkLogo_4002cac9-c135-4d2f-a21e-7c5618effe27.png
END:VEVENT
BEGIN:VEVENT
DTSTART;TZID=UTC:20231112T120000
DTEND;TZID=UTC:20231112T200000
DTSTAMP:20260423T024846
CREATED:20231006T205836Z
LAST-MODIFIED:20231006T205836Z
UID:3469-1699790400-1699819200@loneoakbrewingco.com
SUMMARY:FOOD TRUCK: DM SLIDERS
DESCRIPTION:
URL:https://loneoakbrewingco.com/event/food-truck-dm-sliders-3/
LOCATION:Lone Oak Brewery\, 5000 Olney Laytonsville Rd\, Olney\, MD\, 20832\, United States
ATTACH;FMTTYPE=image/png:https://loneoakbrewingco.com/wp-content/uploads/2023/05/Screenshot-2023-05-25-at-3.02.27-PM.png
END:VEVENT
BEGIN:VEVENT
DTSTART;TZID=UTC:20231116T180000
DTEND;TZID=UTC:20231116T200000
DTSTAMP:20260423T024846
CREATED:20231025T084650Z
LAST-MODIFIED:20231025T084747Z
UID:3538-1700157600-1700164800@loneoakbrewingco.com
SUMMARY:TRIVIA
DESCRIPTION:Grab your thinking cap and test your knowledge with Pour House Trivia! Get a group together for prizes and $5 beer! All ages and levels are welcome. \nWe’ll see you there!
URL:https://loneoakbrewingco.com/event/trivia-2-2023-11-16/
LOCATION:Lone Oak Brewery\, 5000 Olney Laytonsville Rd\, Olney\, MD\, 20832\, United States
ATTACH;FMTTYPE=image/jpeg:https://loneoakbrewingco.com/wp-content/uploads/2023/08/pourhousetrivia-1.jpg
END:VEVENT
BEGIN:VEVENT
DTSTART;TZID=UTC:20231118T120000
DTEND;TZID=UTC:20231118T200000
DTSTAMP:20260423T024846
CREATED:20231006T205942Z
LAST-MODIFIED:20231006T211022Z
UID:3471-1700308800-1700337600@loneoakbrewingco.com
SUMMARY:FOOD TRUCK: MARIA'S KITCHEN
DESCRIPTION:
URL:https://loneoakbrewingco.com/event/food-truck-marias-kitchen-11/
LOCATION:Lone Oak Brewery\, 5000 Olney Laytonsville Rd\, Olney\, MD\, 20832\, United States
CATEGORIES:Food Truck
ATTACH;FMTTYPE=image/png:https://loneoakbrewingco.com/wp-content/uploads/2023/08/Screenshot-2023-03-17-at-9.25.03-PM.png
END:VEVENT
BEGIN:VEVENT
DTSTART;TZID=UTC:20231118T140000
DTEND;TZID=UTC:20231118T170000
DTSTAMP:20260423T024846
CREATED:20231006T211751Z
LAST-MODIFIED:20231006T211751Z
UID:3479-1700316000-1700326800@loneoakbrewingco.com
SUMMARY:LIVE MUSIC: NOAH BOOZ
DESCRIPTION:
URL:https://loneoakbrewingco.com/event/live-music-noah-booz-6/
LOCATION:Lone Oak Brewery\, 5000 Olney Laytonsville Rd\, Olney\, MD\, 20832\, United States
CATEGORIES:Live Music
ATTACH;FMTTYPE=image/png:https://loneoakbrewingco.com/wp-content/uploads/2023/08/Screen-Shot-2022-10-14-at-7.11.50-PM-e1665789147651.png
END:VEVENT
BEGIN:VEVENT
DTSTART;TZID=UTC:20231119T120000
DTEND;TZID=UTC:20231119T200000
DTSTAMP:20260423T024846
CREATED:20231006T205636Z
LAST-MODIFIED:20231006T205636Z
UID:3465-1700395200-1700424000@loneoakbrewingco.com
SUMMARY:FOOD TRUCK: PHO WHEELS
DESCRIPTION:
URL:https://loneoakbrewingco.com/event/food-truck-pho-wheels-12/
LOCATION:Lone Oak Brewery\, 5000 Olney Laytonsville Rd\, Olney\, MD\, 20832\, United States
CATEGORIES:Food Truck
ATTACH;FMTTYPE=image/jpeg:https://loneoakbrewingco.com/wp-content/uploads/2023/10/phowheels-e1631744329223.jpg
END:VEVENT
BEGIN:VEVENT
DTSTART;TZID=UTC:20231123T180000
DTEND;TZID=UTC:20231123T200000
DTSTAMP:20260423T024846
CREATED:20231025T084650Z
LAST-MODIFIED:20231025T084747Z
UID:3540-1700762400-1700769600@loneoakbrewingco.com
SUMMARY:TRIVIA
DESCRIPTION:Grab your thinking cap and test your knowledge with Pour House Trivia! Get a group together for prizes and $5 beer! All ages and levels are welcome. \nWe’ll see you there!
URL:https://loneoakbrewingco.com/event/trivia-2-2023-11-23/
LOCATION:Lone Oak Brewery\, 5000 Olney Laytonsville Rd\, Olney\, MD\, 20832\, United States
ATTACH;FMTTYPE=image/jpeg:https://loneoakbrewingco.com/wp-content/uploads/2023/08/pourhousetrivia-1.jpg
END:VEVENT
BEGIN:VEVENT
DTSTART;TZID=UTC:20231125T120000
DTEND;TZID=UTC:20231125T200000
DTSTAMP:20260423T024846
CREATED:20231006T211205Z
LAST-MODIFIED:20231006T211205Z
UID:3473-1700913600-1700942400@loneoakbrewingco.com
SUMMARY:FOOD TRUCK: DM SLIDERS
DESCRIPTION:
URL:https://loneoakbrewingco.com/event/food-truck-dm-sliders-4/
LOCATION:Lone Oak Brewery\, 5000 Olney Laytonsville Rd\, Olney\, MD\, 20832\, United States
CATEGORIES:Food Truck
ATTACH;FMTTYPE=image/png:https://loneoakbrewingco.com/wp-content/uploads/2023/05/Screenshot-2023-05-25-at-3.02.27-PM.png
END:VEVENT
BEGIN:VEVENT
DTSTART;TZID=UTC:20231125T140000
DTEND;TZID=UTC:20231125T170000
DTSTAMP:20260423T024846
CREATED:20231006T211828Z
LAST-MODIFIED:20231006T211828Z
UID:3481-1700920800-1700931600@loneoakbrewingco.com
SUMMARY:LIVE MUSIC: ONE STEP DOWN
DESCRIPTION:
URL:https://loneoakbrewingco.com/event/live-music-one-step-down-2/
LOCATION:Lone Oak Brewery\, 5000 Olney Laytonsville Rd\, Olney\, MD\, 20832\, United States
CATEGORIES:Live Music
ATTACH;FMTTYPE=image/png:https://loneoakbrewingco.com/wp-content/uploads/2023/08/darkLogo_4002cac9-c135-4d2f-a21e-7c5618effe27.png
END:VEVENT
BEGIN:VEVENT
DTSTART;TZID=UTC:20231126T120000
DTEND;TZID=UTC:20231126T200000
DTSTAMP:20260423T024846
CREATED:20231006T205724Z
LAST-MODIFIED:20231006T205724Z
UID:3467-1701000000-1701028800@loneoakbrewingco.com
SUMMARY:FOOD TRUCK: PHO WHEELS
DESCRIPTION:
URL:https://loneoakbrewingco.com/event/food-truck-pho-wheels-13/
LOCATION:Lone Oak Brewery\, 5000 Olney Laytonsville Rd\, Olney\, MD\, 20832\, United States
CATEGORIES:Food Truck
ATTACH;FMTTYPE=image/jpeg:https://loneoakbrewingco.com/wp-content/uploads/2023/10/phowheels-e1631744329223.jpg
END:VEVENT
BEGIN:VEVENT
DTSTART;TZID=UTC:20231130T180000
DTEND;TZID=UTC:20231130T200000
DTSTAMP:20260423T024846
CREATED:20231025T084650Z
LAST-MODIFIED:20231025T084748Z
UID:3542-1701367200-1701374400@loneoakbrewingco.com
SUMMARY:TRIVIA
DESCRIPTION:Grab your thinking cap and test your knowledge with Pour House Trivia! Get a group together for prizes and $5 beer! All ages and levels are welcome. \nWe’ll see you there!
URL:https://loneoakbrewingco.com/event/trivia-2-2023-11-30/
LOCATION:Lone Oak Brewery\, 5000 Olney Laytonsville Rd\, Olney\, MD\, 20832\, United States
ATTACH;FMTTYPE=image/jpeg:https://loneoakbrewingco.com/wp-content/uploads/2023/08/pourhousetrivia-1.jpg
END:VEVENT
BEGIN:VEVENT
DTSTART;TZID=UTC:20231202T120000
DTEND;TZID=UTC:20231202T200000
DTSTAMP:20260423T024846
CREATED:20231006T211927Z
LAST-MODIFIED:20231006T211927Z
UID:3483-1701518400-1701547200@loneoakbrewingco.com
SUMMARY:FOOD TRUCK: FLIPSIDE
DESCRIPTION:
URL:https://loneoakbrewingco.com/event/food-truck-flipside-4/
LOCATION:Lone Oak Brewery\, 5000 Olney Laytonsville Rd\, Olney\, MD\, 20832\, United States
CATEGORIES:Food Truck
ATTACH;FMTTYPE=image/jpeg:https://loneoakbrewingco.com/wp-content/uploads/2023/08/Capture-23.jpg
END:VEVENT
BEGIN:VEVENT
DTSTART;TZID=UTC:20231202T140000
DTEND;TZID=UTC:20231202T170000
DTSTAMP:20260423T024846
CREATED:20231006T212705Z
LAST-MODIFIED:20231006T213616Z
UID:3494-1701525600-1701536400@loneoakbrewingco.com
SUMMARY:LIVE MUSIC: BRIAN HARRIS
DESCRIPTION:
URL:https://loneoakbrewingco.com/event/live-music-brian-harris-11/
LOCATION:Lone Oak Brewery\, 5000 Olney Laytonsville Rd\, Olney\, MD\, 20832\, United States
CATEGORIES:Live Music
ATTACH;FMTTYPE=image/png:https://loneoakbrewingco.com/wp-content/uploads/2023/10/Screen-Shot-2023-10-06-at-1.26.35-PM.png
END:VEVENT
BEGIN:VEVENT
DTSTART;TZID=UTC:20231207T180000
DTEND;TZID=UTC:20231207T200000
DTSTAMP:20260423T024846
CREATED:20231025T084650Z
LAST-MODIFIED:20231025T084748Z
UID:3544-1701972000-1701979200@loneoakbrewingco.com
SUMMARY:TRIVIA
DESCRIPTION:Grab your thinking cap and test your knowledge with Pour House Trivia! Get a group together for prizes and $5 beer! All ages and levels are welcome. \nWe’ll see you there!
URL:https://loneoakbrewingco.com/event/trivia-2-2023-12-07/
LOCATION:Lone Oak Brewery\, 5000 Olney Laytonsville Rd\, Olney\, MD\, 20832\, United States
ATTACH;FMTTYPE=image/jpeg:https://loneoakbrewingco.com/wp-content/uploads/2023/08/pourhousetrivia-1.jpg
END:VEVENT
BEGIN:VEVENT
DTSTART;TZID=UTC:20231209T120000
DTEND;TZID=UTC:20231209T200000
DTSTAMP:20260423T024846
CREATED:20231006T212111Z
LAST-MODIFIED:20231006T212120Z
UID:3485-1702123200-1702152000@loneoakbrewingco.com
SUMMARY:FOOD TRUCK: GRUBBING HARD
DESCRIPTION:ABOUT GRUBBING HARD BBQ:\n“Pitmaster and GHB owner Matt Chanin is a local Olney native and Sherwood High School graduate. When COVID struck Matt lost his day job at a law firm and quickly went from pushing paper to pursuing his true passion for food and hospitality. On almost every Saturday in 2020\, lines of cars would wait outside Matt’s parent’s house for their scheduled curbside pickup and dose of Texas-inspired barbecue. Matt’s “Grubbing Hard” instagram account quickly blew up within the local community and GHB would transform from a hobby to a legitimate food truck and catering business.” \nMATT’S THOUGHTS: \n“In early 2021 when I learned that they (Lone Oak) were building a brewery right next to my neighborhood\, I saw a perfect opportunity. I reached out to the owners and asked if I could come introduce myself and bring them a tray of bbq. The rest is history!” \n“Being from Olney I especially enjoy working with Lone Oak because of all the familiar faces we see every visit. We try to focus on the hospitality aspect as much as the food itself\, so it’s particularly fulfilling for me to see friends and neighbors supporting local businesses – and more importantly – enjoying our Que! I don’t think any food pairs better with a cold beer on a sunny day than our barbecue.” \n“My favorite food to serve 100% is our brisket. It’s one of those foods you can’t get at many places so I knew if ours was good we’d be able stand out. The brisket cooking process can take up to 18 hours and requires a lot of attention to detail\, so it’s rewarding when people recognize and appreciate the craft behind our work. It’s the best feeling when people tell us that our brisket is the best they’ve ever had. We want every bite to be the best”.
URL:https://loneoakbrewingco.com/event/food-truck-grubbing-hard-6/
LOCATION:Lone Oak Brewery\, 5000 Olney Laytonsville Rd\, Olney\, MD\, 20832\, United States
CATEGORIES:Food Truck
ATTACH;FMTTYPE=image/jpeg:https://loneoakbrewingco.com/wp-content/uploads/2023/08/grubbin-hard.jpeg
END:VEVENT
BEGIN:VEVENT
DTSTART;TZID=UTC:20231209T140000
DTEND;TZID=UTC:20231209T170000
DTSTAMP:20260423T024846
CREATED:20231006T213146Z
LAST-MODIFIED:20231006T213551Z
UID:3497-1702130400-1702141200@loneoakbrewingco.com
SUMMARY:LIVE MUSIC: BRIAN HARRIS
DESCRIPTION:
URL:https://loneoakbrewingco.com/event/live-music-brian-harris-12/
LOCATION:Lone Oak Brewery\, 5000 Olney Laytonsville Rd\, Olney\, MD\, 20832\, United States
CATEGORIES:Live Music
ATTACH;FMTTYPE=image/png:https://loneoakbrewingco.com/wp-content/uploads/2023/10/Screen-Shot-2023-10-06-at-1.26.35-PM.png
END:VEVENT
BEGIN:VEVENT
DTSTART;TZID=UTC:20231214T180000
DTEND;TZID=UTC:20231214T200000
DTSTAMP:20260423T024846
CREATED:20231025T084650Z
LAST-MODIFIED:20231025T084748Z
UID:3546-1702576800-1702584000@loneoakbrewingco.com
SUMMARY:TRIVIA
DESCRIPTION:Grab your thinking cap and test your knowledge with Pour House Trivia! Get a group together for prizes and $5 beer! All ages and levels are welcome. \nWe’ll see you there!
URL:https://loneoakbrewingco.com/event/trivia-2-2023-12-14/
LOCATION:Lone Oak Brewery\, 5000 Olney Laytonsville Rd\, Olney\, MD\, 20832\, United States
ATTACH;FMTTYPE=image/jpeg:https://loneoakbrewingco.com/wp-content/uploads/2023/08/pourhousetrivia-1.jpg
END:VEVENT
BEGIN:VEVENT
DTSTART;TZID=UTC:20231216T120000
DTEND;TZID=UTC:20231216T140000
DTSTAMP:20260423T024846
CREATED:20231216T050709Z
LAST-MODIFIED:20231216T050709Z
UID:3579-1702728000-1702735200@loneoakbrewingco.com
SUMMARY:Santa at The Farm!
DESCRIPTION:Santa’s coming to town and making a special stop at Lone Oak from 12-2pm! Gather the family and don’t forget to bring your wish list!
URL:https://loneoakbrewingco.com/event/santa-at-the-farm-2/
LOCATION:Lone Oak Brewery\, 5000 Olney Laytonsville Rd\, Olney\, MD\, 20832\, United States
ATTACH;FMTTYPE=image/png:https://loneoakbrewingco.com/wp-content/uploads/2023/12/thumbnail_20223-SANTA-FLYER-1.png
END:VEVENT
BEGIN:VEVENT
DTSTART;TZID=UTC:20231216T120000
DTEND;TZID=UTC:20231216T200000
DTSTAMP:20260423T024846
CREATED:20231006T212221Z
LAST-MODIFIED:20231006T212221Z
UID:3488-1702728000-1702756800@loneoakbrewingco.com
SUMMARY:FOOD TRUCK: PAELLA AND TAPAS
DESCRIPTION:
URL:https://loneoakbrewingco.com/event/food-truck-paella-and-tapas-8/
LOCATION:Lone Oak Brewery\, 5000 Olney Laytonsville Rd\, Olney\, MD\, 20832\, United States
CATEGORIES:Food Truck
ATTACH;FMTTYPE=image/jpeg:https://loneoakbrewingco.com/wp-content/uploads/2023/08/348s.jpg
END:VEVENT
BEGIN:VEVENT
DTSTART;TZID=UTC:20231216T140000
DTEND;TZID=UTC:20231216T170000
DTSTAMP:20260423T024846
CREATED:20231006T213721Z
LAST-MODIFIED:20231216T050941Z
UID:3499-1702735200-1702746000@loneoakbrewingco.com
SUMMARY:LIVE MUSIC: DREW CLINE
DESCRIPTION:
URL:https://loneoakbrewingco.com/event/live-music-sean-chyun-4/
LOCATION:Lone Oak Brewery\, 5000 Olney Laytonsville Rd\, Olney\, MD\, 20832\, United States
CATEGORIES:Live Music
ATTACH;FMTTYPE=image/png:https://loneoakbrewingco.com/wp-content/uploads/2023/08/Screenshot-2023-02-17-at-2.45.29-PM-e1676665711390.png
END:VEVENT
END:VCALENDAR