BEGIN:VCALENDAR
VERSION:2.0
PRODID:-//Lone Oak Brewing Co. - ECPv6.15.20//NONSGML v1.0//EN
CALSCALE:GREGORIAN
METHOD:PUBLISH
X-ORIGINAL-URL:https://loneoakbrewingco.com
X-WR-CALDESC:Events for Lone Oak Brewing Co.
REFRESH-INTERVAL;VALUE=DURATION:PT1H
X-Robots-Tag:noindex
X-PUBLISHED-TTL:PT1H
BEGIN:VTIMEZONE
TZID:UTC
BEGIN:STANDARD
TZOFFSETFROM:+0000
TZOFFSETTO:+0000
TZNAME:UTC
DTSTART:20220101T000000
END:STANDARD
END:VTIMEZONE
BEGIN:VEVENT
DTSTART;TZID=UTC:20230401T140000
DTEND;TZID=UTC:20230401T170000
DTSTAMP:20260422T065801
CREATED:20230206T030240Z
LAST-MODIFIED:20230206T030400Z
UID:2786-1680357600-1680368400@loneoakbrewingco.com
SUMMARY:LIVE MUSIC - ANTHONY FRIJIA
DESCRIPTION:Anthony grew up in Harford County and didn’t start playing guitar until he was a student at Salisbury University. His songwriting has taken several twists and turns over the past several years\, most recently with his folk-americana record “Nomad Sound” (2021). His music is heavily influenced by modern folk\, blues\, and pop artists from Tom Petty to John Mayer to Chris Stapleton. He’s looking forward to bringing his one-man-band show to Lone Oak!
URL:https://loneoakbrewingco.com/event/live-music-anthony-frijia/
LOCATION:MD
CATEGORIES:Live Music
ATTACH;FMTTYPE=image/png:https://loneoakbrewingco.com/wp-content/uploads/2023/02/Screenshot-2023-02-03-at-8.22.43-PM-e1675634613979.png
END:VEVENT
BEGIN:VEVENT
DTSTART;TZID=UTC:20230402T110000
DTEND;TZID=UTC:20230402T130000
DTSTAMP:20260422T065801
CREATED:20230302T001444Z
LAST-MODIFIED:20230302T002444Z
UID:2895-1680433200-1680440400@loneoakbrewingco.com
SUMMARY:BRUNCH AND BREWS with the Easter Bunny!
DESCRIPTION:You won’t want to miss all the goings on at the farm! Beginning with Flipside Gastro To Go serving a delicious brunch starting at 11 AM. Stick around for the Easter Egg Hunt with prizes at 12 PM. Keep an eye out for the Easter Bunny hopping around. You can even get your picture with him! And don’t forget to grab a Mimosa Seltzer. See you there!
URL:https://loneoakbrewingco.com/event/brunch-and-brews-with-the-easter-bunny-2/
LOCATION:Lone Oak Brewery\, 5000 Olney Laytonsville Rd\, Olney\, MD\, 20832\, United States
CATEGORIES:Holiday Events
ATTACH;FMTTYPE=image/png:https://loneoakbrewingco.com/wp-content/uploads/2023/03/Screenshot-2023-03-01-at-2.24.07-PM-e1677698672171.png
END:VEVENT
BEGIN:VEVENT
DTSTART;TZID=UTC:20230402T110000
DTEND;TZID=UTC:20230402T180000
DTSTAMP:20260422T065801
CREATED:20230302T000213Z
LAST-MODIFIED:20230302T000213Z
UID:2893-1680433200-1680458400@loneoakbrewingco.com
SUMMARY:FOOD TRUCK - FLIPSIDE GASTRO TO GO EASTER BRUNCH!
DESCRIPTION:Come out to Lone Oak to celebrate Easter brunch from Flipside Gastro to Go! The menu will have special brunch items you won’t want to miss!
URL:https://loneoakbrewingco.com/event/food-truck-flipside-gastro-to-go-easter-brunch/
LOCATION:Lone Oak Brewery\, 5000 Olney Laytonsville Rd\, Olney\, MD\, 20832\, United States
CATEGORIES:Food Truck
ATTACH;FMTTYPE=image/jpeg:https://loneoakbrewingco.com/wp-content/uploads/2022/03/flipside-gastro-truck.jpeg
END:VEVENT
BEGIN:VEVENT
DTSTART;TZID=UTC:20230406T180000
DTEND;TZID=UTC:20230406T200000
DTSTAMP:20260422T065801
CREATED:20230324T014429Z
LAST-MODIFIED:20230324T014429Z
UID:3005-1680804000-1680811200@loneoakbrewingco.com
SUMMARY:TRIVIA NIGHT WITH POUR HOUSE TRIVIA!
DESCRIPTION:Grab your thinking cap and test your knowledge with Pour House Trivia! Get a group together for prizes and $5 beer! All ages and levels are welcome. \nWe’ll see you there!
URL:https://loneoakbrewingco.com/event/trivia-night-with-pour-house-trivia-6/
LOCATION:Lone Oak Brewery\, 5000 Olney Laytonsville Rd\, Olney\, MD\, 20832\, United States
CATEGORIES:Trivia
ATTACH;FMTTYPE=image/jpeg:https://loneoakbrewingco.com/wp-content/uploads/2022/03/pourhousetrivia.jpg
END:VEVENT
BEGIN:VEVENT
DTSTART;TZID=UTC:20230408T120000
DTEND;TZID=UTC:20230408T200000
DTSTAMP:20260422T065801
CREATED:20221110T051326Z
LAST-MODIFIED:20230222T233747Z
UID:2065-1680955200-1680984000@loneoakbrewingco.com
SUMMARY:FOOD TRUCK - GRUBBING HARD BBQ
DESCRIPTION:ABOUT GRUBBING HARD BBQ: \n“Pitmaster and GHB owner Matt Chanin is a local Olney native and Sherwood High School graduate. When COVID struck Matt lost his day job at a law firm and quickly went from pushing paper to pursuing his true passion for food and hospitality. On almost every Saturday in 2020\, lines of cars would wait outside Matt’s parent’s house for their scheduled curbside pickup and dose of Texas-inspired barbecue. Matt’s “Grubbing Hard” instagram account quickly blew up within the local community and GHB would transform from a hobby to a legitimate food truck and catering business.” \nMATT’S THOUGHTS: \n“In early 2021 when I learned that they (Lone Oak) were building a brewery right next to my neighborhood\, I saw a perfect opportunity. I reached out to the owners and asked if I could come introduce myself and bring them a tray of bbq. The rest is history!” \n“Being from Olney I especially enjoy working with Lone Oak because of all the familiar faces we see every visit. We try to focus on the hospitality aspect as much as the food itself\, so it’s particularly fulfilling for me to see friends and neighbors supporting local businesses – and more importantly – enjoying our Que! I don’t think any food pairs better with a cold beer on a sunny day than our barbecue.” \n“My favorite food to serve 100% is our brisket. It’s one of those foods you can’t get at many places so I knew if ours was good we’d be able stand out. The brisket cooking process can take up to 18 hours and requires a lot of attention to detail\, so it’s rewarding when people recognize and appreciate the craft behind our work. It’s the best feeling when people tell us that our brisket is the best they’ve ever had. We want every bite to be the best”.
URL:https://loneoakbrewingco.com/event/food-truck-grubbing-hard-bbq-12/
LOCATION:Lone Oak Brewery\, 5000 Olney Laytonsville Rd\, Olney\, MD\, 20832\, United States
CATEGORIES:Food Truck
ATTACH;FMTTYPE=image/jpeg:https://loneoakbrewingco.com/wp-content/uploads/2022/03/grubbin-hard.jpeg
END:VEVENT
BEGIN:VEVENT
DTSTART;TZID=UTC:20230408T140000
DTEND;TZID=UTC:20230408T170000
DTSTAMP:20260422T065801
CREATED:20230330T024821Z
LAST-MODIFIED:20230330T024821Z
UID:3017-1680962400-1680973200@loneoakbrewingco.com
SUMMARY:LIVE MUSIC - TONY WILKINS
DESCRIPTION:A local musician/songwriter who comes from a family of musicians. Influences lean from blues to grunge to rock and funk. Tony is an artist who started Undertone Artistry in 2019\, and specializes in charcoal and watercolor portraiture. Born in Alexandria VA\, he is a DMV native.
URL:https://loneoakbrewingco.com/event/live-music-tony-wilkins/
LOCATION:Lone Oak Brewery\, 5000 Olney Laytonsville Rd\, Olney\, MD\, 20832\, United States
CATEGORIES:Live Music
ATTACH;FMTTYPE=image/png:https://loneoakbrewingco.com/wp-content/uploads/2023/03/Screenshot-2023-03-29-at-6.28.13-PM.png
END:VEVENT
BEGIN:VEVENT
DTSTART;TZID=UTC:20230412T173000
DTEND;TZID=UTC:20230412T193000
DTSTAMP:20260422T065801
CREATED:20230405T223536Z
LAST-MODIFIED:20230405T223536Z
UID:3020-1681320600-1681327800@loneoakbrewingco.com
SUMMARY:Olney Chamber of Commerce Young Professionals Group Meet-Up
DESCRIPTION:“Come connect with other young professionals that are members of the Olney Chamber of Commerce. \nThis is a voluntary group of young professionals gathering to get to know each other in a casual\, informal atmosphere.  This is a member-led group\, organized by Nick Comeau of Caliber Home Loans. \n\nThe group will meet to network and help grow our businesses by offering support for your fellow young professionals\, exchange ideas\, problem-solve and have fun!\n\nIf you have question about the Young Professionals Group\, please contact Nick at nick.comeau@caliberhomeloans.com.\nPlease register so that we may know who’s planning to attend” here
URL:https://loneoakbrewingco.com/event/olney-chamber-of-commerce-young-professionals-group-meet-up/
LOCATION:Lone Oak Brewery\, 5000 Olney Laytonsville Rd\, Olney\, MD\, 20832\, United States
CATEGORIES:Private Event
ATTACH;FMTTYPE=image/png:https://loneoakbrewingco.com/wp-content/uploads/2023/04/Screenshot-2023-04-05-at-2.34.14-PM.png
END:VEVENT
BEGIN:VEVENT
DTSTART;TZID=UTC:20230415T120000
DTEND;TZID=UTC:20230415T200000
DTSTAMP:20260422T065801
CREATED:20221110T051421Z
LAST-MODIFIED:20230303T040909Z
UID:2067-1681560000-1681588800@loneoakbrewingco.com
SUMMARY:FOOD TRUCK - GRUBBING HARD BBQ
DESCRIPTION:
URL:https://loneoakbrewingco.com/event/food-truck-grubbing-hard-bbq-5-2/
LOCATION:Lone Oak Brewery\, 5000 Olney Laytonsville Rd\, Olney\, MD\, 20832\, United States
CATEGORIES:Food Truck
ATTACH;FMTTYPE=image/jpeg:https://loneoakbrewingco.com/wp-content/uploads/2022/03/grubbin-hard.jpeg
END:VEVENT
BEGIN:VEVENT
DTSTART;TZID=UTC:20230415T140000
DTEND;TZID=UTC:20230415T170000
DTSTAMP:20260422T065801
CREATED:20230218T012145Z
LAST-MODIFIED:20230218T013026Z
UID:2872-1681567200-1681578000@loneoakbrewingco.com
SUMMARY:LIVE MUSIC - DREW CLINE
DESCRIPTION:Drew is a musician from Howard County\, MD\, and started playing guitar and singing in fourth grade. He’s been booking shows at restaurants and bars locally since he was 13 years old and plans to study music production in college. Drew writes his own music and plays a mix of pop\, country\, and rock covers. He is excited for the opportunity to bring drewclinemusic.com to Lone Oak!
URL:https://loneoakbrewingco.com/event/live-music-drew-cline/
LOCATION:Lone Oak Brewery\, 5000 Olney Laytonsville Rd\, Olney\, MD\, 20832\, United States
CATEGORIES:Live Music
ATTACH;FMTTYPE=image/png:https://loneoakbrewingco.com/wp-content/uploads/2023/02/Screenshot-2023-02-17-at-2.45.29-PM-e1676665711390.png
END:VEVENT
BEGIN:VEVENT
DTSTART;TZID=UTC:20230422T120000
DTEND;TZID=UTC:20230422T200000
DTSTAMP:20260422T065801
CREATED:20230420T025019Z
LAST-MODIFIED:20230420T025046Z
UID:3035-1682164800-1682193600@loneoakbrewingco.com
SUMMARY:FOOD TRUCK - MARIA'S KITCHEN
DESCRIPTION:Check out their menu here: https://marias.kitchen/wp-content/uploads/2023/01/Marias-Kitchen-Menu.pdf  \nHead Chef Isaac Diza grew up in Los Angeles California. “Los Angeles is a very diverse city and I got my inspiration from eating so many different dishes from chefs representing different parts of Mexico. My wife grew up on her family’s coffee farm in Honduras and has cooked with the farm-to-table approach for her father’s workers since she was a little girl. My wife Maria and I are big foodies and traveled throughout the US and abroad seeking inspiration resulting in what we believe to be the best version of Latin cuisine dishes reflected in our menu. We specialize In Mexican food with an LA twist\, and Honduran and Puerto Rican dishes as I am half Puerto Rican and lived in Puerto Rico for 3 years.” \n 
URL:https://loneoakbrewingco.com/event/food-truck-marias-kitchen/
LOCATION:Lone Oak Brewery\, 5000 Olney Laytonsville Rd\, Olney\, MD\, 20832\, United States
CATEGORIES:Food Truck
ATTACH;FMTTYPE=image/png:https://loneoakbrewingco.com/wp-content/uploads/2023/04/Screenshot-2023-03-17-at-9.25.03-PM.png
END:VEVENT
BEGIN:VEVENT
DTSTART;TZID=UTC:20230422T140000
DTEND;TZID=UTC:20230422T170000
DTSTAMP:20260422T065801
CREATED:20230206T031006Z
LAST-MODIFIED:20230209T042754Z
UID:2790-1682172000-1682182800@loneoakbrewingco.com
SUMMARY:LIVE MUSIC - SELENA & DAVE
DESCRIPTION:Selena & Dave\nSelena & Dave is a guitar/vocal duo based primarily in Montgomery County. They perform music from a wide variety of genres including singer/songwriter\, pop\, rock\, country\, and classic soul. They incorporate both acoustic and high energy electric guitar driven music. They emphasize passionate vocals\, rhythmic guitar\, and harmony.\n\nSelena Rawlley\nSelena has a captivating voice with an exceptional low register along with great stage presence. Selena graduated from Clarksburg High School and holds a masters degree in public policy from the University of Maryland. Selena has been performing since she was a little kid. Selena sang in choir throughout her youth and performed in several musicals. At the University of Maryland\, Selena was a singer and arranger in one of the university’s premier a cappella groups. Her favorite bands are Third Eye Blind\, The 1975\, Fleetwood Mac\, and Taylor Swift.\n\nDave Weber\nDave Weber is experienced guitarist\, multi-instrumentalist\, singer\, audio engineer\, and music producer. Dave graduated from Wootton High School and holds a bachelors degree in computer science from the University of Maryland. He performs at area venues well over a hundred times a year. Growing up\, Dave’s favorite music genres were progressive rock and jazz/rock fusion. Today\, Dave loves all types of music. There is nothing Dave enjoys more in music than singing harmony with excellent female singers such as Selena. Dave has lived in Montgomery County nearly his whole and loves being a part of the local music scene.
URL:https://loneoakbrewingco.com/event/live-music-bailey-dave-2/
LOCATION:MD
CATEGORIES:Live Music
ATTACH;FMTTYPE=image/png:https://loneoakbrewingco.com/wp-content/uploads/2023/02/Screenshot-2023-02-08-at-6.22.16-PM.png
END:VEVENT
BEGIN:VEVENT
DTSTART;TZID=UTC:20230426T120000
DTEND;TZID=UTC:20230426T200000
DTSTAMP:20260422T065801
CREATED:20230319T015630Z
LAST-MODIFIED:20230319T020338Z
UID:2988-1682510400-1682539200@loneoakbrewingco.com
SUMMARY:NATIONAL PRETZEL DAY! $5 PRETZEL DEAL!!
DESCRIPTION:Come celebrate National Pretzel Day at Lone Oak! We’ve got a great deal for you – pretzels for just $5!! You know you love them\, come out and get our tasty pretzels\, grab a couple of beers\, have a great time\, and make some memories at the farm! \n 
URL:https://loneoakbrewingco.com/event/national-pretzel-day-5-pretzel-deal/
LOCATION:Lone Oak Brewery\, 5000 Olney Laytonsville Rd\, Olney\, MD\, 20832\, United States
CATEGORIES:Holiday Events
ATTACH;FMTTYPE=image/png:https://loneoakbrewingco.com/wp-content/uploads/2023/03/Screenshot-2023-03-18-at-6.00.30-PM-e1679176983459.png
END:VEVENT
BEGIN:VEVENT
DTSTART;TZID=UTC:20230429T120000
DTEND;TZID=UTC:20230429T200000
DTSTAMP:20260422T065801
CREATED:20221110T052615Z
LAST-MODIFIED:20230429T195438Z
UID:2072-1682769600-1682798400@loneoakbrewingco.com
SUMMARY:FOOD TRUCK - NO FOOD TRUCK TODAY
DESCRIPTION:
URL:https://loneoakbrewingco.com/event/food-truck-kofemi-grub-n-go-4/
LOCATION:Lone Oak Brewery\, 5000 Olney Laytonsville Rd\, Olney\, MD\, 20832\, United States
CATEGORIES:Food Truck
ATTACH;FMTTYPE=image/png:https://loneoakbrewingco.com/wp-content/uploads/2022/04/login.png
END:VEVENT
BEGIN:VEVENT
DTSTART;TZID=UTC:20230429T140000
DTEND;TZID=UTC:20230429T170000
DTSTAMP:20260422T065801
CREATED:20230206T031152Z
LAST-MODIFIED:20230206T031152Z
UID:2792-1682776800-1682787600@loneoakbrewingco.com
SUMMARY:LIVE MUSIC - JOHN DECESARE
DESCRIPTION:
URL:https://loneoakbrewingco.com/event/live-music-john-decesare-3/
LOCATION:MD
CATEGORIES:Live Music
END:VEVENT
END:VCALENDAR