BEGIN:VCALENDAR
VERSION:2.0
PRODID:-//Lone Oak Brewing Co. - ECPv6.15.20//NONSGML v1.0//EN
CALSCALE:GREGORIAN
METHOD:PUBLISH
X-WR-CALNAME:Lone Oak Brewing Co.
X-ORIGINAL-URL:https://loneoakbrewingco.com
X-WR-CALDESC:Events for Lone Oak Brewing Co.
REFRESH-INTERVAL;VALUE=DURATION:PT1H
X-Robots-Tag:noindex
X-PUBLISHED-TTL:PT1H
BEGIN:VTIMEZONE
TZID:UTC
BEGIN:STANDARD
TZOFFSETFROM:+0000
TZOFFSETTO:+0000
TZNAME:UTC
DTSTART:20220101T000000
END:STANDARD
END:VTIMEZONE
BEGIN:VEVENT
DTSTART;VALUE=DATE:20230501
DTEND;VALUE=DATE:20230502
DTSTAMP:20260422T084437
CREATED:20230318T030633Z
LAST-MODIFIED:20230318T030859Z
UID:2986-1682899200-1682985599@loneoakbrewingco.com
SUMMARY:FIRE PITS SWITCH TO VIP TABLES
DESCRIPTION:Warmer weather is ahead! We will be switching our fire pit reservations to VIP tables. \nOur Tents and VIP tables are available by reservation only.\nAll are a great way to book a guaranteed spot at The Farm! Each Tent or VIP table comes with its own private server. The tents include fans in the summer and heaters in the winter to make it extra comfortable! \nPlease note: We do not rent picnic tables. All tables are first-come\, first-served. Groups may not take more than 2 tables in the field or inside any covered areas like the taproom\, porch or pavilion. Please do not move tables. Thank you! \nYou can make a reservation here on our website.
URL:https://loneoakbrewingco.com/event/fire-pits-switch-to-vip-tables/
LOCATION:Lone Oak Brewery\, 5000 Olney Laytonsville Rd\, Olney\, MD\, 20832\, United States
CATEGORIES:Reservation
ATTACH;FMTTYPE=image/jpeg:https://loneoakbrewingco.com/wp-content/uploads/2022/04/more-vip-table.jpg
END:VEVENT
BEGIN:VEVENT
DTSTART;TZID=UTC:20230504T180000
DTEND;TZID=UTC:20230504T200000
DTSTAMP:20260422T084437
CREATED:20230505T010530Z
LAST-MODIFIED:20230505T010530Z
UID:3155-1683223200-1683230400@loneoakbrewingco.com
SUMMARY:TRIVIA NIGHT WITH POUR HOUSE TRIVIA!
DESCRIPTION:Grab your thinking cap and test your knowledge with Pour House Trivia! Get a group together for prizes and $5 beer! All ages and levels are welcome. \nWe’ll see you there!
URL:https://loneoakbrewingco.com/event/trivia-night-with-pour-house-trivia-7/
LOCATION:Lone Oak Brewery\, 5000 Olney Laytonsville Rd\, Olney\, MD\, 20832\, United States
CATEGORIES:Trivia
ATTACH;FMTTYPE=image/jpeg:https://loneoakbrewingco.com/wp-content/uploads/2022/03/pourhousetrivia.jpg
END:VEVENT
BEGIN:VEVENT
DTSTART;TZID=UTC:20230504T190000
DTEND;TZID=UTC:20230504T210000
DTSTAMP:20260422T084437
CREATED:20230428T040036Z
LAST-MODIFIED:20230428T040137Z
UID:3055-1683226800-1683234000@loneoakbrewingco.com
SUMMARY:LAUGH AT LONE OAK COMEDY SHOW
DESCRIPTION:Join BOJO Entertainment and Lone Oak Farm Brewing Co. on Thursday\, May 4th for a special live comedy show featuring three nationally touring comedians as seen on Comedy Central\, NBC\, CBS\, The Game Show network\, Spotify and more! \nThis event will be outside in the pavilion so dress accordingly. \nTickets are only $22 per person & tables of 6 are $125! Get your tickets here: https://www.eventbrite.com/e/live-national-comedy-show-lone-oak-farm-brewing-tickets-618342738777 
URL:https://loneoakbrewingco.com/event/laugh-at-lone-oak-comedy-show-7/
LOCATION:Lone Oak Brewery\, 5000 Olney Laytonsville Rd\, Olney\, MD\, 20832\, United States
CATEGORIES:Ticketed Event
ATTACH;FMTTYPE=image/png:https://loneoakbrewingco.com/wp-content/uploads/2023/04/Screenshot-2023-04-27-at-7.59.29-PM.png
END:VEVENT
BEGIN:VEVENT
DTSTART;TZID=UTC:20230506T140000
DTEND;TZID=UTC:20230506T170000
DTSTAMP:20260422T084437
CREATED:20230209T001232Z
LAST-MODIFIED:20230209T001232Z
UID:2795-1683381600-1683392400@loneoakbrewingco.com
SUMMARY:LIVE MUSIC - STATION 1201
DESCRIPTION:
URL:https://loneoakbrewingco.com/event/live-music-station-1201/
LOCATION:Lone Oak Brewery\, 5000 Olney Laytonsville Rd\, Olney\, MD\, 20832\, United States
CATEGORIES:Live Music
ATTACH;FMTTYPE=image/png:https://loneoakbrewingco.com/wp-content/uploads/2023/02/Screenshot-2023-02-08-at-2.11.05-PM.png
END:VEVENT
BEGIN:VEVENT
DTSTART;TZID=UTC:20230507T120000
DTEND;TZID=UTC:20230507T200000
DTSTAMP:20260422T084437
CREATED:20230428T043631Z
LAST-MODIFIED:20230428T043631Z
UID:3059-1683460800-1683489600@loneoakbrewingco.com
SUMMARY:MONTGOMERY COUNTY CORNHOLE PRESENTS THE THROWDOWN CORNHOLE TOURNAMENT AT LONE OAK FARM
DESCRIPTION:Show ’em what ya got! Grab a partner (or sign up solo) for our 3rd cornhole tournament at Lone Oak Farm! It’s a total blast\, and a great way to take down a few brews and spend some time at The Farm. \nWHEN: SUNDAY\, MAY 7 AT 12PM \n$40 ENTRY FEE PER TEAM \nCASH PRIZES AND LOF SWAG FOR WINNERS \nQuestions? Reach out to mococornhole@yahoo.com \nRegister on the Scoreholio App or using our flyers hanging around the taproom. Can’t wait to see you there!
URL:https://loneoakbrewingco.com/event/montgomery-county-cornhole-presents-the-throwdown-cornhole-tournament-at-lone-oak-farm-2/
LOCATION:Lone Oak Brewery\, 5000 Olney Laytonsville Rd\, Olney\, MD\, 20832\, United States
CATEGORIES:Ticketed Event
ATTACH;FMTTYPE=image/png:https://loneoakbrewingco.com/wp-content/uploads/2023/04/Screenshot-2023-04-27-at-8.30.26-PM.png
END:VEVENT
BEGIN:VEVENT
DTSTART;TZID=UTC:20230513T120000
DTEND;TZID=UTC:20230513T200000
DTSTAMP:20260422T084437
CREATED:20221110T052746Z
LAST-MODIFIED:20221110T053009Z
UID:2074-1683979200-1684008000@loneoakbrewingco.com
SUMMARY:FOOD TRUCK - SALAT FOODS
DESCRIPTION:
URL:https://loneoakbrewingco.com/event/food-truck-salat-foods-3/
LOCATION:Lone Oak Brewery\, 5000 Olney Laytonsville Rd\, Olney\, MD\, 20832\, United States
CATEGORIES:Food Truck,Live Music
ATTACH;FMTTYPE=image/png:https://loneoakbrewingco.com/wp-content/uploads/2022/05/Screen-Shot-2022-05-28-at-6.14.01-PM-e1653776206645.png
END:VEVENT
BEGIN:VEVENT
DTSTART;TZID=UTC:20230513T140000
DTEND;TZID=UTC:20230513T170000
DTSTAMP:20260422T084437
CREATED:20230209T002709Z
LAST-MODIFIED:20230209T003018Z
UID:2798-1683986400-1683997200@loneoakbrewingco.com
SUMMARY:LIVE MUSIC - ONE STEP DOWN
DESCRIPTION:Joe grew up in NJ\, and became fascinated with the electric guitar after hearing the Venture’s Walk Don’t Run and Pipeline. After a year of lessons\, he was gifted his first real guitar\, which he still has. \nHis first band\, The 007s\, played songs by artists such as The Monkees and The Searchers. The music from 1968-1972 (Led Zeppelin\, Grand Funk\, Black Sabbath) helped shape Joe’s style. After moving to Bel Air\, he played in several local bands – 195\, Circle of Fire\, and Tainted Souls. \nKaren grew up in Elkridge\, MD. Although she had no vocal training\, she enjoyed singing along to Stevie Nicks\, Wynonna Judd and Tanya Tucker. She started her musical career when her dad bought a set of drums and decided to start a band. After searching unsuccessfully for a lead singer\, Karen asked if she could give it a try and nailed down the job for Crossfire. Over the years\, personnel changed\, and band names changed to The 8* Day and Flashpoint\, and finally\, Wasted Gravity. \nIn 2013\, Joe answered an ad for a lead guitarist and auditioned for Wasted Gravity\, and that’s when Karen and Joe started playing music together. When the pandemic hit and put the music scene on hold\, the band resorted to online practices. The practices didn’t go as well as expected and eventually\, Joe and Karen were the only ones to continue. The vision changed and Joe swapped out his electric guitar for an acoustic guitar. Their repertoire grew and when outdoor venues started to re-open\, One Step Down played its first gig in October 2020. Their love for many different musical genres shaped their style. Ask what kind of music they play\, and they will respond\, “Patsy Cline and Nancy Sinatra to Metallica and Iron Maiden and everything in between!”
URL:https://loneoakbrewingco.com/event/live-music-one-step-down/
LOCATION:Lone Oak Brewery\, 5000 Olney Laytonsville Rd\, Olney\, MD\, 20832\, United States
CATEGORIES:Live Music
ATTACH;FMTTYPE=image/png:https://loneoakbrewingco.com/wp-content/uploads/2023/02/Screenshot-2023-02-08-at-2.26.28-PM.png
END:VEVENT
BEGIN:VEVENT
DTSTART;TZID=UTC:20230519T160000
DTEND;TZID=UTC:20230519T190000
DTSTAMP:20260422T084437
CREATED:20230422T201929Z
LAST-MODIFIED:20230506T014751Z
UID:3051-1684512000-1684522800@loneoakbrewingco.com
SUMMARY:LIVE MUSIC - NEIL YOUNG TRIBUTE BAND
DESCRIPTION:Come on out for a fun evening of live acoustic music celebrating the genius of Neil Young\, featuring three talented performers Phil Zakas\, Lou Sessa\, and Pat Ward\, covering Neil’s greatest hits! \n\n\n\n 
URL:https://loneoakbrewingco.com/event/live-music-neil-young-tribute-band/
LOCATION:Lone Oak Brewery\, 5000 Olney Laytonsville Rd\, Olney\, MD\, 20832\, United States
CATEGORIES:Live Music
ATTACH;FMTTYPE=image/png:https://loneoakbrewingco.com/wp-content/uploads/2023/04/Screenshot-2023-04-22-at-12.05.04-PM.png
END:VEVENT
BEGIN:VEVENT
DTSTART;TZID=UTC:20230520T120000
DTEND;TZID=UTC:20230520T200000
DTSTAMP:20260422T084437
CREATED:20221110T053521Z
LAST-MODIFIED:20230303T042954Z
UID:2076-1684584000-1684612800@loneoakbrewingco.com
SUMMARY:FOOD TRUCK - PHOWHEELS
DESCRIPTION:
URL:https://loneoakbrewingco.com/event/food-truck-phowheels-7/
LOCATION:Lone Oak Brewery\, 5000 Olney Laytonsville Rd\, Olney\, MD\, 20832\, United States
CATEGORIES:Food Truck
ATTACH;FMTTYPE=image/jpeg:https://loneoakbrewingco.com/wp-content/uploads/2022/04/phowheels-e1631744329223.jpg
END:VEVENT
BEGIN:VEVENT
DTSTART;TZID=UTC:20230520T140000
DTEND;TZID=UTC:20230520T170000
DTSTAMP:20260422T084437
CREATED:20230518T005200Z
LAST-MODIFIED:20230518T005316Z
UID:3175-1684591200-1684602000@loneoakbrewingco.com
SUMMARY:LIVE MUSIC - NOAH BOOZ
DESCRIPTION:Noah Booz is a multi-talented musician with a passion for creating and performing music. His journey with music began in his childhood\, playing with friends and family in his hometown of Brookeville\, Maryland. In the early 2010s his band won The Next Big Thing Battle of the Band at the 9:30 Club\, released two albums and performed an East Coast tour. \nNoah’s love for music led him to pursue a Bachelor’s degree in music from the University of Maryland\, where he honed his skills as a musician and performer. After graduating\, he played regularly with a jazz trio and hosted house show performances in the DIY music scene. In 2018\, he took his talent to Los Angeles\, where he worked as a professional musician. His skills and passion for music opened doors to travel and perform across the nation. \nNoah’s dedication to music extends beyond performing. He has been teaching music for over a decade\, sharing his knowledge and expertise with aspiring musicians. His teaching style is engaging and supportive\, creating a positive learning environment for his students. \nNoah returned to Maryland in 2022 and performs solo regularly. His passion for music is contagious\, and he continues to inspire and encourage others to pursue their dreams in music. Whether he’s performing on stage\, teaching a lesson\, or collaborating with other musicians\, Noah is a creative musician who is dedicated to the art of music.
URL:https://loneoakbrewingco.com/event/live-music-noah-booz-3/
LOCATION:Lone Oak Brewery\, 5000 Olney Laytonsville Rd\, Olney\, MD\, 20832\, United States
CATEGORIES:Live Music
ATTACH;FMTTYPE=image/png:https://loneoakbrewingco.com/wp-content/uploads/2022/10/Screen-Shot-2022-10-14-at-7.11.50-PM-e1665789147651.png
END:VEVENT
BEGIN:VEVENT
DTSTART;TZID=UTC:20230520T170000
DTEND;TZID=UTC:20230520T200000
DTSTAMP:20260422T084437
CREATED:20230520T015535Z
LAST-MODIFIED:20230520T015535Z
UID:3182-1684602000-1684612800@loneoakbrewingco.com
SUMMARY:LIVE MUSIC- MIKE NAKAMURA AND DAN LOPEZ
DESCRIPTION:
URL:https://loneoakbrewingco.com/event/live-music-mike-nakamura-and-dan-lopez/
LOCATION:Lone Oak Brewery\, 5000 Olney Laytonsville Rd\, Olney\, MD\, 20832\, United States
CATEGORIES:Live Music
ATTACH;FMTTYPE=image/jpeg:https://loneoakbrewingco.com/wp-content/uploads/2023/05/Mike-Nakamura-and-Dan-Lopez.jpg
END:VEVENT
BEGIN:VEVENT
DTSTART;TZID=UTC:20230521T110000
DTEND;TZID=UTC:20230521T130000
DTSTAMP:20260422T084437
CREATED:20230420T030508Z
LAST-MODIFIED:20230422T005856Z
UID:3041-1684666800-1684674000@loneoakbrewingco.com
SUMMARY:CARS & CRAFT BREWS
DESCRIPTION:Looking for a unique way to spend a Sunday morning? Come join Lone Oak for a one-of-a-kind Cars & Craft Brews event! Bring any car to participate or just come to take in the beauty of unique and vintage cars. \nSee some cool cars and then drink a cool beer. No better way to spend the day! \nThere is no fee and any car can attend. Sign up here: https://www.cognitoforms.com/INEXConstructionInc/CARSNCRAFTREGISTRATION
URL:https://loneoakbrewingco.com/event/cars-craft-brews/
LOCATION:Lone Oak Brewery\, 5000 Olney Laytonsville Rd\, Olney\, MD\, 20832\, United States
CATEGORIES:Ticketed Event
ATTACH;FMTTYPE=image/png:https://loneoakbrewingco.com/wp-content/uploads/2023/04/Screenshot-2023-04-20-at-7.32.00-PM.png
END:VEVENT
BEGIN:VEVENT
DTSTART;TZID=UTC:20230521T120000
DTEND;TZID=UTC:20230521T190000
DTSTAMP:20260422T084437
CREATED:20230518T005540Z
LAST-MODIFIED:20230518T005540Z
UID:3178-1684670400-1684695600@loneoakbrewingco.com
SUMMARY:FOOD TRUCK - SALAT FOODS
DESCRIPTION:Chef Sam grew up in Israel and then moved to Maryland to start a family. His relationship with food started by cooking for his family and friends\, and introducing them to flavors from his childhood home. People raved about his cooking\, and his homemade hummus was always a favorite. Eventually\, this passion for food led him to start a mobile food and catering business to share those same flavors with the local community.
URL:https://loneoakbrewingco.com/event/food-truck-salat-foods-4/
LOCATION:Lone Oak Brewery\, 5000 Olney Laytonsville Rd\, Olney\, MD\, 20832\, United States
CATEGORIES:Food Truck
ATTACH;FMTTYPE=image/png:https://loneoakbrewingco.com/wp-content/uploads/2022/05/Screen-Shot-2022-05-28-at-6.14.01-PM-e1653776206645.png
END:VEVENT
BEGIN:VEVENT
DTSTART;TZID=UTC:20230527T120000
DTEND;TZID=UTC:20230527T200000
DTSTAMP:20260422T084437
CREATED:20230513T211752Z
LAST-MODIFIED:20230513T211752Z
UID:3172-1685188800-1685217600@loneoakbrewingco.com
SUMMARY:FOOD TRUCK - THE CROQUETRUCK
DESCRIPTION:Chef Serge Pambo grew up in France. “My cuisine is a reflection of myself! I visited 25 different countries and I speak 4 languages.” The Croguetruck is a French Afro Caribbean and Asian fusion cuisine. It is a unique concept with a delicious taste.” Come check it out! \nChef Serge Pambo’s Instagram page is @Purekitchencc
URL:https://loneoakbrewingco.com/event/food-truck-the-croquetruck/
LOCATION:Lone Oak Brewery\, 5000 Olney Laytonsville Rd\, Olney\, MD\, 20832\, United States
CATEGORIES:Food Truck
ATTACH;FMTTYPE=image/png:https://loneoakbrewingco.com/wp-content/uploads/2023/05/Screenshot-2023-05-13-at-1.16.15-PM.png
END:VEVENT
BEGIN:VEVENT
DTSTART;TZID=UTC:20230527T140000
DTEND;TZID=UTC:20230527T170000
DTSTAMP:20260422T084437
CREATED:20230428T225145Z
LAST-MODIFIED:20230428T225145Z
UID:3062-1685196000-1685206800@loneoakbrewingco.com
SUMMARY:LIVE MUSIC - JOHN DECESARE
DESCRIPTION:
URL:https://loneoakbrewingco.com/event/live-music-john-decesare-4/
LOCATION:Lone Oak Brewery\, 5000 Olney Laytonsville Rd\, Olney\, MD\, 20832\, United States
CATEGORIES:Live Music
ATTACH;FMTTYPE=image/png:https://loneoakbrewingco.com/wp-content/uploads/2023/04/Screen-Shot-2022-10-19-at-2.34.57-PM.png
END:VEVENT
BEGIN:VEVENT
DTSTART;TZID=UTC:20230528T120000
DTEND;TZID=UTC:20230528T190000
DTSTAMP:20260422T084437
CREATED:20230525T230424Z
LAST-MODIFIED:20230525T230424Z
UID:3194-1685275200-1685300400@loneoakbrewingco.com
SUMMARY:FOOD TRUCK - DM SLIDERS
DESCRIPTION:Check out their menu here
URL:https://loneoakbrewingco.com/event/food-truck-dm-sliders/
LOCATION:Lone Oak Brewery\, 5000 Olney Laytonsville Rd\, Olney\, MD\, 20832\, United States
ATTACH;FMTTYPE=image/png:https://loneoakbrewingco.com/wp-content/uploads/2023/05/Screenshot-2023-05-25-at-3.02.27-PM.png
END:VEVENT
END:VCALENDAR