BEGIN:VCALENDAR
VERSION:2.0
PRODID:-//Lone Oak Brewing Co. - ECPv6.15.20//NONSGML v1.0//EN
CALSCALE:GREGORIAN
METHOD:PUBLISH
X-WR-CALNAME:Lone Oak Brewing Co.
X-ORIGINAL-URL:https://loneoakbrewingco.com
X-WR-CALDESC:Events for Lone Oak Brewing Co.
REFRESH-INTERVAL;VALUE=DURATION:PT1H
X-Robots-Tag:noindex
X-PUBLISHED-TTL:PT1H
BEGIN:VTIMEZONE
TZID:UTC
BEGIN:STANDARD
TZOFFSETFROM:+0000
TZOFFSETTO:+0000
TZNAME:UTC
DTSTART:20220101T000000
END:STANDARD
END:VTIMEZONE
BEGIN:VEVENT
DTSTART;TZID=UTC:20230603T120000
DTEND;TZID=UTC:20230603T200000
DTSTAMP:20260422T121445
CREATED:20230430T045237Z
LAST-MODIFIED:20230430T045237Z
UID:3105-1685793600-1685822400@loneoakbrewingco.com
SUMMARY:FOOD TRUCK - FLIPSIDE GASTRO TO GO
DESCRIPTION:
URL:https://loneoakbrewingco.com/event/food-truck-flipside-gastro-to-go-2/
LOCATION:Lone Oak Brewery\, 5000 Olney Laytonsville Rd\, Olney\, MD\, 20832\, United States
CATEGORIES:Food Truck
ATTACH;FMTTYPE=image/jpeg:https://loneoakbrewingco.com/wp-content/uploads/2022/03/flipside-gastro-truck.jpeg
END:VEVENT
BEGIN:VEVENT
DTSTART;TZID=UTC:20230603T130000
DTEND;TZID=UTC:20230603T160000
DTSTAMP:20260422T121445
CREATED:20230209T022425Z
LAST-MODIFIED:20230601T042723Z
UID:2803-1685797200-1685808000@loneoakbrewingco.com
SUMMARY:LIVE MUSIC - JOSEPH MONASTERIAL
DESCRIPTION:Joseph R Monasterial is a Singer-Songwriter and Acoustic Guitarist based in the Washington DC area. He grew up in Montgomery County\, MD and started performing as a local musician since he was 16 years old. Being close to family\, friends and meeting so many loving\, supportive people encouraged him even more to go after his dream. He is musically talented\, humble and quite shy but can easily write a song when inspired. \nHis first song “I’ve Always Wondered” is a song he sang just a few times and among several other songs remained tucked away. The only song\, “Hold Me Down” is the one that you’ll hear him sing and has gained so much appreciation from his audiences. He is now slowly but surely working on his EP album. ”Got To Let Go” was completed in 2022 and is working on his 4th song this year. \nAfter graduating college in May 2021\, he gave himself a year to pursue music and in May 2022\, he chose music as his full time career. May 2022 marks the crossroad of the uncertainties of following his dream and the determination to push forward and be happy in life. He is hoping that he could release his first EP this year in May 2023 and would like to thank and call all his supporters to be there along the way. \nJoseph R Monasterial picked up his guitar at 16 years old and was quickly known for his soulful\, captivating\, unique voice. He was told by many that he sounds like John Mayer and Bruce Springsteen. \nYou’ll love this young pop singer so check him out and follow him at\nwww.facebook.com/jjoeymusic\nor at www.instagram.com/joeymonasterial
URL:https://loneoakbrewingco.com/event/live-music-joseph-monasterial-4/
LOCATION:Lone Oak Brewery\, 5000 Olney Laytonsville Rd\, Olney\, MD\, 20832\, United States
CATEGORIES:Live Music
ATTACH;FMTTYPE=image/png:https://loneoakbrewingco.com/wp-content/uploads/2023/02/Screenshot-2023-02-08-at-2.33.32-PM-e1675891602785.png
END:VEVENT
BEGIN:VEVENT
DTSTART;TZID=UTC:20230604T120000
DTEND;TZID=UTC:20230604T190000
DTSTAMP:20260422T121445
CREATED:20230604T012709Z
LAST-MODIFIED:20230604T012709Z
UID:3206-1685880000-1685905200@loneoakbrewingco.com
SUMMARY:FOOD TRUCK - FLIPSIDE GASTRO
DESCRIPTION:The ultimate food truck experience for those who love skateboarding and crave gourmet food. Owned and operated by Charles Aliano\, Flipside Gastro is more than just a food truck – it’s a lifestyle. As the head chef and owner\, Charles brings his passion for skateboarding and culinary expertise together to create a unique dining experience. At Flipside Gastro\, you’ll find a specialized chef-driven menu that features the highest quality ingredients. From artisanal sandwiches and burgers to hearty salads and sides\, every dish is carefully crafted to satisfy your taste buds. But it’s not just the food that makes Flipside Gastro stand out. Charles cares deeply about his customers and wants everyone who visits his food truck to have a dining experience that will be remembered for years to come. Whether you’re a die-hard skateboarder or just looking for delicious food on the go\, Flipside Gastro has something for everyone. So come check out our food truck at your next local event or follow us on social media to see where we’ll be next. With Charles Aliano at the helm\, you can be sure that every bite will be delicious and every moment will be unforgettable.\nBook and confrm w/email\nhttps://www.instagram.com/flipsidegastro/\nhttps://www.flipsidegastro.com/order-online
URL:https://loneoakbrewingco.com/event/food-truck-flipside-gastro-13/
LOCATION:Lone Oak Brewery\, 5000 Olney Laytonsville Rd\, Olney\, MD\, 20832\, United States
CATEGORIES:Food Truck
ATTACH;FMTTYPE=image/jpeg:https://loneoakbrewingco.com/wp-content/uploads/2022/03/flipside-gastro-truck.jpeg
END:VEVENT
BEGIN:VEVENT
DTSTART;TZID=UTC:20230609T110000
DTEND;TZID=UTC:20230609T200000
DTSTAMP:20260422T121445
CREATED:20230414T211154Z
LAST-MODIFIED:20230602T024249Z
UID:3027-1686308400-1686340800@loneoakbrewingco.com
SUMMARY:LONE OAK FARM HARVEST FESTIVAL
DESCRIPTION:GRAB YOUR FRIENDS AND FAMILY AND HEAD OUT TO THE FARM TO CELEBRATE OUR 3-YEAR ANNIVERSARY AT OUR HARVEST FESTIVAL! \nWATCH US HARVEST OUR BARLEY! WE WILL BE UNVEILING OUR HARVEST ALE ON FRIDAY JUNE 9TH. $5 MOCO LITES ALL WEEKEND LONG. TOURS AND TASTINGS AT 1PM AND 4PM SATURDAY AND SUNDAY. TOUCH-A-TRACTOR FROM 12PM-1PM SATURDAY AND SUNDAY. \nFOOD TRUCKS: GRUBBING HARD BBQ & PHOWHEELS ON SATURDAY JUNE 10 FROM 12-8PM\, FLIPSIDE GASTRO TO GO & GRUBBING HARD BBQ ON SUNDAY JUNE 11 FROM 12-8PM \nMUSICIANS: JOSEPH MONASTERIAL ON JUNE 9 FROM 5-8PM\, BRIAN HARRIS ON JUNE 10 FROM 2-5PM\, SEAN CHYUN ON JUNE 10 FROM 5-8PM\, ANTHONY FRIJIA ON JUNE 11 FROM 11-2PM\, MICHAEL HEISTER ON JUNE 11 FROM 2-5PM \nVENDORS: TWO STORY CHIMNEY CIDERWORKS\, TWIN VALLEY DISTILLERS\, 61 VINEYARD\, DOC WATERS CIDERY\, FIG AND FIRE CANDLES\, COMFORT NO CALORIES BATH ITEMS\, LAVENDAR ROSE BOUTIQUE CLOTHING\, SPARK STUDIO JEWELRY\, RUSTIC ROUTE COFFEE\, BUTLER’S ORCHARD\, CEDAR AND THORN CLOTHING\, JUJUTEH SHOES \nFRIDAY JUNE 9: 2PM ROCHE PODCAST INTERVIEW AND 3-7PM: DC101 BROADCASTS LIVE\, GAMES AND GIVEAWAYS! \nSATURDAY JUNE 10: FACEPAINTER/BALLOON ARTIST FROM NOON TO 5P\, 3PM RIBBON-CUTTING AND BARLEY HARVEST \nSUNDAY: FACEPAINTER/BALLOON ARTIST FROM NOON TO 5P \nADMISSION IS FREE. \n-FRIDAY\, JUNE 9 FROM 12-9P \n-SATURDAY\, JUNE 10 FROM 11-9P \n-SUNDAY\, JUNE 11 (3 YEAR ANNIVERSARY) – FROM 11-8P \nYOU WON’T WANT TO MISS THIS!
URL:https://loneoakbrewingco.com/event/lone-oak-farm-harvest-festival/
LOCATION:Lone Oak Brewery\, 5000 Olney Laytonsville Rd\, Olney\, MD\, 20832\, United States
CATEGORIES:Festival
ATTACH;FMTTYPE=image/png:https://loneoakbrewingco.com/wp-content/uploads/2023/04/Screenshot-2023-05-06-at-9.45.47-PM.png
END:VEVENT
BEGIN:VEVENT
DTSTART;TZID=UTC:20230609T170000
DTEND;TZID=UTC:20230609T200000
DTSTAMP:20260422T121445
CREATED:20230429T002301Z
LAST-MODIFIED:20230609T192804Z
UID:3065-1686330000-1686340800@loneoakbrewingco.com
SUMMARY:LIVE MUSIC - JOSEPH MONASTERIAL
DESCRIPTION:Joseph R Monasterial is a Singer-Songwriter and Acoustic Guitarist based in the Washington DC area. He grew up in Montgomery County\, MD and started performing as a local musician since he was 16 years old. Being close to family\, friends and meeting so many loving\, supportive people encouraged him even more to go after his dream. He is musically talented\, humble and quite shy but can easily write a song when inspired. \nHis first song “I’ve Always Wondered” is a song he sang just a few times and among several other songs remained tucked away. The only song\, “Hold Me Down” is the one that you’ll hear him sing and has gained so much appreciation from his audiences. He is now slowly but surely working on his EP album. ”Got To Let Go” was completed in 2022 and is working on his 4th song this year. \nAfter graduating college in May 2021\, he gave himself a year to pursue music and in May 2022\, he chose music as his full time career. May 2022 marks the crossroad of the uncertainties of following his dream and the determination to push forward and be happy in life. He is hoping that he could release his first EP this year in May 2023 and would like to thank and call all his supporters to be there along the way. \nJoseph R Monasterial picked up his guitar at 16 years old and was quickly known for his soulful\, captivating\, unique voice. He was told by many that he sounds like John Mayer and Bruce Springsteen. \nYou’ll love this young pop singer so check him out and follow him at\nwww.facebook.com/jjoeymusic\nor at www.instagram.com/joeymonasterial
URL:https://loneoakbrewingco.com/event/live-music-joseph-monasterial-5/
LOCATION:Lone Oak Brewery\, 5000 Olney Laytonsville Rd\, Olney\, MD\, 20832\, United States
CATEGORIES:Live Music
ATTACH;FMTTYPE=image/png:https://loneoakbrewingco.com/wp-content/uploads/2023/02/Screenshot-2023-02-08-at-2.33.32-PM-e1675891602785.png
END:VEVENT
BEGIN:VEVENT
DTSTART;TZID=UTC:20230610T120000
DTEND;TZID=UTC:20230610T200000
DTSTAMP:20260422T121445
CREATED:20230430T050116Z
LAST-MODIFIED:20230430T050116Z
UID:3108-1686398400-1686427200@loneoakbrewingco.com
SUMMARY:FOOD TRUCK - GRUBBING HARD BBQ
DESCRIPTION:ABOUT GRUBBING HARD BBQ: \n“Pitmaster and GHB owner Matt Chanin is a local Olney native and Sherwood High School graduate. When COVID struck Matt lost his day job at a law firm and quickly went from pushing paper to pursuing his true passion for food and hospitality. On almost every Saturday in 2020\, lines of cars would wait outside Matt’s parent’s house for their scheduled curbside pickup and dose of Texas-inspired barbecue. Matt’s “Grubbing Hard” instagram account quickly blew up within the local community and GHB would transform from a hobby to a legitimate food truck and catering business.” \nMATT’S THOUGHTS: \n“In early 2021 when I learned that they (Lone Oak) were building a brewery right next to my neighborhood\, I saw a perfect opportunity. I reached out to the owners and asked if I could come introduce myself and bring them a tray of bbq. The rest is history!” \n“Being from Olney I especially enjoy working with Lone Oak because of all the familiar faces we see every visit. We try to focus on the hospitality aspect as much as the food itself\, so it’s particularly fulfilling for me to see friends and neighbors supporting local businesses – and more importantly – enjoying our Que! I don’t think any food pairs better with a cold beer on a sunny day than our barbecue.” \n“My favorite food to serve 100% is our brisket. It’s one of those foods you can’t get at many places so I knew if ours was good we’d be able stand out. The brisket cooking process can take up to 18 hours and requires a lot of attention to detail\, so it’s rewarding when people recognize and appreciate the craft behind our work. It’s the best feeling when people tell us that our brisket is the best they’ve ever had. We want every bite to be the best”.
URL:https://loneoakbrewingco.com/event/food-truck-grubbing-hard-bbq-14/
LOCATION:Lone Oak Brewery\, 5000 Olney Laytonsville Rd\, Olney\, MD\, 20832\, United States
CATEGORIES:Food Truck
ATTACH;FMTTYPE=image/jpeg:https://loneoakbrewingco.com/wp-content/uploads/2022/03/grubbin-hard.jpeg
END:VEVENT
BEGIN:VEVENT
DTSTART;TZID=UTC:20230610T120000
DTEND;TZID=UTC:20230610T200000
DTSTAMP:20260422T121445
CREATED:20230504T021422Z
LAST-MODIFIED:20230601T044805Z
UID:3115-1686398400-1686427200@loneoakbrewingco.com
SUMMARY:FOOD TRUCK - PHOWHEELS
DESCRIPTION:We have a new delicious special menu item for a limited time only –  Bo Khirria Tacos and Shaky beef!  – 6oz Marinated ribeye tenderloin served with rice\, cucumbers\, pickled veggie & topped with a fried egg. – Option to have shaky beef as a rice dish\, tacos or banh mi! \nCheck out the menu here
URL:https://loneoakbrewingco.com/event/food-truck-phowheels-3/
LOCATION:Lone Oak Brewery\, 5000 Olney Laytonsville Rd\, Olney\, MD\, 20832\, United States
CATEGORIES:Food Truck
ATTACH;FMTTYPE=image/jpeg:https://loneoakbrewingco.com/wp-content/uploads/2022/04/phowheels-e1631744329223.jpg
END:VEVENT
BEGIN:VEVENT
DTSTART;TZID=UTC:20230610T140000
DTEND;TZID=UTC:20230610T170000
DTSTAMP:20260422T121445
CREATED:20230209T023120Z
LAST-MODIFIED:20230209T023120Z
UID:2807-1686405600-1686416400@loneoakbrewingco.com
SUMMARY:LIVE MUSIC - BRIAN HARRIS
DESCRIPTION:
URL:https://loneoakbrewingco.com/event/live-music-brian-harris-9/
LOCATION:Lone Oak Brewery\, 5000 Olney Laytonsville Rd\, Olney\, MD\, 20832\, United States
CATEGORIES:Live Music
ATTACH;FMTTYPE=image/jpeg:https://loneoakbrewingco.com/wp-content/uploads/2022/03/brian-harris-1-1.jpeg
END:VEVENT
BEGIN:VEVENT
DTSTART;TZID=UTC:20230611T120000
DTEND;TZID=UTC:20230611T200000
DTSTAMP:20260422T121445
CREATED:20230504T022134Z
LAST-MODIFIED:20230504T022134Z
UID:3117-1686484800-1686513600@loneoakbrewingco.com
SUMMARY:FOOD TRUCK - GRUBBING HARD BBQ
DESCRIPTION:ABOUT GRUBBING HARD BBQ:\n“Pitmaster and GHB owner Matt Chanin is a local Olney native and Sherwood High School graduate. When COVID struck Matt lost his day job at a law firm and quickly went from pushing paper to pursuing his true passion for food and hospitality. On almost every Saturday in 2020\, lines of cars would wait outside Matt’s parent’s house for their scheduled curbside pickup and dose of Texas-inspired barbecue. Matt’s “Grubbing Hard” instagram account quickly blew up within the local community and GHB would transform from a hobby to a legitimate food truck and catering business.” \nMATT’S THOUGHTS: \n“In early 2021 when I learned that they (Lone Oak) were building a brewery right next to my neighborhood\, I saw a perfect opportunity. I reached out to the owners and asked if I could come introduce myself and bring them a tray of bbq. The rest is history!” \n“Being from Olney I especially enjoy working with Lone Oak because of all the familiar faces we see every visit. We try to focus on the hospitality aspect as much as the food itself\, so it’s particularly fulfilling for me to see friends and neighbors supporting local businesses – and more importantly – enjoying our Que! I don’t think any food pairs better with a cold beer on a sunny day than our barbecue.” \n“My favorite food to serve 100% is our brisket. It’s one of those foods you can’t get at many places so I knew if ours was good we’d be able stand out. The brisket cooking process can take up to 18 hours and requires a lot of attention to detail\, so it’s rewarding when people recognize and appreciate the craft behind our work. It’s the best feeling when people tell us that our brisket is the best they’ve ever had. We want every bite to be the best”.
URL:https://loneoakbrewingco.com/event/food-truck-grubbing-hard-bbq-15/
LOCATION:Lone Oak Brewery\, 5000 Olney Laytonsville Rd\, Olney\, MD\, 20832\, United States
CATEGORIES:Food Truck
ATTACH;FMTTYPE=image/jpeg:https://loneoakbrewingco.com/wp-content/uploads/2022/03/grubbin-hard.jpeg
END:VEVENT
BEGIN:VEVENT
DTSTART;TZID=UTC:20230611T120000
DTEND;TZID=UTC:20230611T200000
DTSTAMP:20260422T121445
CREATED:20230504T022406Z
LAST-MODIFIED:20230504T022406Z
UID:3119-1686484800-1686513600@loneoakbrewingco.com
SUMMARY:FOOD TRUCK - FLIPSIDE GASTRO TO GO
DESCRIPTION:
URL:https://loneoakbrewingco.com/event/food-truck-flipside-gastro-to-go-3/
LOCATION:Lone Oak Brewery\, 5000 Olney Laytonsville Rd\, Olney\, MD\, 20832\, United States
CATEGORIES:Food Truck
ATTACH;FMTTYPE=image/jpeg:https://loneoakbrewingco.com/wp-content/uploads/2022/03/flipside-gastro-truck.jpeg
END:VEVENT
BEGIN:VEVENT
DTSTART;TZID=UTC:20230611T140000
DTEND;TZID=UTC:20230611T170000
DTSTAMP:20260422T121445
CREATED:20230429T002642Z
LAST-MODIFIED:20230429T002642Z
UID:3068-1686492000-1686502800@loneoakbrewingco.com
SUMMARY:LIVE MUSIC - MICHAEL HEISTER
DESCRIPTION:“My name is Michael Heister\, and I am a 21-year-old acoustic guitarist and vocalist from Frederick\, Maryland. I’ve always had a love for music\, whether it was singing along to Tom Petty songs\, dancing to Michael Jackson songs\, or falling asleep to Sade songs. I enjoy playing a variety of musical styles\, including but not limited to pop\, rock\, R&B\, and country. My favorite part about being a local musician is that it gives my family and friends a chance to connect and socialize\, and it gives me the opportunity to meet new people.”
URL:https://loneoakbrewingco.com/event/live-music-michael-heister-6/
LOCATION:Lone Oak Brewery\, 5000 Olney Laytonsville Rd\, Olney\, MD\, 20832\, United States
CATEGORIES:Live Music
ATTACH;FMTTYPE=image/png:https://loneoakbrewingco.com/wp-content/uploads/2022/05/Screen-Shot-2022-05-26-at-7.40.43-PM-e1653768867364.png
END:VEVENT
BEGIN:VEVENT
DTSTART;TZID=UTC:20230617T120000
DTEND;TZID=UTC:20230617T200000
DTSTAMP:20260422T121445
CREATED:20230504T023219Z
LAST-MODIFIED:20230504T023315Z
UID:3121-1687003200-1687032000@loneoakbrewingco.com
SUMMARY:FOOD TRUCK - SATÉ
DESCRIPTION:Check out their website here: https://www.sate.co/?location=11eb01cca29c1459bae90cc47a2ae638 
URL:https://loneoakbrewingco.com/event/food-truck-sate/
LOCATION:Lone Oak Brewery\, 5000 Olney Laytonsville Rd\, Olney\, MD\, 20832\, United States
CATEGORIES:Food Truck
ATTACH;FMTTYPE=image/png:https://loneoakbrewingco.com/wp-content/uploads/2023/05/Screenshot-2023-05-03-at-6.31.44-PM.png
END:VEVENT
BEGIN:VEVENT
DTSTART;TZID=UTC:20230617T140000
DTEND;TZID=UTC:20230617T170000
DTSTAMP:20260422T121445
CREATED:20230209T024046Z
LAST-MODIFIED:20230209T024046Z
UID:2809-1687010400-1687021200@loneoakbrewingco.com
SUMMARY:LIVE MUSIC - EMPTY ECSTASY
DESCRIPTION:
URL:https://loneoakbrewingco.com/event/live-music-empty-ecstasy/
LOCATION:Lone Oak Brewery\, 5000 Olney Laytonsville Rd\, Olney\, MD\, 20832\, United States
CATEGORIES:Live Music
ATTACH;FMTTYPE=image/png:https://loneoakbrewingco.com/wp-content/uploads/2023/02/Screenshot-2023-02-08-at-4.37.51-PM.png
END:VEVENT
BEGIN:VEVENT
DTSTART;TZID=UTC:20230624T120000
DTEND;TZID=UTC:20230624T200000
DTSTAMP:20260422T121445
CREATED:20230504T023602Z
LAST-MODIFIED:20230504T023602Z
UID:3124-1687608000-1687636800@loneoakbrewingco.com
SUMMARY:FOOD TRUCK - MARIA'S KITCHEN
DESCRIPTION:Check out their website here: https://marias.kitchen/wp-content/uploads/2023/01/Marias-Kitchen-Menu.pdf \n“I grew up in Los Angeles California. Los Angeles is a very diverse city and I got my inspiration from eating so many different dishes from chefs that represented different parts of Mexico. My wife grew up on her family’s coffee farm in Honduras and has been cooking with the farm to table approach for her father’s workers since she was a little girl. My wife Maria and I are big foodies and traveled throughout the US and abroad seeking inspiration resulting in what we believe to be the best version of Latin cuisine dishes reflected in our menu. We specialize In Mexican food with an LA twist\, Honduran and Puerto Rican dishes as I am half Puerto Rican and lived in Puerto Rico for 3 years.”
URL:https://loneoakbrewingco.com/event/food-truck-marias-kitchen-2/
LOCATION:Lone Oak Brewery\, 5000 Olney Laytonsville Rd\, Olney\, MD\, 20832\, United States
CATEGORIES:Food Truck
ATTACH;FMTTYPE=image/png:https://loneoakbrewingco.com/wp-content/uploads/2023/04/Screenshot-2023-03-17-at-9.25.03-PM.png
END:VEVENT
BEGIN:VEVENT
DTSTART;TZID=UTC:20230624T140000
DTEND;TZID=UTC:20230624T170000
DTSTAMP:20260422T121445
CREATED:20230209T032028Z
LAST-MODIFIED:20230209T032028Z
UID:2812-1687615200-1687626000@loneoakbrewingco.com
SUMMARY:LIVE MUSIC - MICHAEL HEISTER
DESCRIPTION:
URL:https://loneoakbrewingco.com/event/live-music-michael-heister-5/
LOCATION:Lone Oak Brewery\, 5000 Olney Laytonsville Rd\, Olney\, MD\, 20832\, United States
CATEGORIES:Live Music
ATTACH;FMTTYPE=image/png:https://loneoakbrewingco.com/wp-content/uploads/2022/05/Screen-Shot-2022-05-26-at-7.40.43-PM-e1653768867364.png
END:VEVENT
END:VCALENDAR