BEGIN:VCALENDAR
VERSION:2.0
PRODID:-//Lone Oak Brewing Co. - ECPv6.15.20//NONSGML v1.0//EN
CALSCALE:GREGORIAN
METHOD:PUBLISH
X-ORIGINAL-URL:https://loneoakbrewingco.com
X-WR-CALDESC:Events for Lone Oak Brewing Co.
REFRESH-INTERVAL;VALUE=DURATION:PT1H
X-Robots-Tag:noindex
X-PUBLISHED-TTL:PT1H
BEGIN:VTIMEZONE
TZID:UTC
BEGIN:STANDARD
TZOFFSETFROM:+0000
TZOFFSETTO:+0000
TZNAME:UTC
DTSTART:20220101T000000
END:STANDARD
END:VTIMEZONE
BEGIN:VEVENT
DTSTART;TZID=UTC:20230701T140000
DTEND;TZID=UTC:20230701T170000
DTSTAMP:20260422T121531
CREATED:20230429T015337Z
LAST-MODIFIED:20230429T015337Z
UID:3070-1688220000-1688230800@loneoakbrewingco.com
SUMMARY:LIVE MUSIC - BLOUSES
DESCRIPTION:Lauren Sumner grew up in Germantown\, MD. She now lives in Damascus training horses and teaching horseback riding out of her own ‘Crossfire Farm.\nLauren got into music at a young age. It began with imitating the singers she would hear from her mom’s Blues collection. It was here she discovered her natural ability to sing!\nJohn Mayer and Stevie Ray Vaughan are her biggest influences. \nBryan Wolf grew up in Brookeville\, MD.\nHis passion for listening to music started when he was young with the Backstreet Boys and radio country.\nBryan was quick to pick up a guitar at 13 years old once he started listening to the rock of the ’60s and 70’s once introduced to Led Zeppelin\, Pink Floyd\, and AC DC.\nBryan’s biggest influences are Father John Misty and the Beatles. \nBeing local TO US means contributing to and supporting the community that helped raise and support us. It means seeing familiar faces at our gigs around town and running into people we haven’t seen for years but feel like we’ve never lost touch with.
URL:https://loneoakbrewingco.com/event/live-music-blouses/
LOCATION:Lone Oak Brewery\, 5000 Olney Laytonsville Rd\, Olney\, MD\, 20832\, United States
CATEGORIES:Live Music
ATTACH;FMTTYPE=image/png:https://loneoakbrewingco.com/wp-content/uploads/2022/04/login.png
END:VEVENT
BEGIN:VEVENT
DTSTART;TZID=UTC:20230708T120000
DTEND;TZID=UTC:20230708T200000
DTSTAMP:20260422T121531
CREATED:20230504T023950Z
LAST-MODIFIED:20230504T024142Z
UID:3128-1688817600-1688846400@loneoakbrewingco.com
SUMMARY:FOOD TRUCK - GRUBBING HARD BBQ
DESCRIPTION:ABOUT GRUBBING HARD BBQ:\n“Pitmaster and GHB owner Matt Chanin is a local Olney native and Sherwood High School graduate. When COVID struck Matt lost his day job at a law firm and quickly went from pushing paper to pursuing his true passion for food and hospitality. On almost every Saturday in 2020\, lines of cars would wait outside Matt’s parent’s house for their scheduled curbside pickup and dose of Texas-inspired barbecue. Matt’s “Grubbing Hard” instagram account quickly blew up within the local community and GHB would transform from a hobby to a legitimate food truck and catering business.” \nMATT’S THOUGHTS: \n“In early 2021 when I learned that they (Lone Oak) were building a brewery right next to my neighborhood\, I saw a perfect opportunity. I reached out to the owners and asked if I could come introduce myself and bring them a tray of bbq. The rest is history!” \n“Being from Olney I especially enjoy working with Lone Oak because of all the familiar faces we see every visit. We try to focus on the hospitality aspect as much as the food itself\, so it’s particularly fulfilling for me to see friends and neighbors supporting local businesses – and more importantly – enjoying our Que! I don’t think any food pairs better with a cold beer on a sunny day than our barbecue.” \n“My favorite food to serve 100% is our brisket. It’s one of those foods you can’t get at many places so I knew if ours was good we’d be able stand out. The brisket cooking process can take up to 18 hours and requires a lot of attention to detail\, so it’s rewarding when people recognize and appreciate the craft behind our work. It’s the best feeling when people tell us that our brisket is the best they’ve ever had. We want every bite to be the best”.
URL:https://loneoakbrewingco.com/event/food-truck-grubbing-hard-bbq-16/
LOCATION:Lone Oak Brewery\, 5000 Olney Laytonsville Rd\, Olney\, MD\, 20832\, United States
CATEGORIES:Food Truck
ATTACH;FMTTYPE=image/jpeg:https://loneoakbrewingco.com/wp-content/uploads/2022/03/grubbin-hard.jpeg
END:VEVENT
BEGIN:VEVENT
DTSTART;TZID=UTC:20230708T140000
DTEND;TZID=UTC:20230708T170000
DTSTAMP:20260422T121531
CREATED:20230504T221412Z
LAST-MODIFIED:20230504T221412Z
UID:3153-1688824800-1688835600@loneoakbrewingco.com
SUMMARY:LIVE MUSIC - PARK VALLEY
DESCRIPTION:
URL:https://loneoakbrewingco.com/event/live-music-park-valley-3/
LOCATION:Lone Oak Brewery\, 5000 Olney Laytonsville Rd\, Olney\, MD\, 20832\, United States
CATEGORIES:Live Music
ATTACH;FMTTYPE=image/png:https://loneoakbrewingco.com/wp-content/uploads/2022/05/Screen-Shot-2022-05-13-at-9.02.02-PM.png
END:VEVENT
BEGIN:VEVENT
DTSTART;TZID=UTC:20230715T120000
DTEND;TZID=UTC:20230715T170000
DTSTAMP:20260422T121531
CREATED:20230622T040054Z
LAST-MODIFIED:20230622T040054Z
UID:3223-1689422400-1689440400@loneoakbrewingco.com
SUMMARY:Pint Size Plunge with Special Olympics Maryland
DESCRIPTION:Lone Oak Farm is teaming up with Special Olympics Maryland to host the Pint Size Polar Bear Plunge on July 15th from 12:00pm to 5:00pm as a 6 month kickoff to the 2024 MSP Polar Bear Plunge. Bring the family and join us for a fun filled day of food\, drinks\, and plunge activities. All proceeds benefit the athletes and Unified teammates of Special Olympics Maryland!
URL:https://loneoakbrewingco.com/event/pint-size-plunge-with-special-olympics-maryland/
LOCATION:Lone Oak Brewery\, 5000 Olney Laytonsville Rd\, Olney\, MD\, 20832\, United States
CATEGORIES:Fundraiser
ATTACH;FMTTYPE=image/jpeg:https://loneoakbrewingco.com/wp-content/uploads/2023/06/PintSizePlunge_2023_Flyer-page-001-scaled-e1687392045688.jpg
END:VEVENT
BEGIN:VEVENT
DTSTART;TZID=UTC:20230715T120000
DTEND;TZID=UTC:20230715T200000
DTSTAMP:20260422T121531
CREATED:20230504T024551Z
LAST-MODIFIED:20230504T024712Z
UID:3132-1689422400-1689451200@loneoakbrewingco.com
SUMMARY:FOOD TRUCK - BLUES BBQ
DESCRIPTION:Check out their menu here: https://bluesfoodtrucks.square.site/?location=11e93f4ac6a9387e8df20a580a1c0171
URL:https://loneoakbrewingco.com/event/food-truck-blues-bbq-4/
LOCATION:Lone Oak Brewery\, 5000 Olney Laytonsville Rd\, Olney\, MD\, 20832\, United States
CATEGORIES:Food Truck
ATTACH;FMTTYPE=image/png:https://loneoakbrewingco.com/wp-content/uploads/2022/05/BLUES-BBQ.png
END:VEVENT
BEGIN:VEVENT
DTSTART;TZID=UTC:20230720T190000
DTEND;TZID=UTC:20230720T210000
DTSTAMP:20260422T121531
CREATED:20230629T014718Z
LAST-MODIFIED:20230629T014718Z
UID:3225-1689879600-1689886800@loneoakbrewingco.com
SUMMARY:Lone Oak Comedy Show
DESCRIPTION:Don’t miss a special comedy event at Lone Oak Farm Brewing Company\, Thursday\, July 20 hosted by nationally touring comedian Lucas Bohn featuring a one night only headline performance from comedian Dan Gabriel. Dan has been seen on Comedy Central\, Showtime\, NBC’s Last Comic Standing\, the Late Late Show with James Corden\, and performing with comedy legends like Dave Chappelle\, George Lopez\, and Bob Saget. He is also the winner of the prestigious Los Angelos Take Out the Comedy Competition. His critically acclaimed last album can be found on SiriusXM\, Pandora\, Spotify\, and ITunes. \nHost Lucas Bohn has been seen on NBC\, CBS nationally and performing with comedy legends Jimmy Fallon\, Kevin Hart\, Dave Chappelle\, Larry the Cable guy and more. His 2nd live comedy special went viral with over 50 million views and can be found on SiriusXM\, Spotify\, Apple Music\, and Pandora. Lucas will be joined by DC Comedy Fest rising star Kevin Skiffington. \nTickets are only $22 per person & tables of 6 are $125!
URL:https://loneoakbrewingco.com/event/lone-oak-comedy-show/
LOCATION:Lone Oak Brewery\, 5000 Olney Laytonsville Rd\, Olney\, MD\, 20832\, United States
CATEGORIES:Ticketed Event
ATTACH;FMTTYPE=image/png:https://loneoakbrewingco.com/wp-content/uploads/2023/06/Lone-Oak-Show-Social-Post.png
END:VEVENT
BEGIN:VEVENT
DTSTART;TZID=UTC:20230722T120000
DTEND;TZID=UTC:20230722T200000
DTSTAMP:20260422T121531
CREATED:20230504T025436Z
LAST-MODIFIED:20230504T025436Z
UID:3136-1690027200-1690056000@loneoakbrewingco.com
SUMMARY:FOOD TRUCK - PHOWHEELS
DESCRIPTION:
URL:https://loneoakbrewingco.com/event/food-truck-phowheels-4/
LOCATION:Lone Oak Brewery\, 5000 Olney Laytonsville Rd\, Olney\, MD\, 20832\, United States
CATEGORIES:Food Truck
ATTACH;FMTTYPE=image/jpeg:https://loneoakbrewingco.com/wp-content/uploads/2022/04/phowheels-e1631744329223.jpg
END:VEVENT
BEGIN:VEVENT
DTSTART;TZID=UTC:20230722T140000
DTEND;TZID=UTC:20230722T170000
DTSTAMP:20260422T121531
CREATED:20230429T020320Z
LAST-MODIFIED:20230429T020320Z
UID:3076-1690034400-1690045200@loneoakbrewingco.com
SUMMARY:LIVE MUSIC - JIM KELLY
DESCRIPTION:Originally I’m from Frederick\, MD. I grew up right outside of town\, always being exposed to the plethora of local artists and happenings there. Music runs in my family. My uncle gave me a drum set during the summer after 4th grade. I loved it but my parents didn’t care much for the noise. So in 6th grade\, I got my first electric guitar. Family parties quickly turned into full-on stage productions with the whole family running through the gamut of hits from all the greats like The Beatles\, Tom Petty\, Rolling Stones\, Steve Miller Band\, Bob Marley\, and on and on. I’ve been focusing mostly on acoustic music for the last seven years or so\, blending my own mix of rock\, reggae\, psychedelic bluegrass\, and beyond. My favorite song to play has to be Cleaning Windows\, by Van Morrison. As a local\, I feel a weight of responsibility to help keep MD’s live music scene alive\, vibrant\, and thriving!
URL:https://loneoakbrewingco.com/event/live-music-jim-kelly-2/
LOCATION:Lone Oak Brewery\, 5000 Olney Laytonsville Rd\, Olney\, MD\, 20832\, United States
CATEGORIES:Live Music
ATTACH;FMTTYPE=image/jpeg:https://loneoakbrewingco.com/wp-content/uploads/2022/11/image-e1668037603862.jpeg
END:VEVENT
BEGIN:VEVENT
DTSTART;TZID=UTC:20230729T120000
DTEND;TZID=UTC:20230729T200000
DTSTAMP:20260422T121531
CREATED:20230504T030010Z
LAST-MODIFIED:20230504T030010Z
UID:3138-1690632000-1690660800@loneoakbrewingco.com
SUMMARY:FOOD TRUCK - TRADITIONAL AUTHENTIC MEXICAN FOOD
DESCRIPTION:
URL:https://loneoakbrewingco.com/event/food-truck-traditional-authentic-mexican-food/
LOCATION:Lone Oak Brewery\, 5000 Olney Laytonsville Rd\, Olney\, MD\, 20832\, United States
CATEGORIES:Food Truck
ATTACH;FMTTYPE=image/png:https://loneoakbrewingco.com/wp-content/uploads/2023/05/Screenshot-2023-05-03-at-6.58.51-PM.png
END:VEVENT
BEGIN:VEVENT
DTSTART;TZID=UTC:20230729T140000
DTEND;TZID=UTC:20230729T170000
DTSTAMP:20260422T121531
CREATED:20230429T031407Z
LAST-MODIFIED:20230429T031407Z
UID:3078-1690639200-1690650000@loneoakbrewingco.com
SUMMARY:LIVE MUSIC - GRASSO BROTHERS
DESCRIPTION:Playing soul\, rock\, blues\, funk and reggae\, originals and covers. These two brothers bring their extensive background to their acoustic performance. Hailing from such bands as Uncle Chunky\, Jr. Cline and The Recliners\, Doctors’ Orders and Nayas\, harmony and groove are at the heart every show! \nOur parents were national and international recording artists in the 1970s and were signed to major labels\, ABC and Warner Brothers records respectively. \nGrowing up in Takoma Park MD has had huge impact on our sound! We use lots of DCs own GO GO infused with other local genres in our sound.
URL:https://loneoakbrewingco.com/event/live-music-grasso-brothers/
LOCATION:Lone Oak Brewery\, 5000 Olney Laytonsville Rd\, Olney\, MD\, 20832\, United States
CATEGORIES:Live Music
ATTACH;FMTTYPE=image/tiff:https://loneoakbrewingco.com/wp-content/uploads/2023/04/Pasted-Graphic.tiff
END:VEVENT
END:VCALENDAR