BEGIN:VCALENDAR
VERSION:2.0
PRODID:-//Lone Oak Brewing Co. - ECPv6.15.20//NONSGML v1.0//EN
CALSCALE:GREGORIAN
METHOD:PUBLISH
X-ORIGINAL-URL:https://loneoakbrewingco.com
X-WR-CALDESC:Events for Lone Oak Brewing Co.
REFRESH-INTERVAL;VALUE=DURATION:PT1H
X-Robots-Tag:noindex
X-PUBLISHED-TTL:PT1H
BEGIN:VTIMEZONE
TZID:UTC
BEGIN:STANDARD
TZOFFSETFROM:+0000
TZOFFSETTO:+0000
TZNAME:UTC
DTSTART:20230101T000000
END:STANDARD
END:VTIMEZONE
BEGIN:VEVENT
DTSTART;TZID=UTC:20240504T120000
DTEND;TZID=UTC:20240504T200000
DTSTAMP:20260423T050656
CREATED:20240226T024645Z
LAST-MODIFIED:20240329T011442Z
UID:3822-1714824000-1714852800@loneoakbrewingco.com
SUMMARY:FOOD TRUCK: MARIA'S KITCHEN
DESCRIPTION:Check out their menu here: https://marias.kitchen/wp-content/uploads/2023/01/Marias-Kitchen-Menu.pdf  \nHead Chef Isaac Diza grew up in Los Angeles California. “Los Angeles is a very diverse city and I got my inspiration from eating so many different dishes from chefs representing different parts of Mexico. My wife grew up on her family’s coffee farm in Honduras and has cooked with the farm-to-table approach for her father’s workers since she was a little girl. My wife Maria and I are big foodies and traveled throughout the US and abroad seeking inspiration resulting in what we believe to be the best version of Latin cuisine dishes reflected in our menu. We specialize In Mexican food with an LA twist\, and Honduran and Puerto Rican dishes as I am half Puerto Rican and lived in Puerto Rico for 3 years.”
URL:https://loneoakbrewingco.com/event/food-truck-grubbing-hard-9/
LOCATION:Lone Oak Brewery\, 5000 Olney Laytonsville Rd\, Olney\, MD\, 20832\, United States
CATEGORIES:Food Truck
ATTACH;FMTTYPE=image/png:https://loneoakbrewingco.com/wp-content/uploads/2023/08/Screenshot-2023-03-17-at-9.25.03-PM.png
END:VEVENT
BEGIN:VEVENT
DTSTART;TZID=UTC:20240504T140000
DTEND;TZID=UTC:20240504T170000
DTSTAMP:20260423T050656
CREATED:20240226T024531Z
LAST-MODIFIED:20240226T024531Z
UID:3820-1714831200-1714842000@loneoakbrewingco.com
SUMMARY:LIVE MUSIC: MICHELLE LOCKEY
DESCRIPTION:
URL:https://loneoakbrewingco.com/event/live-music-michelle-lockey/
LOCATION:Lone Oak Brewery\, 5000 Olney Laytonsville Rd\, Olney\, MD\, 20832\, United States
CATEGORIES:Live Music
ATTACH;FMTTYPE=image/png:https://loneoakbrewingco.com/wp-content/uploads/2023/08/darkLogo_4002cac9-c135-4d2f-a21e-7c5618effe27.png
END:VEVENT
BEGIN:VEVENT
DTSTART;TZID=UTC:20240505T120000
DTEND;TZID=UTC:20240505T200000
DTSTAMP:20260423T050656
CREATED:20240226T024943Z
LAST-MODIFIED:20240226T024943Z
UID:3827-1714910400-1714939200@loneoakbrewingco.com
SUMMARY:FOOD TRUCK: PAELLA AND TAPAS
DESCRIPTION:
URL:https://loneoakbrewingco.com/event/food-truck-paella-and-tapas-9/
LOCATION:Lone Oak Brewery\, 5000 Olney Laytonsville Rd\, Olney\, MD\, 20832\, United States
CATEGORIES:Food Truck
ATTACH;FMTTYPE=image/jpeg:https://loneoakbrewingco.com/wp-content/uploads/2024/02/Paella-and-Tapas-1024x682-1.jpg
END:VEVENT
BEGIN:VEVENT
DTSTART;TZID=UTC:20240505T140000
DTEND;TZID=UTC:20240505T170000
DTSTAMP:20260423T050656
CREATED:20240226T024840Z
LAST-MODIFIED:20240427T015628Z
UID:3824-1714917600-1714928400@loneoakbrewingco.com
SUMMARY:LIVE MUSIC: SEAN CHYUN
DESCRIPTION:
URL:https://loneoakbrewingco.com/event/live-music-sean-chyun-5/
LOCATION:Lone Oak Brewery\, 5000 Olney Laytonsville Rd\, Olney\, MD\, 20832\, United States
CATEGORIES:Live Music
ATTACH;FMTTYPE=image/jpeg:https://loneoakbrewingco.com/wp-content/uploads/2024/02/seanchyunn.jpg
END:VEVENT
BEGIN:VEVENT
DTSTART;TZID=UTC:20240511T120000
DTEND;TZID=UTC:20240511T200000
DTSTAMP:20260423T050656
CREATED:20240329T011717Z
LAST-MODIFIED:20240329T011717Z
UID:3878-1715428800-1715457600@loneoakbrewingco.com
SUMMARY:FOOD TRUCK: SALAT
DESCRIPTION:
URL:https://loneoakbrewingco.com/event/food-truck-salat-4/
LOCATION:Lone Oak Brewery\, 5000 Olney Laytonsville Rd\, Olney\, MD\, 20832\, United States
CATEGORIES:Food Truck
ATTACH;FMTTYPE=image/png:https://loneoakbrewingco.com/wp-content/uploads/2024/02/Screen-Shot-2022-05-28-at-6.14.01-PM-e1653776206645.png
END:VEVENT
BEGIN:VEVENT
DTSTART;TZID=UTC:20240511T140000
DTEND;TZID=UTC:20240511T170000
DTSTAMP:20260423T050656
CREATED:20240329T011823Z
LAST-MODIFIED:20240329T011823Z
UID:3880-1715436000-1715446800@loneoakbrewingco.com
SUMMARY:LIVE MUSIC: ELI LEV
DESCRIPTION:
URL:https://loneoakbrewingco.com/event/live-music-eli-lev/
LOCATION:Lone Oak Brewery\, 5000 Olney Laytonsville Rd\, Olney\, MD\, 20832\, United States
CATEGORIES:Live Music
ATTACH;FMTTYPE=image/png:https://loneoakbrewingco.com/wp-content/uploads/2023/08/darkLogo_4002cac9-c135-4d2f-a21e-7c5618effe27.png
END:VEVENT
BEGIN:VEVENT
DTSTART;TZID=UTC:20240512T120000
DTEND;TZID=UTC:20240512T200000
DTSTAMP:20260423T050656
CREATED:20240329T011956Z
LAST-MODIFIED:20240329T011956Z
UID:3884-1715515200-1715544000@loneoakbrewingco.com
SUMMARY:FOOD TRUCK: TRADITIONAL AUTHENTIC MEXICAN FOOD
DESCRIPTION:
URL:https://loneoakbrewingco.com/event/food-truck-traditional-authentic-mexican-food-2/
LOCATION:Lone Oak Brewery\, 5000 Olney Laytonsville Rd\, Olney\, MD\, 20832\, United States
CATEGORIES:Food Truck
ATTACH;FMTTYPE=image/png:https://loneoakbrewingco.com/wp-content/uploads/2023/05/Screenshot-2023-05-03-at-6.58.51-PM.png
END:VEVENT
BEGIN:VEVENT
DTSTART;TZID=UTC:20240512T140000
DTEND;TZID=UTC:20240512T170000
DTSTAMP:20260423T050656
CREATED:20240329T011902Z
LAST-MODIFIED:20240329T011902Z
UID:3882-1715522400-1715533200@loneoakbrewingco.com
SUMMARY:LIVE MUSIC: ADAM FORBES
DESCRIPTION:
URL:https://loneoakbrewingco.com/event/live-music-adam-forbes/
LOCATION:Lone Oak Brewery\, 5000 Olney Laytonsville Rd\, Olney\, MD\, 20832\, United States
CATEGORIES:Live Music
ATTACH;FMTTYPE=image/png:https://loneoakbrewingco.com/wp-content/uploads/2023/08/darkLogo_4002cac9-c135-4d2f-a21e-7c5618effe27.png
END:VEVENT
BEGIN:VEVENT
DTSTART;TZID=UTC:20240516T190000
DTEND;TZID=UTC:20240516T210000
DTSTAMP:20260423T050656
CREATED:20240502T033147Z
LAST-MODIFIED:20240502T033147Z
UID:3966-1715886000-1715893200@loneoakbrewingco.com
SUMMARY:LAUGHT AT LONE OAK COMEDY SHOW
DESCRIPTION:Join us at Lone Oak Farm Brewing Company on Thursday\, May 16 for a special “comedy for a cause” stand up show\, featuring nationally touring comedians Dylan Mandlsohn and Lucas Bohn. $10 from every ticket and $1 from every beer will go directly to Paths to Families Adoptions to support those looking to adopt. \nDylan’s first comedy special debuted on the long running Canadian TV Series Comedy Now. He is also a former member of the nationally acclaimed Los Angeles improv troupe “the Groundlings.” He has also been seen on the CW and Syfy networks. \nHost Lucas Bohn has been seen on NBC\, CBS nationally and performing with comedy legends Jimmy Fallon\, Kevin Hart\, Dave Chappelle\, Larry the Cable guy and more. His 2nd live comedy special went viral with over 50 million views and can be found on SiriusXM\, Spotify\, Apple Music\, and Pandora. Lucas will be joined by Washington\, DC comic Ant Perez.
URL:https://loneoakbrewingco.com/event/laught-at-lone-oak-comedy-show/
LOCATION:Lone Oak Brewery\, 5000 Olney Laytonsville Rd\, Olney\, MD\, 20832\, United States
CATEGORIES:Ticketed Event
ATTACH;FMTTYPE=image/png:https://loneoakbrewingco.com/wp-content/uploads/2024/05/Flyer-w-qr-code1.png
END:VEVENT
BEGIN:VEVENT
DTSTART;TZID=UTC:20240518T120000
DTEND;TZID=UTC:20240518T200000
DTSTAMP:20260423T050656
CREATED:20240329T012549Z
LAST-MODIFIED:20240329T012549Z
UID:3888-1716033600-1716062400@loneoakbrewingco.com
SUMMARY:FOOD TRUCK: TRIPPY TACOS
DESCRIPTION:
URL:https://loneoakbrewingco.com/event/food-truck-trippy-tacos-5/
LOCATION:Lone Oak Brewery\, 5000 Olney Laytonsville Rd\, Olney\, MD\, 20832\, United States
ATTACH;FMTTYPE=image/png:https://loneoakbrewingco.com/wp-content/uploads/2024/03/Screen-Shot-2022-05-28-at-5.02.34-PM.png
END:VEVENT
BEGIN:VEVENT
DTSTART;TZID=UTC:20240518T140000
DTEND;TZID=UTC:20240518T170000
DTSTAMP:20260423T050656
CREATED:20240329T012034Z
LAST-MODIFIED:20240329T012034Z
UID:3886-1716040800-1716051600@loneoakbrewingco.com
SUMMARY:LIVE MUSIC: BRIAN HARRIS
DESCRIPTION:
URL:https://loneoakbrewingco.com/event/live-music-brian-harris-15/
LOCATION:Lone Oak Brewery\, 5000 Olney Laytonsville Rd\, Olney\, MD\, 20832\, United States
CATEGORIES:Live Music
ATTACH;FMTTYPE=image/jpeg:https://loneoakbrewingco.com/wp-content/uploads/2024/02/Brian-Harris-scaled-1.jpg
END:VEVENT
BEGIN:VEVENT
DTSTART;TZID=UTC:20240519T120000
DTEND;TZID=UTC:20240519T200000
DTSTAMP:20260423T050656
CREATED:20240329T013109Z
LAST-MODIFIED:20240329T013109Z
UID:3893-1716120000-1716148800@loneoakbrewingco.com
SUMMARY:FOOD TRUCK: DM SLIDERS
DESCRIPTION:
URL:https://loneoakbrewingco.com/event/food-truck-dm-sliders-5/
LOCATION:Lone Oak Brewery\, 5000 Olney Laytonsville Rd\, Olney\, MD\, 20832\, United States
CATEGORIES:Food Truck
ATTACH;FMTTYPE=image/png:https://loneoakbrewingco.com/wp-content/uploads/2023/05/Screenshot-2023-05-25-at-3.02.27-PM.png
END:VEVENT
BEGIN:VEVENT
DTSTART;TZID=UTC:20240519T140000
DTEND;TZID=UTC:20240519T170000
DTSTAMP:20260423T050656
CREATED:20240329T013015Z
LAST-MODIFIED:20240329T013015Z
UID:3891-1716127200-1716138000@loneoakbrewingco.com
SUMMARY:LIVE MUSIC: DAISY MEADOWS
DESCRIPTION:
URL:https://loneoakbrewingco.com/event/live-music-daisy-meadows/
LOCATION:Lone Oak Brewery\, 5000 Olney Laytonsville Rd\, Olney\, MD\, 20832\, United States
CATEGORIES:Live Music
ATTACH;FMTTYPE=image/png:https://loneoakbrewingco.com/wp-content/uploads/2023/08/darkLogo_4002cac9-c135-4d2f-a21e-7c5618effe27.png
END:VEVENT
BEGIN:VEVENT
DTSTART;TZID=UTC:20240525T120000
DTEND;TZID=UTC:20240525T200000
DTSTAMP:20260423T050656
CREATED:20240329T013603Z
LAST-MODIFIED:20240329T013603Z
UID:3897-1716638400-1716667200@loneoakbrewingco.com
SUMMARY:FOOD TRUCK: NO SAUCE QUE
DESCRIPTION:
URL:https://loneoakbrewingco.com/event/food-truck-no-sauce-que-2/
LOCATION:Lone Oak Brewery\, 5000 Olney Laytonsville Rd\, Olney\, MD\, 20832\, United States
CATEGORIES:Food Truck
ATTACH;FMTTYPE=image/png:https://loneoakbrewingco.com/wp-content/uploads/2024/03/a999e9_5e58133e84f74e5e9607e713bf36ff0amv2.png
END:VEVENT
BEGIN:VEVENT
DTSTART;TZID=UTC:20240525T140000
DTEND;TZID=UTC:20240525T170000
DTSTAMP:20260423T050656
CREATED:20240329T013310Z
LAST-MODIFIED:20240504T195837Z
UID:3895-1716645600-1716656400@loneoakbrewingco.com
SUMMARY:LIVE MUSIC: BILL JONES
DESCRIPTION:Bill Jones Biography: \n\nA retired teacher\, Bill Jones\, plays acoustic guitar featuring songs of Jackson Browne\, James Taylor\, & Jimmy Buffet as well as other contemporary country artist. His songs incorporate drum beats and vocal harmonization that create a complete band performance. Bill has played guitar in the Maryland area for 40 years for social gatherings\, weddings\, private parties\, and local establishments.
URL:https://loneoakbrewingco.com/event/live-music-bill-jones-2/
LOCATION:Lone Oak Brewery\, 5000 Olney Laytonsville Rd\, Olney\, MD\, 20832\, United States
CATEGORIES:Live Music
ATTACH;FMTTYPE=image/jpeg:https://loneoakbrewingco.com/wp-content/uploads/2024/03/thumbnail_DSC_8645-scaled.jpg
END:VEVENT
BEGIN:VEVENT
DTSTART;TZID=UTC:20240526T120000
DTEND;TZID=UTC:20240526T200000
DTSTAMP:20260423T050656
CREATED:20240329T013930Z
LAST-MODIFIED:20240329T013930Z
UID:3900-1716724800-1716753600@loneoakbrewingco.com
SUMMARY:FOOD TRUCK: JUS FOOD
DESCRIPTION:
URL:https://loneoakbrewingco.com/event/food-truck-jus-food-2/
LOCATION:Lone Oak Brewery\, 5000 Olney Laytonsville Rd\, Olney\, MD\, 20832\, United States
CATEGORIES:Food Truck
ATTACH;FMTTYPE=image/png:https://loneoakbrewingco.com/wp-content/uploads/2023/08/darkLogo_4002cac9-c135-4d2f-a21e-7c5618effe27.png
END:VEVENT
BEGIN:VEVENT
DTSTART;TZID=UTC:20240526T140000
DTEND;TZID=UTC:20240526T170000
DTSTAMP:20260423T050656
CREATED:20240329T014007Z
LAST-MODIFIED:20240329T014007Z
UID:3902-1716732000-1716742800@loneoakbrewingco.com
SUMMARY:LIVE MUSIC: DAVE WEBER
DESCRIPTION:
URL:https://loneoakbrewingco.com/event/live-music-dave-weber-2/
LOCATION:Lone Oak Brewery\, 5000 Olney Laytonsville Rd\, Olney\, MD\, 20832\, United States
CATEGORIES:Live Music
ATTACH;FMTTYPE=image/jpeg:https://loneoakbrewingco.com/wp-content/uploads/2024/01/93a36f155bcad33601bbb3e33237278e4925f0d2cfcd00eb6e06110bbd51b1d4-rimg-w960-h640-gmir.jpg
END:VEVENT
BEGIN:VEVENT
DTSTART;TZID=UTC:20240530T180000
DTEND;TZID=UTC:20240530T200000
DTSTAMP:20260423T050656
CREATED:20240502T033437Z
LAST-MODIFIED:20240502T033437Z
UID:3969-1717092000-1717099200@loneoakbrewingco.com
SUMMARY:LINE DANCING!
DESCRIPTION:DUST OFF YOUR BOOTS\, KICK OFF YOUR HEELS AND DANCE THE NIGHT AWAY WITH US MAY 30TH FROM 6-8PM FOR OUR FIRST LINE DANCING EVENT! FREE ENTRY!
URL:https://loneoakbrewingco.com/event/line-dancing/
LOCATION:Lone Oak Brewery\, 5000 Olney Laytonsville Rd\, Olney\, MD\, 20832\, United States
CATEGORIES:Ticketed Event
ATTACH;FMTTYPE=image/png:https://loneoakbrewingco.com/wp-content/uploads/2023/06/image-1.png
END:VEVENT
END:VCALENDAR