BEGIN:VCALENDAR
VERSION:2.0
PRODID:-//Lone Oak Brewing Co. - ECPv6.15.20//NONSGML v1.0//EN
CALSCALE:GREGORIAN
METHOD:PUBLISH
X-WR-CALNAME:Lone Oak Brewing Co.
X-ORIGINAL-URL:https://loneoakbrewingco.com
X-WR-CALDESC:Events for Lone Oak Brewing Co.
REFRESH-INTERVAL;VALUE=DURATION:PT1H
X-Robots-Tag:noindex
X-PUBLISHED-TTL:PT1H
BEGIN:VTIMEZONE
TZID:UTC
BEGIN:STANDARD
TZOFFSETFROM:+0000
TZOFFSETTO:+0000
TZNAME:UTC
DTSTART:20230101T000000
END:STANDARD
END:VTIMEZONE
BEGIN:VEVENT
DTSTART;TZID=UTC:20241205T180000
DTEND;TZID=UTC:20241205T200000
DTSTAMP:20260424T110536
CREATED:20240103T202213Z
LAST-MODIFIED:20250122T091312Z
UID:4014-1733421600-1733428800@loneoakbrewingco.com
SUMMARY:TRIVIA
DESCRIPTION:Grab your thinking cap and test your knowledge with Pour House Trivia! Get a group together for prizes and $6 beer! All ages and levels are welcome.
URL:https://loneoakbrewingco.com/event/trivia-3-2024-12-05/
LOCATION:Lone Oak Brewery\, 5000 Olney Laytonsville Rd\, Olney\, MD\, 20832\, United States
CATEGORIES:Trivia
ATTACH;FMTTYPE=image/jpeg:https://loneoakbrewingco.com/wp-content/uploads/2023/08/pourhousetrivia-1.jpg
END:VEVENT
BEGIN:VEVENT
DTSTART;TZID=UTC:20241207T160000
DTEND;TZID=UTC:20241207T190000
DTSTAMP:20260424T110536
CREATED:20241004T033428Z
LAST-MODIFIED:20241004T033428Z
UID:4474-1733587200-1733598000@loneoakbrewingco.com
SUMMARY:LIVE MUSIC - EMPTY ECSTACY
DESCRIPTION:We’re Empty Ecstasy – Shawna and Mike Taylor – a husband and wife acoustic duo with uniquely crafted song arrangements and harmonies and a well-polished repertoire of classic rock\, pop and country covers.
URL:https://loneoakbrewingco.com/event/live-music-empty-ecstacy-2/
LOCATION:Lone Oak Brewery\, 5000 Olney Laytonsville Rd\, Olney\, MD\, 20832\, United States
CATEGORIES:Live Music
ATTACH;FMTTYPE=image/png:https://loneoakbrewingco.com/wp-content/uploads/2023/02/Screenshot-2023-02-08-at-4.37.51-PM.png
END:VEVENT
BEGIN:VEVENT
DTSTART;TZID=UTC:20241212T180000
DTEND;TZID=UTC:20241212T200000
DTSTAMP:20260424T110536
CREATED:20240103T202213Z
LAST-MODIFIED:20250122T091312Z
UID:4015-1734026400-1734033600@loneoakbrewingco.com
SUMMARY:TRIVIA
DESCRIPTION:Grab your thinking cap and test your knowledge with Pour House Trivia! Get a group together for prizes and $6 beer! All ages and levels are welcome.
URL:https://loneoakbrewingco.com/event/trivia-3-2024-12-12/
LOCATION:Lone Oak Brewery\, 5000 Olney Laytonsville Rd\, Olney\, MD\, 20832\, United States
CATEGORIES:Trivia
ATTACH;FMTTYPE=image/jpeg:https://loneoakbrewingco.com/wp-content/uploads/2023/08/pourhousetrivia-1.jpg
END:VEVENT
BEGIN:VEVENT
DTSTART;TZID=UTC:20241214T160000
DTEND;TZID=UTC:20241214T190000
DTSTAMP:20260424T110536
CREATED:20241004T033619Z
LAST-MODIFIED:20241004T033619Z
UID:4476-1734192000-1734202800@loneoakbrewingco.com
SUMMARY:LIVE MUSIC - ONE STEP DOWN
DESCRIPTION:Joe grew up in NJ\, and became fascinated with the electric guitar after hearing the Venture’s Walk Don’t Run and Pipeline. After a year of lessons\, he was gifted his first real guitar\, which he still has. \nHis first band\, The 007s\, played songs by artists such as The Monkees and The Searchers. The music from 1968-1972 (Led Zeppelin\, Grand Funk\, Black Sabbath) helped shape Joe’s style. After moving to Bel Air\, he played in several local bands – 195\, Circle of Fire\, and Tainted Souls. \nKaren grew up in Elkridge\, MD. Although she had no vocal training\, she enjoyed singing along to Stevie Nicks\, Wynonna Judd and Tanya Tucker. She started her musical career when her dad bought a set of drums and decided to start a band. After searching unsuccessfully for a lead singer\, Karen asked if she could give it a try and nailed down the job for Crossfire. Over the years\, personnel changed\, and band names changed to The 8* Day and Flashpoint\, and finally\, Wasted Gravity. \nIn 2013\, Joe answered an ad for a lead guitarist and auditioned for Wasted Gravity\, and that’s when Karen and Joe started playing music together. When the pandemic hit and put the music scene on hold\, the band resorted to online practices. The practices didn’t go as well as expected and eventually\, Joe and Karen were the only ones to continue. The vision changed and Joe swapped out his electric guitar for an acoustic guitar. Their repertoire grew and when outdoor venues started to re-open\, One Step Down played its first gig in October 2020. Their love for many different musical genres shaped their style. Ask what kind of music they play\, and they will respond\, “Patsy Cline and Nancy Sinatra to Metallica and Iron Maiden and everything in between!”
URL:https://loneoakbrewingco.com/event/live-music-one-step-down-5/
LOCATION:Lone Oak Brewery\, 5000 Olney Laytonsville Rd\, Olney\, MD\, 20832\, United States
CATEGORIES:Live Music
ATTACH;FMTTYPE=image/png:https://loneoakbrewingco.com/wp-content/uploads/2024/01/Screenshot-2023-02-08-at-2.26.28-PM.png
END:VEVENT
BEGIN:VEVENT
DTSTART;TZID=UTC:20241219T180000
DTEND;TZID=UTC:20241219T200000
DTSTAMP:20260424T110536
CREATED:20240103T202213Z
LAST-MODIFIED:20250122T091312Z
UID:4016-1734631200-1734638400@loneoakbrewingco.com
SUMMARY:TRIVIA
DESCRIPTION:Grab your thinking cap and test your knowledge with Pour House Trivia! Get a group together for prizes and $6 beer! All ages and levels are welcome.
URL:https://loneoakbrewingco.com/event/trivia-3-2024-12-19/
LOCATION:Lone Oak Brewery\, 5000 Olney Laytonsville Rd\, Olney\, MD\, 20832\, United States
CATEGORIES:Trivia
ATTACH;FMTTYPE=image/jpeg:https://loneoakbrewingco.com/wp-content/uploads/2023/08/pourhousetrivia-1.jpg
END:VEVENT
BEGIN:VEVENT
DTSTART;TZID=UTC:20241221T160000
DTEND;TZID=UTC:20241221T190000
DTSTAMP:20260424T110536
CREATED:20241004T033733Z
LAST-MODIFIED:20241004T033733Z
UID:4478-1734796800-1734807600@loneoakbrewingco.com
SUMMARY:LIVE MUSIC - FREDDIE LONG
DESCRIPTION:Over the past decade-plus\, Freddie Long has cultivated local musical roots into an act recognized throughout the eastern US and beyond. The singer/songwriter that calls Frederick County\, MD home has garnered numerous music awards\, opened for many major national acts\, had music licensed and aired internationally\, and secured corporate promotional partnerships\, all in addition to recording three full albums of original material and playing thousands of shows up and down the eastern half of the US. \nThe story began as such: Fresh out of Lebanon Valley College and looking to continue his career in music with a larger live arrangement\, songwriter/performer Freddie Long began to audition musicians for a full band\, finding some of the most talented players in his area. Long and the other members had found something special–they were already gigging at popular clubs and festivals and receiving many positive responses within the first few weeks of playing together. \nLong has been turning heads and ears ever since\, charming listeners with his catchy and introspective original music along with putting his stamp on a vast array of cover selections. Along his busy touring schedule\, Long has performed on commercial TV and radio and has shared stages with many popular regional and national acts including Motley Crue\, Poison\, Bad Company\, Jo Dee Messina\, Edwin McCain\, Blue Oyster Cult\, Orleans\, Jimmie‘s Chicken Shack\, Shooter Jennings\, Blind Melon\, Pat McGee\, Mark Bryan (of Hootie and the Blowfish)\, Scott Ambush (of Grammy-nominated group Spyro Gyra)\, and many others. His band’s 2007 debut independent album\, entitled ‘Strangers and Friends\,’ has been praised by critics and fans alike and has received positive reviews in both print and online industry publications. The album won Indie-Music.com’s Top 25 releases of 2007 award\, as well as Indie-Music.com’s Top 25 MP3s of 2007 award for the song ‘Blanket’. In addition\, ‘Blanket’ has been featured on Six Flags Radio and The Freddie Long Band was also nominated for three 2007 Washington Area Music Awards (Wammies). \nIn August 2009\, Long and the band released a second full band album\, ‘Shotgun With The Devil\,’ an anticipated 17-track collection of new material. The new album features soulful influences and expanded arrangements\, and found the band performing shows with a new lineup including a full horn section to showcase a captivatingly bigger sound. Tracks from both ‘Strangers and Friends’ and ‘Shotgun With The Devil’ were also selected for inclusion into the Golden Tee 2010 golfing arcade game\, and the group received two more Wammie nominations in 2009. In addition\, The Freddie Long Band was given the great honor of recording the theme song for the Frederick Keys minor league baseball team\, a class A affiliate of the Baltimore Orioles\, in 2010. Following that\, Long also sung the national anthem for the NBA Washington Wizards standing center court at Washington\, DC’s famed Verizon Center arena. \nIn 2011\, Long released an acoustic album recorded at Rough Edges Studio in Nashville\, TN with FLB guitarist Christopher Bell. Long and Bell were no strangers to the Nashville scene\, having performed at many Music City writer’s nights and venues\, including the Hard Rock Cafe and the legendary Bluebird Café. The acoustic album\, appropriately titled ‘Nashville\,’ features intimate and engaging acoustic tracks and was released in April 2011. \nIn the fall of 2011\, Long relocated to Nashville to write\, perform\, and work on collaborations with several Music City artists and musicians. After a productive year in Music City\, Long retuned to the East Coast to work on new material and resume a packed touring schedule\, which has included a residency at the famed Ocean City\, MD nightclub Seacrets\, one of the top grossing nightclubs in the USA. In the last several years\, Long has also written\, recorded\, and performed several popular jingles for commercial radio\, and has had his music licensed and played internationally including significant airtime on networks across Spain\, Italy\, and Sweden. \nIn 2015\, The Freddie Long Band celebrated its 10-year anniversary–no small feat for any act in the music industry. The following year\, Long composed and recorded music for the Maryland Ensemble Theater’s production of ‘There’s No Place Like Home: Life Without The Ruby Slippers\,’ a much-talked about show addressing homelessness and featuring performers who had experienced homelessness themselves. Long’s contribution to the production included the show’s main musical theme as well as other recorded compositions\, and the show went on to have several sold out runs. \nCurrently\, Long maintains a packed schedule and continues to perform upwards of 250 times a year\, engaging and winning over audiences throughout the Mid-Atlantic region.
URL:https://loneoakbrewingco.com/event/live-music-freddie-long-3/
LOCATION:Lone Oak Brewery\, 5000 Olney Laytonsville Rd\, Olney\, MD\, 20832\, United States
CATEGORIES:Live Music
ATTACH;FMTTYPE=image/jpeg:https://loneoakbrewingco.com/wp-content/uploads/2024/02/Freddie-Long-piano.jpg
END:VEVENT
BEGIN:VEVENT
DTSTART;TZID=UTC:20241226T180000
DTEND;TZID=UTC:20241226T200000
DTSTAMP:20260424T110536
CREATED:20240103T202213Z
LAST-MODIFIED:20250122T091313Z
UID:4017-1735236000-1735243200@loneoakbrewingco.com
SUMMARY:TRIVIA
DESCRIPTION:Grab your thinking cap and test your knowledge with Pour House Trivia! Get a group together for prizes and $6 beer! All ages and levels are welcome.
URL:https://loneoakbrewingco.com/event/trivia-3-2024-12-26/
LOCATION:Lone Oak Brewery\, 5000 Olney Laytonsville Rd\, Olney\, MD\, 20832\, United States
CATEGORIES:Trivia
ATTACH;FMTTYPE=image/jpeg:https://loneoakbrewingco.com/wp-content/uploads/2023/08/pourhousetrivia-1.jpg
END:VEVENT
BEGIN:VEVENT
DTSTART;TZID=UTC:20241228T160000
DTEND;TZID=UTC:20241228T190000
DTSTAMP:20260424T110536
CREATED:20241004T030725Z
LAST-MODIFIED:20241004T030725Z
UID:4451-1735401600-1735412400@loneoakbrewingco.com
SUMMARY:LIVE MUSIC - BILL JONES
DESCRIPTION:A retired teacher\, Bill Jones\, plays acoustic guitar featuring songs of Jackson Browne\, James Taylor\, & Jimmy Buffet as well as other contemporary country artists. His songs incorporate drum beats and vocal harmonization that create a complete band performance. Bill has played guitar in the Maryland area for 40 years for social gatherings\, weddings\, private parties\, and local establishments.
URL:https://loneoakbrewingco.com/event/live-music-bill-jones-8/
LOCATION:Lone Oak Brewery\, 5000 Olney Laytonsville Rd\, Olney\, MD\, 20832\, United States
CATEGORIES:Live Music
ATTACH;FMTTYPE=image/jpeg:https://loneoakbrewingco.com/wp-content/uploads/2024/03/thumbnail_DSC_8645-scaled.jpg
END:VEVENT
END:VCALENDAR