BEGIN:VCALENDAR
VERSION:2.0
PRODID:-//Lone Oak Brewing Co. - ECPv6.15.20//NONSGML v1.0//EN
CALSCALE:GREGORIAN
METHOD:PUBLISH
X-WR-CALNAME:Lone Oak Brewing Co.
X-ORIGINAL-URL:https://loneoakbrewingco.com
X-WR-CALDESC:Events for Lone Oak Brewing Co.
REFRESH-INTERVAL;VALUE=DURATION:PT1H
X-Robots-Tag:noindex
X-PUBLISHED-TTL:PT1H
BEGIN:VTIMEZONE
TZID:UTC
BEGIN:STANDARD
TZOFFSETFROM:+0000
TZOFFSETTO:+0000
TZNAME:UTC
DTSTART:20240101T000000
END:STANDARD
END:VTIMEZONE
BEGIN:VEVENT
DTSTART;TZID=UTC:20250102T180000
DTEND;TZID=UTC:20250102T200000
DTSTAMP:20260424T124710
CREATED:20240103T202213Z
LAST-MODIFIED:20250122T091313Z
UID:4018-1735840800-1735848000@loneoakbrewingco.com
SUMMARY:TRIVIA
DESCRIPTION:Grab your thinking cap and test your knowledge with Pour House Trivia! Get a group together for prizes and $6 beer! All ages and levels are welcome.
URL:https://loneoakbrewingco.com/event/trivia-3-2025-01-02/
LOCATION:Lone Oak Brewery\, 5000 Olney Laytonsville Rd\, Olney\, MD\, 20832\, United States
CATEGORIES:Trivia
ATTACH;FMTTYPE=image/jpeg:https://loneoakbrewingco.com/wp-content/uploads/2023/08/pourhousetrivia-1.jpg
END:VEVENT
BEGIN:VEVENT
DTSTART;TZID=UTC:20250104T160000
DTEND;TZID=UTC:20250104T190000
DTSTAMP:20260424T124710
CREATED:20241216T023849Z
LAST-MODIFIED:20241216T023849Z
UID:4745-1736006400-1736017200@loneoakbrewingco.com
SUMMARY:Live Music - Emma Martin
DESCRIPTION:Emma is a pop-indie singer/songwriter from Frederick\, MD. She’s had to adjust to the city life while going to college at CU Denver in Colorado. She was a “random draw” in her family\, considering she is the only member who has aspired to be a performing artist. Her talent and ambition to be a musician blossomed at just the age of 5\, followed up by guitar\, piano\, and vocal lessons\, involvement in the musical community in her hometown\, and writing songs at the age of 9. Songwriting became a private practice\, a sacred space for her to cope throughout the years. Music has always simply been half of her. It consumes her everyday life and gets her past her lowest points. Her biggest musical inspirations are Taylor Swift\, Gracie Abrams and Lizzy McAlpine. She feels that she can\, and she will grow into the artist she has daydreamed of as a little girl.
URL:https://loneoakbrewingco.com/event/live-music-emma-martin/
LOCATION:Lone Oak Brewery\, 5000 Olney Laytonsville Rd\, Olney\, MD\, 20832\, United States
CATEGORIES:Live Music
ATTACH;FMTTYPE=image/jpeg:https://loneoakbrewingco.com/wp-content/uploads/2024/12/EmmaMartin.jpg
END:VEVENT
BEGIN:VEVENT
DTSTART;TZID=UTC:20250105T160000
DTEND;TZID=UTC:20250105T190000
DTSTAMP:20260424T124710
CREATED:20241216T024231Z
LAST-MODIFIED:20241216T024231Z
UID:4748-1736092800-1736103600@loneoakbrewingco.com
SUMMARY:Live Music - John DeCesare and Friends
DESCRIPTION:John grew up in Maryland and studied classical\, Spanish\, and flamenco guitar from a young age. Coming from a musical family\, he was exposed to a wide variety of music from a young age. Jazz\, classical\, folk\, Latin and other styles were always playing in the background. At the age of 13\, he picked up a guitar and never looked back. He enjoys playing a variety of music including rock\, folk\, pop\, country\, reggae\, and more. Some early influences on his guitar playing are Simon & Garfunkel\, The Beatles\, Neil Young\, Jack Johnson\, and Bob Marley. He enjoys playing and teaching many genres of guitar including Classical\, Spanish\, Flamenco\, Brazilian\, Folk\, Pop\, Rock\, and Reggae.
URL:https://loneoakbrewingco.com/event/live-music-john-decesare-and-friends/
LOCATION:Lone Oak Brewery\, 5000 Olney Laytonsville Rd\, Olney\, MD\, 20832\, United States
CATEGORIES:Live Music
ATTACH;FMTTYPE=image/jpeg:https://loneoakbrewingco.com/wp-content/uploads/2024/12/JohnDeCesare-scaled.jpg
END:VEVENT
BEGIN:VEVENT
DTSTART;TZID=UTC:20250109T180000
DTEND;TZID=UTC:20250109T200000
DTSTAMP:20260424T124710
CREATED:20240103T202213Z
LAST-MODIFIED:20250122T091314Z
UID:4019-1736445600-1736452800@loneoakbrewingco.com
SUMMARY:TRIVIA
DESCRIPTION:Grab your thinking cap and test your knowledge with Pour House Trivia! Get a group together for prizes and $6 beer! All ages and levels are welcome.
URL:https://loneoakbrewingco.com/event/trivia-3-2025-01-09/
LOCATION:Lone Oak Brewery\, 5000 Olney Laytonsville Rd\, Olney\, MD\, 20832\, United States
CATEGORIES:Trivia
ATTACH;FMTTYPE=image/jpeg:https://loneoakbrewingco.com/wp-content/uploads/2023/08/pourhousetrivia-1.jpg
END:VEVENT
BEGIN:VEVENT
DTSTART;TZID=UTC:20250111T160000
DTEND;TZID=UTC:20250111T190000
DTSTAMP:20260424T124710
CREATED:20241216T034131Z
LAST-MODIFIED:20241216T034131Z
UID:4751-1736611200-1736622000@loneoakbrewingco.com
SUMMARY:Live Music - Six String Chuck
DESCRIPTION:Chuck has been performing as a solo acoustic singer/songwriter part time all around the DC\Baltimore area since the early 90s. Having recently retired from the 9-5 world he is now focusing all his energies on his music – entertaining audiences of all ages with his passion and approachable style. His familiar yet eclectic mix of covers (from John Hiatt and John Prime to Jimmy Buffet\, Hank Jr.\, Chris Stapleton and somehow around to Pink Floyd and even George Michael and Bruce…)  includes standards and sing-alongs\, as well as more obscure selections that draw listeners in and set him apart from other performers. Think hidden gems\, deep cuts and almost forgotten favorites mixed in with the best of today’s hits! Chuck re-branded himself as SixStringChuck in 2024 and has a fledgling social media presence (sixstringchuck.com; instagram.com/sixstringchuck; Instagram: @sixstringchuck) and is now focusing his energies on the thriving Winery and Brewery scene in the D.C.\, Maryland and Virginia region. 
URL:https://loneoakbrewingco.com/event/live-music-six-string-chuck/
LOCATION:Lone Oak Brewery\, 5000 Olney Laytonsville Rd\, Olney\, MD\, 20832\, United States
CATEGORIES:Live Music
ATTACH;FMTTYPE=image/jpeg:https://loneoakbrewingco.com/wp-content/uploads/2024/12/SixStringChuck.jpeg
END:VEVENT
BEGIN:VEVENT
DTSTART;TZID=UTC:20250112T160000
DTEND;TZID=UTC:20250112T190000
DTSTAMP:20260424T124710
CREATED:20241223T031011Z
LAST-MODIFIED:20241223T031011Z
UID:4829-1736697600-1736708400@loneoakbrewingco.com
SUMMARY:Live Music - Three Shots to Lockout
DESCRIPTION:Three Shots to Lockout is an acoustic duo formed by Jay Spencer and Art Fox. Both of us have been playing together in local classic rock bands for over 12 years and still do today. We decided to form an acoustic duo to open up even more musical avenues. Our set list includes Allman Brothers\, Van Morrison\, Johnny Cash\, Eagles\, Tom Petty and so much more. Vocal harmonies are one of our strengths. Audience interaction is also very important to us. Being from the Montgomery County area\, we have many connections to the people we play for. We love the intimate vibe of the acoustic performance.
URL:https://loneoakbrewingco.com/event/live-music-three-shots-to-lockout/
LOCATION:Lone Oak Brewery\, 5000 Olney Laytonsville Rd\, Olney\, MD\, 20832\, United States
CATEGORIES:Live Music
ATTACH;FMTTYPE=image/jpeg:https://loneoakbrewingco.com/wp-content/uploads/2024/12/ThreeShotstoLockout.jpeg
END:VEVENT
BEGIN:VEVENT
DTSTART;TZID=UTC:20250116T180000
DTEND;TZID=UTC:20250116T200000
DTSTAMP:20260424T124710
CREATED:20240103T202213Z
LAST-MODIFIED:20250122T091315Z
UID:4020-1737050400-1737057600@loneoakbrewingco.com
SUMMARY:TRIVIA
DESCRIPTION:Grab your thinking cap and test your knowledge with Pour House Trivia! Get a group together for prizes and $6 beer! All ages and levels are welcome.
URL:https://loneoakbrewingco.com/event/trivia-3-2025-01-16/
LOCATION:Lone Oak Brewery\, 5000 Olney Laytonsville Rd\, Olney\, MD\, 20832\, United States
CATEGORIES:Trivia
ATTACH;FMTTYPE=image/jpeg:https://loneoakbrewingco.com/wp-content/uploads/2023/08/pourhousetrivia-1.jpg
END:VEVENT
BEGIN:VEVENT
DTSTART;TZID=UTC:20250118T160000
DTEND;TZID=UTC:20250118T190000
DTSTAMP:20260424T124710
CREATED:20241216T034753Z
LAST-MODIFIED:20241216T034753Z
UID:4754-1737216000-1737226800@loneoakbrewingco.com
SUMMARY:Live Music - Michelle Lockey
DESCRIPTION:Michelle is a singer-songwriter based in Montgomery County. She began songwriting many years ago but started performing only about 10 years ago. She has many songs in Film & TV and loves to write\, hoping to hear her songs in a show or film. She was influenced by Amy Grant\, Olivia Newton John\, Ingrid Michealson\, Eddie Vedder\, Evanescence\, and so many more. Her favorite song to play is Sweet Child O’ Mine. As a local\, she loves that there are so many options and a variety of things to do\, all within a reasonable driving distance. She also loves that you can be in the middle of nowhere in about that same amount of time. She loves that there is a community of local businesses and enjoys supporting them as well.  She was recently featured in the Agricultural Zone’s Plenty Magazine and believes Montgomery County is a great place to live.
URL:https://loneoakbrewingco.com/event/live-music-michelle-lockey-3/
LOCATION:Lone Oak Brewery\, 5000 Olney Laytonsville Rd\, Olney\, MD\, 20832\, United States
CATEGORIES:Live Music
ATTACH;FMTTYPE=image/jpeg:https://loneoakbrewingco.com/wp-content/uploads/2024/12/MichelleLockey-scaled.jpg
END:VEVENT
BEGIN:VEVENT
DTSTART;TZID=UTC:20250119T160000
DTEND;TZID=UTC:20250119T190000
DTSTAMP:20260424T124710
CREATED:20241222T032104Z
LAST-MODIFIED:20241222T032104Z
UID:4824-1737302400-1737313200@loneoakbrewingco.com
SUMMARY:Live Music - Daisy Meadows
DESCRIPTION:Daisy K. Meadows is an artist on the rise from Westminster\, MD. As a singer-songwriter\, Daisy draws her inspiration from country and Americana female artists\, one of her inspirations being Martina McBride. With a catalog of over 100 original songs\, her music is an emotional journey that tells her story. She is passionate about bringing her music to the world and helping others find their voice.  Daisy LOVES taking requests at live shows and playing what the audience wants to hear. She has over 800 songs in her repertoire to pull from\, but her favorite song is… all of them! It’s a running joke that “every song is her favorite song.” 
URL:https://loneoakbrewingco.com/event/live-music-daisy-meadows-2/
LOCATION:Lone Oak Brewery\, 5000 Olney Laytonsville Rd\, Olney\, MD\, 20832\, United States
CATEGORIES:Live Music
ATTACH;FMTTYPE=image/png:https://loneoakbrewingco.com/wp-content/uploads/2024/12/DaisyMeadows.png
END:VEVENT
BEGIN:VEVENT
DTSTART;TZID=UTC:20250123T180000
DTEND;TZID=UTC:20250123T200000
DTSTAMP:20260424T124710
CREATED:20240103T202213Z
LAST-MODIFIED:20250122T091315Z
UID:4021-1737655200-1737662400@loneoakbrewingco.com
SUMMARY:TRIVIA
DESCRIPTION:Grab your thinking cap and test your knowledge with Pour House Trivia! Get a group together for prizes and $6 beer! All ages and levels are welcome.
URL:https://loneoakbrewingco.com/event/trivia-3-2025-01-23/
LOCATION:Lone Oak Brewery\, 5000 Olney Laytonsville Rd\, Olney\, MD\, 20832\, United States
CATEGORIES:Trivia
ATTACH;FMTTYPE=image/jpeg:https://loneoakbrewingco.com/wp-content/uploads/2023/08/pourhousetrivia-1.jpg
END:VEVENT
BEGIN:VEVENT
DTSTART;TZID=UTC:20250125T160000
DTEND;TZID=UTC:20250125T190000
DTSTAMP:20260424T124710
CREATED:20241216T060423Z
LAST-MODIFIED:20250125T200620Z
UID:4817-1737820800-1737831600@loneoakbrewingco.com
SUMMARY:Live Music - Take Two
DESCRIPTION:Vince and Chris grew up in Silver Spring and played in a Classic Rock band in our college years\, including Top 40 plus the Allman Brothers\, Yes and Emerson Lake and Palmer among others. We later played in a Soul Band which covered songs by Chicago\, Tower of Power and Blood Sweat and Tears.\nWe’ve played together as Take Two for twelve years and really enjoy the musical challenges of performing as a duo. We enjoy playing in familiar and new venues as part of this diverse local music community and getting to know the people we play for.
URL:https://loneoakbrewingco.com/event/live-music-take-two/
LOCATION:Lone Oak Brewery\, 5000 Olney Laytonsville Rd\, Olney\, MD\, 20832\, United States
CATEGORIES:Live Music
ATTACH;FMTTYPE=image/jpeg:https://loneoakbrewingco.com/wp-content/uploads/2024/12/TakeTwo-scaled.jpg
END:VEVENT
BEGIN:VEVENT
DTSTART;TZID=UTC:20250126T120000
DTEND;TZID=UTC:20250126T150000
DTSTAMP:20260424T124710
CREATED:20241216T040252Z
LAST-MODIFIED:20250126T011908Z
UID:4757-1737892800-1737903600@loneoakbrewingco.com
SUMMARY:Live Music - Eric Zatz
DESCRIPTION:Eric grew up in New Jersey listening to 90s music and started playing guitar over 20 years ago. In 2012\, he moved to Maryland and has been performing at the amazing local breweries\, wineries\, bars\, and restaurants around the DMV ever since. In addition to his love of the 90s\, he also plays a wide variety of all your favorite classic rock\, 80s\, top 40\, and country tunes. Eric is a big fan of the local DMV music scene and also enjoys collaborating with and learning new styles from other musicians in his free time. When he’s not performing as a solo acoustic artist\, he also rocks out as the guitarist and lead vocalist in the band Broken Ground.
URL:https://loneoakbrewingco.com/event/live-music-eric-zatz/
LOCATION:Lone Oak Brewery\, 5000 Olney Laytonsville Rd\, Olney\, MD\, 20832\, United States
CATEGORIES:Live Music
ATTACH;FMTTYPE=image/jpeg:https://loneoakbrewingco.com/wp-content/uploads/2024/12/EricZatz-scaled.jpg
END:VEVENT
BEGIN:VEVENT
DTSTART;TZID=UTC:20250130T180000
DTEND;TZID=UTC:20250130T200000
DTSTAMP:20260424T124710
CREATED:20240103T202213Z
LAST-MODIFIED:20250122T091315Z
UID:4022-1738260000-1738267200@loneoakbrewingco.com
SUMMARY:TRIVIA
DESCRIPTION:Grab your thinking cap and test your knowledge with Pour House Trivia! Get a group together for prizes and $6 beer! All ages and levels are welcome.
URL:https://loneoakbrewingco.com/event/trivia-3-2025-01-30/
LOCATION:Lone Oak Brewery\, 5000 Olney Laytonsville Rd\, Olney\, MD\, 20832\, United States
CATEGORIES:Trivia
ATTACH;FMTTYPE=image/jpeg:https://loneoakbrewingco.com/wp-content/uploads/2023/08/pourhousetrivia-1.jpg
END:VEVENT
END:VCALENDAR