BEGIN:VCALENDAR
VERSION:2.0
PRODID:-//Lone Oak Brewing Co. - ECPv6.15.20//NONSGML v1.0//EN
CALSCALE:GREGORIAN
METHOD:PUBLISH
X-ORIGINAL-URL:https://loneoakbrewingco.com
X-WR-CALDESC:Events for Lone Oak Brewing Co.
REFRESH-INTERVAL;VALUE=DURATION:PT1H
X-Robots-Tag:noindex
X-PUBLISHED-TTL:PT1H
BEGIN:VTIMEZONE
TZID:UTC
BEGIN:STANDARD
TZOFFSETFROM:+0000
TZOFFSETTO:+0000
TZNAME:UTC
DTSTART:20240101T000000
END:STANDARD
END:VTIMEZONE
BEGIN:VEVENT
DTSTART;TZID=UTC:20250201T160000
DTEND;TZID=UTC:20250201T190000
DTSTAMP:20260424T143637
CREATED:20241216T040547Z
LAST-MODIFIED:20241216T040547Z
UID:4760-1738425600-1738436400@loneoakbrewingco.com
SUMMARY:Live Music - Briana Merkel
DESCRIPTION:Briana Merkel is a singer songwriter born and raised in the mountains of Cumberland\, Maryland. She grew up listening to the pop and rock music her parents enjoyed and discovered grunge and alternative rock in her early teens\, which inspired her to pick up a guitar. Later on\, she came to develop a love for bluegrass\, and all those elements would blend together creating her own unique acoustic style.
URL:https://loneoakbrewingco.com/event/live-music-briana-merkel/
LOCATION:Lone Oak Brewery\, 5000 Olney Laytonsville Rd\, Olney\, MD\, 20832\, United States
CATEGORIES:Live Music
ATTACH;FMTTYPE=image/jpeg:https://loneoakbrewingco.com/wp-content/uploads/2024/12/BrianaMerkel.jpeg
END:VEVENT
BEGIN:VEVENT
DTSTART;TZID=UTC:20250202T160000
DTEND;TZID=UTC:20250202T190000
DTSTAMP:20260424T143637
CREATED:20241216T041541Z
LAST-MODIFIED:20241216T041541Z
UID:4763-1738512000-1738522800@loneoakbrewingco.com
SUMMARY:Live Music - Lauren & Paul
DESCRIPTION:Paul’s day job is an airline pilot and about 15 or years ago\, he flew to London with another pilot who brought a guitar. The other pilot said he was sitting in with a pub band later that night on their layover. As soon as he got back from that trip\, he bought a guitar\, started taking lessons\, and the rest is history. For the last three years he has been a part of a local band called TrainWreck. Since then\, he’s gained the confidence to perform as a soloist and as a part of duos and trios. His musical roots are Classic Rock\, Country and Blues but playing with other musicians has expanded his interest into other genres.\n\nLauren is a Singer-Songwriter born and raised in Frederick\, MD\, and was 10 years old when her mom taught her how to play her first guitar chords. She wrote her first song at age 11 for a sixth-grade book report and grew up in concert and marching bands throughout grade school\, playing Alto Saxaphone\, Marimba\, Xylophone\, and other various percussion instruments. She was also active on worship teams as a singer from youth through adulthood. Her guitar playing grew during COVID when two friends asked her if she could show them a few things. After 2 years of weekly get togethers\, Lauren started performing at open mics in late 2022 and has been blessed to be a part of the gig scene ever since. She plays a variety of covers and classic hits and enjoys writing songs with musical influence inspired by folk\, americana\, and as of late blues and jazz.\n\nLauren and Paul have been a duo for over two years playing mostly Maryland and a bit in Virginia.  They also have their own solo routines and play in different bands.  They share a love of acoustic classic rock\, country\, folk\, pop\, and ‘90’s.  Something for everyone!
URL:https://loneoakbrewingco.com/event/live-music-lauren-paul/
LOCATION:Lone Oak Brewery\, 5000 Olney Laytonsville Rd\, Olney\, MD\, 20832\, United States
CATEGORIES:Live Music
ATTACH;FMTTYPE=image/jpeg:https://loneoakbrewingco.com/wp-content/uploads/2024/12/PaulandLauren.jpeg
END:VEVENT
BEGIN:VEVENT
DTSTART;TZID=UTC:20250206T180000
DTEND;TZID=UTC:20250206T200000
DTSTAMP:20260424T143637
CREATED:20240103T202213Z
LAST-MODIFIED:20250122T091315Z
UID:4023-1738864800-1738872000@loneoakbrewingco.com
SUMMARY:TRIVIA
DESCRIPTION:Grab your thinking cap and test your knowledge with Pour House Trivia! Get a group together for prizes and $6 beer! All ages and levels are welcome.
URL:https://loneoakbrewingco.com/event/trivia-3-2025-02-06/
LOCATION:Lone Oak Brewery\, 5000 Olney Laytonsville Rd\, Olney\, MD\, 20832\, United States
CATEGORIES:Trivia
ATTACH;FMTTYPE=image/jpeg:https://loneoakbrewingco.com/wp-content/uploads/2023/08/pourhousetrivia-1.jpg
END:VEVENT
BEGIN:VEVENT
DTSTART;TZID=UTC:20250208T160000
DTEND;TZID=UTC:20250208T190000
DTSTAMP:20260424T143637
CREATED:20241216T041647Z
LAST-MODIFIED:20241216T041647Z
UID:4766-1739030400-1739041200@loneoakbrewingco.com
SUMMARY:Live Music - Empty Ecstasy
DESCRIPTION:We’re Empty Ecstasy – Shawna and Mike Taylor – a husband-and-wife acoustic duo with uniquely crafted song arrangements and harmonies and a well-polished repertoire of classic rock\, pop and country covers.
URL:https://loneoakbrewingco.com/event/live-music-empty-ecstasy-4/
LOCATION:Lone Oak Brewery\, 5000 Olney Laytonsville Rd\, Olney\, MD\, 20832\, United States
CATEGORIES:Live Music
ATTACH;FMTTYPE=image/png:https://loneoakbrewingco.com/wp-content/uploads/2024/12/EmptyEcstasy.png
END:VEVENT
BEGIN:VEVENT
DTSTART;TZID=UTC:20250209T160000
DTEND;TZID=UTC:20250209T190000
DTSTAMP:20260424T143637
CREATED:20241216T041850Z
LAST-MODIFIED:20241216T041850Z
UID:4769-1739116800-1739127600@loneoakbrewingco.com
SUMMARY:Live Music - Dan Bregman
DESCRIPTION:40 years ago\, Dan Bregman taught himself to play guitar. He grew up in the Chicago area where he played various events and venues until moving to Sao Paulo\, Brazil with his family.  Since returning to the U.S. and settling in Howard County in 2012\, he’s loved re-engaging with the local music scene. His taste spans rock and roll to folk\, showing a versatile appreciation for music. The artists he covers\, such as Paul Simon\, Jason Isbell\, Jim Croce\, Harry Chapin\, The Band and John Prine\, are known for their storytelling and emotional depth\, emphasizing his affinity for lyrical content and performance that resonates with audiences. \n 
URL:https://loneoakbrewingco.com/event/live-music-dan-bregman/
LOCATION:Lone Oak Brewery\, 5000 Olney Laytonsville Rd\, Olney\, MD\, 20832\, United States
CATEGORIES:Live Music
ATTACH;FMTTYPE=image/jpeg:https://loneoakbrewingco.com/wp-content/uploads/2024/12/DanBregman.jpeg
END:VEVENT
BEGIN:VEVENT
DTSTART;TZID=UTC:20250213T180000
DTEND;TZID=UTC:20250213T200000
DTSTAMP:20260424T143637
CREATED:20240103T202213Z
LAST-MODIFIED:20250122T091315Z
UID:4024-1739469600-1739476800@loneoakbrewingco.com
SUMMARY:TRIVIA
DESCRIPTION:Grab your thinking cap and test your knowledge with Pour House Trivia! Get a group together for prizes and $6 beer! All ages and levels are welcome.
URL:https://loneoakbrewingco.com/event/trivia-3-2025-02-13/
LOCATION:Lone Oak Brewery\, 5000 Olney Laytonsville Rd\, Olney\, MD\, 20832\, United States
CATEGORIES:Trivia
ATTACH;FMTTYPE=image/jpeg:https://loneoakbrewingco.com/wp-content/uploads/2023/08/pourhousetrivia-1.jpg
END:VEVENT
BEGIN:VEVENT
DTSTART;TZID=UTC:20250215T160000
DTEND;TZID=UTC:20250215T190000
DTSTAMP:20260424T143637
CREATED:20241216T042505Z
LAST-MODIFIED:20241216T042505Z
UID:4772-1739635200-1739646000@loneoakbrewingco.com
SUMMARY:Live Music - MR VCR
DESCRIPTION:MR VCR has been a staple of the Annapolis bar scene for many years. Known for their dynamic\nand energetic shows as a full band\, MR VCR has been making waves in the tri-state area in\nsupport of their newly released debut album. Soren Mattson and Tucker Hinkel’s duo\nperformance is a stripped-down version of the live show. Self-described collage rockers\, Soren\nand Tucker pride themselves on providing engaging original music and eclectic and\nunconventional cover songs. Never performing the same show twice\, MR VCR values taking\nrisks over the monotony of sameness most bar bands fall prey to. Their influences are varied\nand numerous\, but some worthy mentions include David Bowie\, Little Feat\, They Might Be\nGiants\, Paul Simon\, Black Sabbath\, Warren Zevon\, Presidents of the United States of America\,\nand Prince\, among others. Their original music can be heard on WTMD\, Towson MD’s premier\nmusic radio station\, and on all major streaming platforms.
URL:https://loneoakbrewingco.com/event/live-music-mr-vcr/
LOCATION:Lone Oak Brewery\, 5000 Olney Laytonsville Rd\, Olney\, MD\, 20832\, United States
CATEGORIES:Live Music
ATTACH;FMTTYPE=image/jpeg:https://loneoakbrewingco.com/wp-content/uploads/2024/12/MR-VCR-Duo-3-scaled.jpg
END:VEVENT
BEGIN:VEVENT
DTSTART;TZID=UTC:20250216T160000
DTEND;TZID=UTC:20250216T190000
DTSTAMP:20260424T143637
CREATED:20241216T053516Z
LAST-MODIFIED:20250125T204953Z
UID:4799-1739721600-1739732400@loneoakbrewingco.com
SUMMARY:Live Music - Robert Romans
DESCRIPTION:Rob Romans is a singer/songwriter from Destin\, Florida who has recently moved to Rockville.\nLong before he began performing at Florida beach bars\, he dragged his guitar on every deployment during his 21-year career in the US Army.\nA street corner musician at heart\, Rob has busked from Waikiki\, the subways of NYC\, all over Key West\, and even in front of Mozart’s home in Salzburg\, Austria!\nGrab a seat near the bar because he’ll be the first to tell you that the more you drink\, the better he sounds!
URL:https://loneoakbrewingco.com/event/live-music-robert-romans/
LOCATION:Lone Oak Brewery\, 5000 Olney Laytonsville Rd\, Olney\, MD\, 20832\, United States
CATEGORIES:Live Music
ATTACH;FMTTYPE=image/jpeg:https://loneoakbrewingco.com/wp-content/uploads/2024/12/RobertRomans.jpeg
END:VEVENT
BEGIN:VEVENT
DTSTART;TZID=UTC:20250220T180000
DTEND;TZID=UTC:20250220T200000
DTSTAMP:20260424T143637
CREATED:20240103T202213Z
LAST-MODIFIED:20250122T091315Z
UID:4025-1740074400-1740081600@loneoakbrewingco.com
SUMMARY:TRIVIA
DESCRIPTION:Grab your thinking cap and test your knowledge with Pour House Trivia! Get a group together for prizes and $6 beer! All ages and levels are welcome.
URL:https://loneoakbrewingco.com/event/trivia-3-2025-02-20/
LOCATION:Lone Oak Brewery\, 5000 Olney Laytonsville Rd\, Olney\, MD\, 20832\, United States
CATEGORIES:Trivia
ATTACH;FMTTYPE=image/jpeg:https://loneoakbrewingco.com/wp-content/uploads/2023/08/pourhousetrivia-1.jpg
END:VEVENT
BEGIN:VEVENT
DTSTART;TZID=UTC:20250222T160000
DTEND;TZID=UTC:20250222T190000
DTSTAMP:20260424T143637
CREATED:20241216T042753Z
LAST-MODIFIED:20241216T042826Z
UID:4778-1740240000-1740250800@loneoakbrewingco.com
SUMMARY:Live Music - Deb and Gary
DESCRIPTION:Gary Maragos grew up in Maryland\, and while he hasn’t lived in Olney since he was a kid\, he remains loyal to the burgundy and gold.  His love for music started with The Beatles and The Kinks\, and he counts Squeeze\, Elvis Costello\, Jellyfish\, and Matthew Sweet among influences on his original music recorded by his band Rocket Transfer Warehouse.  Deb Sward grew up on classic rock and grunge music. One of her earliest inspirations to pick up guitar was Nancy Wilson of Heart.   \nDeb and Gary met at work and first performed music together in 2011 at an office holiday party. Soon after\, they began playing at a variety of venues –including wineries\, cafes\, private parties\, clubs\, and bars — and eventually struck upon the name “Deb and Gary” for their new alliance. The duo is known for textured vocal harmonies and complementary guitar playing styles\, and audiences have appreciated their unique set lists and musical arrangements. Deb and Gary’s favorite songs to play are ones such as Pink Floyd’s “Brain Damage/Eclipse” that might surprise the audience with something not usually played by an acoustic duo.
URL:https://loneoakbrewingco.com/event/live-deb-and-gary/
LOCATION:Lone Oak Brewery\, 5000 Olney Laytonsville Rd\, Olney\, MD\, 20832\, United States
CATEGORIES:Live Music
ATTACH;FMTTYPE=image/jpeg:https://loneoakbrewingco.com/wp-content/uploads/2024/12/DebAndGary.jpeg
END:VEVENT
BEGIN:VEVENT
DTSTART;TZID=UTC:20250223T160000
DTEND;TZID=UTC:20250223T190000
DTSTAMP:20260424T143637
CREATED:20241216T043106Z
LAST-MODIFIED:20241216T043106Z
UID:4783-1740326400-1740337200@loneoakbrewingco.com
SUMMARY:Live Music - Emily Simonian
DESCRIPTION:Emily Simonian is an acoustic pop singer-songwriter\, published author\, and musical theatre composer\, lyricist\, and librettist. Raised on a steady diet of 90’s pop\, Beatles\, Disney movies and classic musicals\, she earned a merit-based scholarship to study at Berklee College of Music\, and finished her degree at Musicians Institute in Los Angeles\, earning a B.F.A. in Contemporary Music. Her vocal style and music have been compared to Sara Barielles with a touch of Amy Winehouse. Emily has penned two acoustic pop EPs\, her compositions have been selected for the Musical Theatre Educator Alliance’s Catalog for New Works\, and as a vocalist of Armenian descent\, Simonian is a recipient of the Cultural Achievement Award with the state of California. Simonian has also been honored with multiple grants and visionary sponsorships from benefactors who believe in her artistic vision\, supporting her latest musical theatre project\, When Two of Us Meet\, which early reviewers in the theatre community have hailed as ‘a Broadway-worthy stage musical.’ When she isn’t writing or performing\, Emily and her husband\, Jake\, maintain strong ties to Simonian’s home state of California\, frequently spending time there with family and friends.
URL:https://loneoakbrewingco.com/event/live-music-emily-simonian/
LOCATION:Lone Oak Brewery\, 5000 Olney Laytonsville Rd\, Olney\, MD\, 20832\, United States
CATEGORIES:Live Music
ATTACH;FMTTYPE=image/jpeg:https://loneoakbrewingco.com/wp-content/uploads/2024/12/EmilySimonian.jpeg
END:VEVENT
BEGIN:VEVENT
DTSTART;TZID=UTC:20250227T180000
DTEND;TZID=UTC:20250227T200000
DTSTAMP:20260424T143637
CREATED:20240103T202213Z
LAST-MODIFIED:20250122T091315Z
UID:4026-1740679200-1740686400@loneoakbrewingco.com
SUMMARY:TRIVIA
DESCRIPTION:Grab your thinking cap and test your knowledge with Pour House Trivia! Get a group together for prizes and $6 beer! All ages and levels are welcome.
URL:https://loneoakbrewingco.com/event/trivia-3-2025-02-27/
LOCATION:Lone Oak Brewery\, 5000 Olney Laytonsville Rd\, Olney\, MD\, 20832\, United States
CATEGORIES:Trivia
ATTACH;FMTTYPE=image/jpeg:https://loneoakbrewingco.com/wp-content/uploads/2023/08/pourhousetrivia-1.jpg
END:VEVENT
END:VCALENDAR